{"text_format":"1","workbook":"xlsx","n_sheets":5,"sheets":["Sommaire bordereau versement","Bordereau versement A","Bordereau versement B","Bordereau versement C","Bordereau versement D"],"not_rendered":{"charts":0,"images":1,"macros":1,"external_links":0,"defined_names":5,"comments":0,"pivot_tables":0},"unopened":[],"bounds":{"document_bytes":16777216,"sheet_cells":100000,"rows_first":2000,"rows_last":500,"rows_between":2000,"halvings":0,"cell_chars":16384,"cell_head_chars":4096},"cells_cut":0,"cells_raw":0,"read":"whole","date_system":"1900"}

{"sheet":"Sommaire bordereau versement","index":0,"n_rows":1028,"n_cols":14,"rows_kept":1028,"cut":false,"hidden":false,"merged":[[0,12,0,13],[263,0,263,13],[518,0,518,11],[773,0,773,10],[1019,0,1019,3],[1020,0,1020,3],[1021,0,1021,3],[1022,0,1022,3],[1023,0,1023,3],[1024,0,1024,3],[1025,0,1025,7],[1027,0,1027,4],[1027,5,1027,6],[1010,0,1010,3],[1011,0,1011,3],[1012,0,1012,3],[1013,0,1013,3],[1014,0,1014,3],[1015,0,1015,3],[1016,0,1016,3],[1017,0,1017,3],[1018,0,1018,3],[1014,5,1014,6],[1015,5,1015,6],[1016,5,1016,6],[1017,5,1017,6],[1018,5,1018,6],[1019,5,1019,6],[1020,5,1020,6],[1021,5,1021,6],[1022,5,1022,6],[1023,5,1023,6],[1024,5,1024,6],[1001,0,1001,3],[1002,0,1002,3],[1003,0,1003,3],[1004,0,1004,3],[1005,0,1005,3],[1006,0,1006,3],[1007,0,1007,3],[1008,0,1008,3],[1009,0,1009,3],[992,0,992,3],[993,0,993,3],[994,0,994,3],[995,0,995,3],[996,0,996,3],[997,0,997,3],[998,0,998,3],[999,0,999,3],[1000,0,1000,3],[1003,5,1003,6],[1004,5,1004,6],[1005,5,1005,6],[1006,5,1006,6],[1007,5,1007,6],[1008,5,1008,6],[1009,5,1009,6],[1010,5,1010,6],[1011,5,1011,6],[1012,5,1012,6],[1013,5,1013,6],[983,0,983,3],[984,0,984,3],[985,0,985,3],[986,0,986,3],[987,0,987,3],[988,0,988,3],[989,0,989,3],[990,0,990,3],[991,0,991,3],[974,0,974,3],[975,0,975,3],[976,0,976,3],[977,0,977,3],[978,0,978,3],[979,0,979,3],[980,0,980,3],[981,0,981,3],[982,0,982,3],[965,0,965,3],[966,0,966,3],[967,0,967,3],[968,0,968,3],[969,0,969,3],[970,0,970,3],[971,0,971,3],[972,0,972,3],[973,0,973,3],[956,0,956,3],[957,0,957,3],[958,0,958,3],[959,0,959,3],[960,0,960,3],[961,0,961,3],[962,0,962,3],[963,0,963,3],[964,0,964,3],[947,0,947,3],[948,0,948,3],[949,0,949,3],[950,0,950,3],[951,0,951,3],[952,0,952,3],[953,0,953,3],[954,0,954,3],[955,0,955,3],[938,0,938,3],[939,0,939,3],[940,0,940,3],[941,0,941,3],[942,0,942,3],[943,0,943,3],[944,0,944,3],[945,0,945,3],[946,0,946,3],[929,0,929,3],[930,0,930,3],[931,0,931,3],[932,0,932,3],[933,0,933,3],[934,0,934,3],[935,0,935,3],[936,0,936,3],[937,0,937,3],[920,0,920,3],[921,0,921,3],[922,0,922,3],[923,0,923,3],[924,0,924,3],[925,0,925,3],[926,0,926,3],[927,0,927,3],[928,0,928,3],[911,0,911,3],[912,0,912,3],[913,0,913,3],[914,0,914,3],[915,0,915,3],[916,0,916,3],[917,0,917,3],[918,0,918,3],[919,0,919,3],[902,0,902,3],[903,0,903,3],[904,0,904,3],[905,0,905,3],[906,0,906,3],[907,0,907,3],[908,0,908,3],[909,0,909,3],[910,0,910,3],[893,0,893,3],[894,0,894,3],[895,0,895,3],[896,0,896,3],[897,0,897,3],[898,0,898,3],[899,0,899,3],[900,0,900,3],[901,0,901,3],[884,0,884,3],[885,0,885,3],[886,0,886,3],[887,0,887,3],[888,0,888,3],[889,0,889,3],[890,0,890,3],[891,0,891,3],[892,0,892,3],[875,0,875,3],[876,0,876,3],[877,0,877,3],[878,0,878,3],[879,0,879,3],[880,0,880,3],[881,0,881,3],[882,0,882,3],[883,0,883,3],[866,0,866,3],[867,0,867,3],[868,0,868,3],[869,0,869,3],[870,0,870,3],[871,0,871,3],[872,0,872,3],[873,0,873,3],[874,0,874,3],[857,0,857,3],[858,0,858,3],[859,0,859,3],[860,0,860,3],[861,0,861,3],[862,0,862,3],[863,0,863,3],[864,0,864,3],[865,0,865,3],[848,0,848,3],[849,0,849,3],[850,0,850,3],[851,0,851,3],[852,0,852,3],[853,0,853,3],[854,0,854,3],[855,0,855,3],[856,0,856,3],[839,0,839,3],[840,0,840,3],[841,0,841,3],[842,0,842,3],[843,0,843,3],[844,0,844,3],[845,0,845,3],[846,0,846,3],[847,0,847,3],[830,0,830,3],[831,0,831,3],[832,0,832,3],[833,0,833,3],[834,0,834,3],[835,0,835,3],[836,0,836,3],[837,0,837,3],[838,0,838,3],[821,0,821,3],[822,0,822,3],[823,0,823,3],[824,0,824,3],[825,0,825,3],[826,0,826,3],[827,0,827,3],[828,0,828,3],[829,0,829,3],[812,0,812,3],[813,0,813,3],[814,0,814,3],[815,0,815,3],[816,0,816,3],[817,0,817,3],[818,0,818,3],[819,0,819,3],[820,0,820,3],[803,0,803,3],[804,0,804,3],[805,0,805,3],[806,0,806,3],[807,0,807,3],[808,0,808,3],[809,0,809,3],[810,0,810,3],[811,0,811,3],[794,0,794,3],[795,0,795,3],[796,0,796,3],[797,0,797,3],[798,0,798,3],[799,0,799,3],[800,0,800,3],[801,0,801,3],[802,0,802,3],[785,0,785,3],[786,0,786,3],[787,0,787,3],[788,0,788,3],[789,0,789,3],[790,0,790,3],[791,0,791,3],[792,0,792,3],[793,0,793,3],[776,0,776,3],[777,0,777,3],[778,0,778,3],[779,0,779,3],[780,0,780,3],[781,0,781,3],[782,0,782,3],[783,0,783,3],[784,0,784,3],[767,0,767,3],[768,0,768,3],[769,0,769,3],[770,0,770,8],[774,0,774,3],[774,5,774,6],[775,0,775,3],[775,5,775,6],[758,0,758,3],[759,0,759,3],[760,0,760,3],[761,0,761,3],[762,0,762,3],[763,0,763,3],[764,0,764,3],[765,0,765,3],[766,0,766,3],[759,5,759,6],[760,5,760,6],[761,5,761,6],[762,5,762,6],[763,5,763,6],[764,5,764,6],[765,5,765,6],[766,5,766,6],[767,5,767,6],[768,5,768,6],[769,5,769,6],[749,0,749,3],[750,0,750,3],[751,0,751,3],[752,0,752,3],[753,0,753,3],[754,0,754,3],[755,0,755,3],[756,0,756,3],[757,0,757,3],[740,0,740,3],[741,0,741,3],[742,0,742,3],[743,0,743,3],[744,0,744,3],[745,0,745,3],[746,0,746,3],[747,0,747,3],[748,0,748,3],[731,0,731,3],[732,0,732,3],[733,0,733,3],[734,0,734,3],[735,0,735,3],[736,0,736,3],[737,0,737,3],[738,0,738,3],[739,0,739,3],[722,0,722,3],[723,0,723,3],[724,0,724,3],[725,0,725,3],[726,0,726,3],[727,0,727,3],[728,0,728,3],[729,0,729,3],[730,0,730,3],[713,0,713,3],[714,0,714,3],[715,0,715,3],[716,0,716,3],[717,0,717,3],[718,0,718,3],[719,0,719,3],[720,0,720,3],[721,0,721,3],[704,0,704,3],[705,0,705,3],[706,0,706,3],[707,0,707,3],[708,0,708,3],[709,0,709,3],[710,0,710,3],[711,0,711,3],[712,0,712,3],[695,0,695,3],[696,0,696,3],[697,0,697,3],[698,0,698,3],[699,0,699,3],[700,0,700,3],[701,0,701,3],[702,0,702,3],[703,0,703,3],[686,0,686,3],[687,0,687,3],[688,0,688,3],[689,0,689,3],[690,0,690,3],[691,0,691,3],[692,0,692,3],[693,0,693,3],[694,0,694,3],[677,0,677,3],[678,0,678,3],[679,0,679,3],[680,0,680,3],[681,0,681,3],[682,0,682,3],[683,0,683,3],[684,0,684,3],[685,0,685,3],[668,0,668,3],[669,0,669,3],[670,0,670,3],[671,0,671,3],[672,0,672,3],[673,0,673,3],[674,0,674,3],[675,0,675,3],[676,0,676,3],[659,0,659,3],[660,0,660,3],[661,0,661,3],[662,0,662,3],[663,0,663,3],[664,0,664,3],[665,0,665,3],[666,0,666,3],[667,0,667,3],[650,0,650,3],[651,0,651,3],[652,0,652,3],[653,0,653,3],[654,0,654,3],[655,0,655,3],[656,0,656,3],[657,0,657,3],[658,0,658,3],[641,0,641,3],[642,0,642,3],[643,0,643,3],[644,0,644,3],[645,0,645,3],[646,0,646,3],[647,0,647,3],[648,0,648,3],[649,0,649,3],[632,0,632,3],[633,0,633,3],[634,0,634,3],[635,0,635,3],[636,0,636,3],[637,0,637,3],[638,0,638,3],[639,0,639,3],[640,0,640,3],[623,0,623,3],[624,0,624,3],[625,0,625,3],[626,0,626,3],[627,0,627,3],[628,0,628,3],[629,0,629,3],[630,0,630,3],[631,0,631,3],[614,0,614,3],[615,0,615,3],[616,0,616,3],[617,0,617,3],[618,0,618,3],[619,0,619,3],[620,0,620,3],[621,0,621,3],[622,0,622,3],[605,0,605,3],[606,0,606,3],[607,0,607,3],[608,0,608,3],[609,0,609,3],[610,0,610,3],[611,0,611,3],[612,0,612,3],[613,0,613,3],[596,0,596,3],[597,0,597,3],[598,0,598,3],[599,0,599,3],[600,0,600,3],[601,0,601,3],[602,0,602,3],[603,0,603,3],[604,0,604,3],[587,0,587,3],[588,0,588,3],[589,0,589,3],[590,0,590,3],[591,0,591,3],[592,0,592,3],[593,0,593,3],[594,0,594,3],[595,0,595,3],[578,0,578,3],[579,0,579,3],[580,0,580,3],[581,0,581,3],[582,0,582,3],[583,0,583,3],[584,0,584,3],[585,0,585,3],[586,0,586,3],[569,0,569,3],[570,0,570,3],[571,0,571,3],[572,0,572,3],[573,0,573,3],[574,0,574,3],[575,0,575,3],[576,0,576,3],[577,0,577,3],[560,0,560,3],[561,0,561,3],[562,0,562,3],[563,0,563,3],[564,0,564,3],[565,0,565,3],[566,0,566,3],[567,0,567,3],[568,0,568,3],[551,0,551,3],[552,0,552,3],[553,0,553,3],[554,0,554,3],[555,0,555,3],[556,0,556,3],[557,0,557,3],[558,0,558,3],[559,0,559,3],[542,0,542,3],[543,0,543,3],[544,0,544,3],[545,0,545,3],[546,0,546,3],[547,0,547,3],[548,0,548,3],[549,0,549,3],[550,0,550,3],[515,0,515,8],[538,0,538,3],[539,0,539,3],[540,0,540,3],[541,0,541,3],[534,0,534,3],[535,0,535,3],[536,0,536,3],[537,0,537,3],[529,0,529,3],[530,0,530,3],[531,0,531,3],[532,0,532,3],[533,0,533,3],[524,0,524,3],[525,0,525,3],[526,0,526,3],[527,0,527,3],[528,0,528,3],[519,0,519,3],[519,5,519,6],[520,0,520,3],[520,5,520,6],[521,0,521,3],[522,0,522,3],[523,0,523,3],[521,5,521,6],[522,5,522,6],[523,5,523,6],[524,5,524,6],[525,5,525,6],[526,5,526,6],[514,0,514,3],[514,5,514,6],[509,0,509,3],[509,5,509,6],[510,0,510,3],[510,5,510,6],[511,0,511,3],[511,5,511,6],[512,0,512,3],[512,5,512,6],[513,0,513,3],[513,5,513,6],[504,0,504,3],[504,5,504,6],[505,0,505,3],[505,5,505,6],[506,0,506,3],[506,5,506,6],[507,0,507,3],[507,5,507,6],[508,0,508,3],[508,5,508,6],[499,0,499,3],[499,5,499,6],[500,0,500,3],[500,5,500,6],[501,0,501,3],[501,5,501,6],[502,0,502,3],[502,5,502,6],[503,0,503,3],[503,5,503,6],[494,0,494,3],[494,5,494,6],[495,0,495,3],[495,5,495,6],[496,0,496,3],[496,5,496,6],[497,0,497,3],[497,5,497,6],[498,0,498,3],[498,5,498,6],[489,0,489,3],[489,5,489,6],[490,0,490,3],[490,5,490,6],[491,0,491,3],[491,5,491,6],[492,0,492,3],[492,5,492,6],[493,0,493,3],[493,5,493,6],[484,0,484,3],[484,5,484,6],[485,0,485,3],[485,5,485,6],[486,0,486,3],[486,5,486,6],[487,0,487,3],[487,5,487,6],[488,0,488,3],[488,5,488,6],[479,0,479,3],[479,5,479,6],[480,0,480,3],[480,5,480,6],[481,0,481,3],[481,5,481,6],[482,0,482,3],[482,5,482,6],[483,0,483,3],[483,5,483,6],[474,0,474,3],[474,5,474,6],[475,0,475,3],[475,5,475,6],[476,0,476,3],[476,5,476,6],[477,0,477,3],[477,5,477,6],[478,0,478,3],[478,5,478,6],[469,0,469,3],[469,5,469,6],[470,0,470,3],[470,5,470,6],[471,0,471,3],[471,5,471,6],[472,0,472,3],[472,5,472,6],[473,0,473,3],[473,5,473,6],[464,0,464,3],[464,5,464,6],[465,0,465,3],[465,5,465,6],[466,0,466,3],[466,5,466,6],[467,0,467,3],[467,5,467,6],[468,0,468,3],[468,5,468,6],[459,0,459,3],[459,5,459,6],[460,0,460,3],[460,5,460,6],[461,0,461,3],[461,5,461,6],[462,0,462,3],[462,5,462,6],[463,0,463,3],[463,5,463,6],[454,0,454,3],[454,5,454,6],[455,0,455,3],[455,5,455,6],[456,0,456,3],[456,5,456,6],[457,0,457,3],[457,5,457,6],[458,0,458,3],[458,5,458,6],[449,0,449,3],[449,5,449,6],[450,0,450,3],[450,5,450,6],[451,0,451,3],[451,5,451,6],[452,0,452,3],[452,5,452,6],[453,0,453,3],[453,5,453,6],[444,0,444,3],[444,5,444,6],[445,0,445,3],[445,5,445,6],[446,0,446,3],[446,5,446,6],[447,0,447,3],[447,5,447,6],[448,0,448,3],[448,5,448,6],[439,0,439,3],[439,5,439,6],[440,0,440,3],[440,5,440,6],[441,0,441,3],[441,5,441,6],[442,0,442,3],[442,5,442,6],[443,0,443,3],[443,5,443,6],[434,0,434,3],[434,5,434,6],[435,0,435,3],[435,5,435,6],[436,0,436,3],[436,5,436,6],[437,0,437,3],[437,5,437,6],[438,0,438,3],[438,5,438,6],[429,0,429,3],[429,5,429,6],[430,0,430,3],[430,5,430,6],[431,0,431,3],[431,5,431,6],[432,0,432,3],[432,5,432,6],[433,0,433,3],[433,5,433,6],[424,0,424,3],[424,5,424,6],[425,0,425,3],[425,5,425,6],[426,0,426,3],[426,5,426,6],[427,0,427,3],[427,5,427,6],[428,0,428,3],[428,5,428,6],[419,0,419,3],[419,5,419,6],[420,0,420,3],[420,5,420,6],[421,0,421,3],[421,5,421,6],[422,0,422,3],[422,5,422,6],[423,0,423,3],[423,5,423,6],[414,0,414,3],[414,5,414,6],[415,0,415,3],[415,5,415,6],[416,0,416,3],[416,5,416,6],[417,0,417,3],[417,5,417,6],[418,0,418,3],[418,5,418,6],[409,0,409,3],[409,5,409,6],[410,0,410,3],[410,5,410,6],[411,0,411,3],[411,5,411,6],[412,0,412,3],[412,5,412,6],[413,0,413,3],[413,5,413,6],[404,0,404,3],[404,5,404,6],[405,0,405,3],[405,5,405,6],[406,0,406,3],[406,5,406,6],[407,0,407,3],[407,5,407,6],[408,0,408,3],[408,5,408,6],[399,0,399,3],[399,5,399,6],[400,0,400,3],[400,5,400,6],[401,0,401,3],[401,5,401,6],[402,0,402,3],[402,5,402,6],[403,0,403,3],[403,5,403,6],[394,0,394,3],[394,5,394,6],[395,0,395,3],[395,5,395,6],[396,0,396,3],[396,5,396,6],[397,0,397,3],[397,5,397,6],[398,0,398,3],[398,5,398,6],[389,0,389,3],[389,5,389,6],[390,0,390,3],[390,5,390,6],[391,0,391,3],[391,5,391,6],[392,0,392,3],[392,5,392,6],[393,0,393,3],[393,5,393,6],[384,0,384,3],[384,5,384,6],[385,0,385,3],[385,5,385,6],[386,0,386,3],[386,5,386,6],[387,0,387,3],[387,5,387,6],[388,0,388,3],[388,5,388,6],[379,0,379,3],[379,5,379,6],[380,0,380,3],[380,5,380,6],[381,0,381,3],[381,5,381,6],[382,0,382,3],[382,5,382,6],[383,0,383,3],[383,5,383,6],[374,0,374,3],[374,5,374,6],[375,0,375,3],[375,5,375,6],[376,0,376,3],[376,5,376,6],[377,0,377,3],[377,5,377,6],[378,0,378,3],[378,5,378,6],[369,0,369,3],[369,5,369,6],[370,0,370,3],[370,5,370,6],[371,0,371,3],[371,5,371,6],[372,0,372,3],[372,5,372,6],[373,0,373,3],[373,5,373,6],[364,0,364,3],[364,5,364,6],[365,0,365,3],[365,5,365,6],[366,0,366,3],[366,5,366,6],[367,0,367,3],[367,5,367,6],[368,0,368,3],[368,5,368,6],[359,0,359,3],[359,5,359,6],[360,0,360,3],[360,5,360,6],[361,0,361,3],[361,5,361,6],[362,0,362,3],[362,5,362,6],[363,0,363,3],[363,5,363,6],[354,0,354,3],[354,5,354,6],[355,0,355,3],[355,5,355,6],[356,0,356,3],[356,5,356,6],[357,0,357,3],[357,5,357,6],[358,0,358,3],[358,5,358,6],[349,0,349,3],[349,5,349,6],[350,0,350,3],[350,5,350,6],[351,0,351,3],[351,5,351,6],[352,0,352,3],[352,5,352,6],[353,0,353,3],[353,5,353,6],[344,0,344,3],[344,5,344,6],[345,0,345,3],[345,5,345,6],[346,0,346,3],[346,5,346,6],[347,0,347,3],[347,5,347,6],[348,0,348,3],[348,5,348,6],[339,0,339,3],[339,5,339,6],[340,0,340,3],[340,5,340,6],[341,0,341,3],[341,5,341,6],[342,0,342,3],[342,5,342,6],[343,0,343,3],[343,5,343,6],[334,0,334,3],[334,5,334,6],[335,0,335,3],[335,5,335,6],[336,0,336,3],[336,5,336,6],[337,0,337,3],[337,5,337,6],[338,0,338,3],[338,5,338,6],[329,0,329,3],[329,5,329,6],[330,0,330,3],[330,5,330,6],[331,0,331,3],[331,5,331,6],[332,0,332,3],[332,5,332,6],[333,0,333,3],[333,5,333,6],[324,0,324,3],[324,5,324,6],[325,0,325,3],[325,5,325,6],[326,0,326,3],[326,5,326,6],[327,0,327,3],[327,5,327,6],[328,0,328,3],[328,5,328,6],[319,0,319,3],[319,5,319,6],[320,0,320,3],[320,5,320,6],[321,0,321,3],[321,5,321,6],[322,0,322,3],[322,5,322,6],[323,0,323,3],[323,5,323,6],[314,0,314,3],[314,5,314,6],[315,0,315,3],[315,5,315,6],[316,0,316,3],[316,5,316,6],[317,0,317,3],[317,5,317,6],[318,0,318,3],[318,5,318,6],[309,0,309,3],[309,5,309,6],[310,0,310,3],[310,5,310,6],[311,0,311,3],[311,5,311,6],[312,0,312,3],[312,5,312,6],[313,0,313,3],[313,5,313,6],[304,0,304,3],[304,5,304,6],[305,0,305,3],[305,5,305,6],[306,0,306,3],[306,5,306,6],[307,0,307,3],[307,5,307,6],[308,0,308,3],[308,5,308,6],[299,0,299,3],[299,5,299,6],[300,0,300,3],[300,5,300,6],[301,0,301,3],[301,5,301,6],[302,0,302,3],[302,5,302,6],[303,0,303,3],[303,5,303,6],[294,0,294,3],[294,5,294,6],[295,0,295,3],[295,5,295,6],[296,0,296,3],[296,5,296,6],[297,0,297,3],[297,5,297,6],[298,0,298,3],[298,5,298,6],[289,0,289,3],[289,5,289,6],[290,0,290,3],[290,5,290,6]],"merged_total":1773,"flags":["merged_cut"]}
[null,null,null,null,null,null,null,null,null,null,null,null,"Annexe IV"]
["Bordereau de versement des frais relatifs au guichet unique à la Coopérative Enfance Famille"]
[]
["Nom du bureau coordonnateur :",null,null,{"$f":"IF('Bordereau versement A'!$D$4:$G$4=\"\",\"\",'Bordereau versement A'!$D$4:$G$4)","v":""}]
["Date du versement :",null,null,{"$f":"IF('Bordereau versement A'!$D$5:$G$5=\"\",\"\",'Bordereau versement A'!$D$5:$G$5)","v":""}]
["Date du versement précédent :",null,null,{"$f":"IF('Bordereau versement A'!$D$6:$G$6=\"\",\"\",'Bordereau versement A'!$D$6:$G$6)","v":""}]
[]
[]
[]
[]
[{"$f":"'Bordereau versement A'!A8:H8","v":"A. Frais de service prélevés pour l'exercice financier 20__-20__"}]
["                                                                                                          Nom, prénom de la RSG",null,null,null,"No d'identification","Nombre de places aux fins du calcul","Frais de service comprenant les taxes","TPS","TVQ"]
[{"$f":"'Bordereau versement A'!A10:D10","v":0},null,null,null,{"$f":"'Bordereau versement A'!E10","v":0},{"$f":"'Bordereau versement A'!F10","v":0},{"$f":"'Bordereau versement A'!G10","v":0},{"$f":"'Bordereau versement A'!H10","v":0},{"$f":"'Bordereau versement A'!I10","v":0}]
[{"$f":"'Bordereau versement A'!A11:D11","v":0},null,null,null,{"$f":"'Bordereau versement A'!E11","v":0},{"$f":"'Bordereau versement A'!F11","v":0},{"$f":"'Bordereau versement A'!G11","v":0},{"$f":"'Bordereau versement A'!H11","v":0},{"$f":"'Bordereau versement A'!I11","v":0}]
[{"$f":"'Bordereau versement A'!A12:D12","v":0},null,null,null,{"$f":"'Bordereau versement A'!E12","v":0},{"$f":"'Bordereau versement A'!F12","v":0},{"$f":"'Bordereau versement A'!G12","v":0},{"$f":"'Bordereau versement A'!H12","v":0},{"$f":"'Bordereau versement A'!I12","v":0}]
[{"$f":"'Bordereau versement A'!A13:D13","v":0},null,null,null,{"$f":"'Bordereau versement A'!E13","v":0},{"$f":"'Bordereau versement A'!F13","v":0},{"$f":"'Bordereau versement A'!G13","v":0},{"$f":"'Bordereau versement A'!H13","v":0},{"$f":"'Bordereau versement A'!I13","v":0}]
[{"$f":"'Bordereau versement A'!A14:D14","v":0},null,null,null,{"$f":"'Bordereau versement A'!E14","v":0},{"$f":"'Bordereau versement A'!F14","v":0},{"$f":"'Bordereau versement A'!G14","v":0},{"$f":"'Bordereau versement A'!H14","v":0},{"$f":"'Bordereau versement A'!I14","v":0}]
[{"$f":"'Bordereau versement A'!A15:D15","v":0},null,null,null,{"$f":"'Bordereau versement A'!E15","v":0},{"$f":"'Bordereau versement A'!F15","v":0},{"$f":"'Bordereau versement A'!G15","v":0},{"$f":"'Bordereau versement A'!H15","v":0},{"$f":"'Bordereau versement A'!I15","v":0}]
[{"$f":"'Bordereau versement A'!A16:D16","v":0},null,null,null,{"$f":"'Bordereau versement A'!E16","v":0},{"$f":"'Bordereau versement A'!F16","v":0},{"$f":"'Bordereau versement A'!G16","v":0},{"$f":"'Bordereau versement A'!H16","v":0},{"$f":"'Bordereau versement A'!I16","v":0}]
[{"$f":"'Bordereau versement A'!A17:D17","v":0},null,null,null,{"$f":"'Bordereau versement A'!E17","v":0},{"$f":"'Bordereau versement A'!F17","v":0},{"$f":"'Bordereau versement A'!G17","v":0},{"$f":"'Bordereau versement A'!H17","v":0},{"$f":"'Bordereau versement A'!I17","v":0}]
[{"$f":"'Bordereau versement A'!A18:D18","v":0},null,null,null,{"$f":"'Bordereau versement A'!E18","v":0},{"$f":"'Bordereau versement A'!F18","v":0},{"$f":"'Bordereau versement A'!G18","v":0},{"$f":"'Bordereau versement A'!H18","v":0},{"$f":"'Bordereau versement A'!I18","v":0}]
[{"$f":"'Bordereau versement A'!A19:D19","v":0},null,null,null,{"$f":"'Bordereau versement A'!E19","v":0},{"$f":"'Bordereau versement A'!F19","v":0},{"$f":"'Bordereau versement A'!G19","v":0},{"$f":"'Bordereau versement A'!H19","v":0},{"$f":"'Bordereau versement A'!I19","v":0}]
[{"$f":"'Bordereau versement A'!A20:D20","v":0},null,null,null,{"$f":"'Bordereau versement A'!E20","v":0},{"$f":"'Bordereau versement A'!F20","v":0},{"$f":"'Bordereau versement A'!G20","v":0},{"$f":"'Bordereau versement A'!H20","v":0},{"$f":"'Bordereau versement A'!I20","v":0}]
[{"$f":"'Bordereau versement A'!A21:D21","v":0},null,null,null,{"$f":"'Bordereau versement A'!E21","v":0},{"$f":"'Bordereau versement A'!F21","v":0},{"$f":"'Bordereau versement A'!G21","v":0},{"$f":"'Bordereau versement A'!H21","v":0},{"$f":"'Bordereau versement A'!I21","v":0}]
[{"$f":"'Bordereau versement A'!A22:D22","v":0},null,null,null,{"$f":"'Bordereau versement A'!E22","v":0},{"$f":"'Bordereau versement A'!F22","v":0},{"$f":"'Bordereau versement A'!G22","v":0},{"$f":"'Bordereau versement A'!H22","v":0},{"$f":"'Bordereau versement A'!I22","v":0}]
[{"$f":"'Bordereau versement A'!A23:D23","v":0},null,null,null,{"$f":"'Bordereau versement A'!E23","v":0},{"$f":"'Bordereau versement A'!F23","v":0},{"$f":"'Bordereau versement A'!G23","v":0},{"$f":"'Bordereau versement A'!H23","v":0},{"$f":"'Bordereau versement A'!I23","v":0}]
[{"$f":"'Bordereau versement A'!A24:D24","v":0},null,null,null,{"$f":"'Bordereau versement A'!E24","v":0},{"$f":"'Bordereau versement A'!F24","v":0},{"$f":"'Bordereau versement A'!G24","v":0},{"$f":"'Bordereau versement A'!H24","v":0},{"$f":"'Bordereau versement A'!I24","v":0}]
[{"$f":"'Bordereau versement A'!A25:D25","v":0},null,null,null,{"$f":"'Bordereau versement A'!E25","v":0},{"$f":"'Bordereau versement A'!F25","v":0},{"$f":"'Bordereau versement A'!G25","v":0},{"$f":"'Bordereau versement A'!H25","v":0},{"$f":"'Bordereau versement A'!I25","v":0}]
[{"$f":"'Bordereau versement A'!A26:D26","v":0},null,null,null,{"$f":"'Bordereau versement A'!E26","v":0},{"$f":"'Bordereau versement A'!F26","v":0},{"$f":"'Bordereau versement A'!G26","v":0},{"$f":"'Bordereau versement A'!H26","v":0},{"$f":"'Bordereau versement A'!I26","v":0}]
[{"$f":"'Bordereau versement A'!A27:D27","v":0},null,null,null,{"$f":"'Bordereau versement A'!E27","v":0},{"$f":"'Bordereau versement A'!F27","v":0},{"$f":"'Bordereau versement A'!G27","v":0},{"$f":"'Bordereau versement A'!H27","v":0},{"$f":"'Bordereau versement A'!I27","v":0}]
[{"$f":"'Bordereau versement A'!A28:D28","v":0},null,null,null,{"$f":"'Bordereau versement A'!E28","v":0},{"$f":"'Bordereau versement A'!F28","v":0},{"$f":"'Bordereau versement A'!G28","v":0},{"$f":"'Bordereau versement A'!H28","v":0},{"$f":"'Bordereau versement A'!I28","v":0}]
[{"$f":"'Bordereau versement A'!A29:D29","v":0},null,null,null,{"$f":"'Bordereau versement A'!E29","v":0},{"$f":"'Bordereau versement A'!F29","v":0},{"$f":"'Bordereau versement A'!G29","v":0},{"$f":"'Bordereau versement A'!H29","v":0},{"$f":"'Bordereau versement A'!I29","v":0}]
[{"$f":"'Bordereau versement A'!A30:D30","v":0},null,null,null,{"$f":"'Bordereau versement A'!E30","v":0},{"$f":"'Bordereau versement A'!F30","v":0},{"$f":"'Bordereau versement A'!G30","v":0},{"$f":"'Bordereau versement A'!H30","v":0},{"$f":"'Bordereau versement A'!I30","v":0}]
[{"$f":"'Bordereau versement A'!A31:D31","v":0},null,null,null,{"$f":"'Bordereau versement A'!E31","v":0},{"$f":"'Bordereau versement A'!F31","v":0},{"$f":"'Bordereau versement A'!G31","v":0},{"$f":"'Bordereau versement A'!H31","v":0},{"$f":"'Bordereau versement A'!I31","v":0}]
[{"$f":"'Bordereau versement A'!A32:D32","v":0},null,null,null,{"$f":"'Bordereau versement A'!E32","v":0},{"$f":"'Bordereau versement A'!F32","v":0},{"$f":"'Bordereau versement A'!G32","v":0},{"$f":"'Bordereau versement A'!H32","v":0},{"$f":"'Bordereau versement A'!I32","v":0}]
[{"$f":"'Bordereau versement A'!A33:D33","v":0},null,null,null,{"$f":"'Bordereau versement A'!E33","v":0},{"$f":"'Bordereau versement A'!F33","v":0},{"$f":"'Bordereau versement A'!G33","v":0},{"$f":"'Bordereau versement A'!H33","v":0},{"$f":"'Bordereau versement A'!I33","v":0}]
[{"$f":"'Bordereau versement A'!A34:D34","v":0},null,null,null,{"$f":"'Bordereau versement A'!E34","v":0},{"$f":"'Bordereau versement A'!F34","v":0},{"$f":"'Bordereau versement A'!G34","v":0},{"$f":"'Bordereau versement A'!H34","v":0},{"$f":"'Bordereau versement A'!I34","v":0}]
[{"$f":"'Bordereau versement A'!A35:D35","v":0},null,null,null,{"$f":"'Bordereau versement A'!E35","v":0},{"$f":"'Bordereau versement A'!F35","v":0},{"$f":"'Bordereau versement A'!G35","v":0},{"$f":"'Bordereau versement A'!H35","v":0},{"$f":"'Bordereau versement A'!I35","v":0}]
[{"$f":"'Bordereau versement A'!A36:D36","v":0},null,null,null,{"$f":"'Bordereau versement A'!E36","v":0},{"$f":"'Bordereau versement A'!F36","v":0},{"$f":"'Bordereau versement A'!G36","v":0},{"$f":"'Bordereau versement A'!H36","v":0},{"$f":"'Bordereau versement A'!I36","v":0}]
[{"$f":"'Bordereau versement A'!A37:D37","v":0},null,null,null,{"$f":"'Bordereau versement A'!E37","v":0},{"$f":"'Bordereau versement A'!F37","v":0},{"$f":"'Bordereau versement A'!G37","v":0},{"$f":"'Bordereau versement A'!H37","v":0},{"$f":"'Bordereau versement A'!I37","v":0}]
[{"$f":"'Bordereau versement A'!A38:D38","v":0},null,null,null,{"$f":"'Bordereau versement A'!E38","v":0},{"$f":"'Bordereau versement A'!F38","v":0},{"$f":"'Bordereau versement A'!G38","v":0},{"$f":"'Bordereau versement A'!H38","v":0},{"$f":"'Bordereau versement A'!I38","v":0}]
[{"$f":"'Bordereau versement A'!A39:D39","v":0},null,null,null,{"$f":"'Bordereau versement A'!E39","v":0},{"$f":"'Bordereau versement A'!F39","v":0},{"$f":"'Bordereau versement A'!G39","v":0},{"$f":"'Bordereau versement A'!H39","v":0},{"$f":"'Bordereau versement A'!I39","v":0}]
[{"$f":"'Bordereau versement A'!A40:D40","v":0},null,null,null,{"$f":"'Bordereau versement A'!E40","v":0},{"$f":"'Bordereau versement A'!F40","v":0},{"$f":"'Bordereau versement A'!G40","v":0},{"$f":"'Bordereau versement A'!H40","v":0},{"$f":"'Bordereau versement A'!I40","v":0}]
[{"$f":"'Bordereau versement A'!A41:D41","v":0},null,null,null,{"$f":"'Bordereau versement A'!E41","v":0},{"$f":"'Bordereau versement A'!F41","v":0},{"$f":"'Bordereau versement A'!G41","v":0},{"$f":"'Bordereau versement A'!H41","v":0},{"$f":"'Bordereau versement A'!I41","v":0}]
[{"$f":"'Bordereau versement A'!A42:D42","v":0},null,null,null,{"$f":"'Bordereau versement A'!E42","v":0},{"$f":"'Bordereau versement A'!F42","v":0},{"$f":"'Bordereau versement A'!G42","v":0},{"$f":"'Bordereau versement A'!H42","v":0},{"$f":"'Bordereau versement A'!I42","v":0}]
[{"$f":"'Bordereau versement A'!A43:D43","v":0},null,null,null,{"$f":"'Bordereau versement A'!E43","v":0},{"$f":"'Bordereau versement A'!F43","v":0},{"$f":"'Bordereau versement A'!G43","v":0},{"$f":"'Bordereau versement A'!H43","v":0},{"$f":"'Bordereau versement A'!I43","v":0}]
[{"$f":"'Bordereau versement A'!A44:D44","v":0},null,null,null,{"$f":"'Bordereau versement A'!E44","v":0},{"$f":"'Bordereau versement A'!F44","v":0},{"$f":"'Bordereau versement A'!G44","v":0},{"$f":"'Bordereau versement A'!H44","v":0},{"$f":"'Bordereau versement A'!I44","v":0}]
[{"$f":"'Bordereau versement A'!A45:D45","v":0},null,null,null,{"$f":"'Bordereau versement A'!E45","v":0},{"$f":"'Bordereau versement A'!F45","v":0},{"$f":"'Bordereau versement A'!G45","v":0},{"$f":"'Bordereau versement A'!H45","v":0},{"$f":"'Bordereau versement A'!I45","v":0}]
[{"$f":"'Bordereau versement A'!A46:D46","v":0},null,null,null,{"$f":"'Bordereau versement A'!E46","v":0},{"$f":"'Bordereau versement A'!F46","v":0},{"$f":"'Bordereau versement A'!G46","v":0},{"$f":"'Bordereau versement A'!H46","v":0},{"$f":"'Bordereau versement A'!I46","v":0}]
[{"$f":"'Bordereau versement A'!A47:D47","v":0},null,null,null,{"$f":"'Bordereau versement A'!E47","v":0},{"$f":"'Bordereau versement A'!F47","v":0},{"$f":"'Bordereau versement A'!G47","v":0},{"$f":"'Bordereau versement A'!H47","v":0},{"$f":"'Bordereau versement A'!I47","v":0}]
[{"$f":"'Bordereau versement A'!A48:D48","v":0},null,null,null,{"$f":"'Bordereau versement A'!E48","v":0},{"$f":"'Bordereau versement A'!F48","v":0},{"$f":"'Bordereau versement A'!G48","v":0},{"$f":"'Bordereau versement A'!H48","v":0},{"$f":"'Bordereau versement A'!I48","v":0}]
[{"$f":"'Bordereau versement A'!A49:D49","v":0},null,null,null,{"$f":"'Bordereau versement A'!E49","v":0},{"$f":"'Bordereau versement A'!F49","v":0},{"$f":"'Bordereau versement A'!G49","v":0},{"$f":"'Bordereau versement A'!H49","v":0},{"$f":"'Bordereau versement A'!I49","v":0}]
[{"$f":"'Bordereau versement A'!A50:D50","v":0},null,null,null,{"$f":"'Bordereau versement A'!E50","v":0},{"$f":"'Bordereau versement A'!F50","v":0},{"$f":"'Bordereau versement A'!G50","v":0},{"$f":"'Bordereau versement A'!H50","v":0},{"$f":"'Bordereau versement A'!I50","v":0}]
[{"$f":"'Bordereau versement A'!A51:D51","v":0},null,null,null,{"$f":"'Bordereau versement A'!E51","v":0},{"$f":"'Bordereau versement A'!F51","v":0},{"$f":"'Bordereau versement A'!G51","v":0},{"$f":"'Bordereau versement A'!H51","v":0},{"$f":"'Bordereau versement A'!I51","v":0}]
[{"$f":"'Bordereau versement A'!A52:D52","v":0},null,null,null,{"$f":"'Bordereau versement A'!E52","v":0},{"$f":"'Bordereau versement A'!F52","v":0},{"$f":"'Bordereau versement A'!G52","v":0},{"$f":"'Bordereau versement A'!H52","v":0},{"$f":"'Bordereau versement A'!I52","v":0}]
[{"$f":"'Bordereau versement A'!A53:D53","v":0},null,null,null,{"$f":"'Bordereau versement A'!E53","v":0},{"$f":"'Bordereau versement A'!F53","v":0},{"$f":"'Bordereau versement A'!G53","v":0},{"$f":"'Bordereau versement A'!H53","v":0},{"$f":"'Bordereau versement A'!I53","v":0}]
[{"$f":"'Bordereau versement A'!A54:D54","v":0},null,null,null,{"$f":"'Bordereau versement A'!E54","v":0},{"$f":"'Bordereau versement A'!F54","v":0},{"$f":"'Bordereau versement A'!G54","v":0},{"$f":"'Bordereau versement A'!H54","v":0},{"$f":"'Bordereau versement A'!I54","v":0}]
[{"$f":"'Bordereau versement A'!A55:D55","v":0},null,null,null,{"$f":"'Bordereau versement A'!E55","v":0},{"$f":"'Bordereau versement A'!F55","v":0},{"$f":"'Bordereau versement A'!G55","v":0},{"$f":"'Bordereau versement A'!H55","v":0},{"$f":"'Bordereau versement A'!I55","v":0}]
[{"$f":"'Bordereau versement A'!A56:D56","v":0},null,null,null,{"$f":"'Bordereau versement A'!E56","v":0},{"$f":"'Bordereau versement A'!F56","v":0},{"$f":"'Bordereau versement A'!G56","v":0},{"$f":"'Bordereau versement A'!H56","v":0},{"$f":"'Bordereau versement A'!I56","v":0}]
[{"$f":"'Bordereau versement A'!A57:D57","v":0},null,null,null,{"$f":"'Bordereau versement A'!E57","v":0},{"$f":"'Bordereau versement A'!F57","v":0},{"$f":"'Bordereau versement A'!G57","v":0},{"$f":"'Bordereau versement A'!H57","v":0},{"$f":"'Bordereau versement A'!I57","v":0}]
[{"$f":"'Bordereau versement A'!A58:D58","v":0},null,null,null,{"$f":"'Bordereau versement A'!E58","v":0},{"$f":"'Bordereau versement A'!F58","v":0},{"$f":"'Bordereau versement A'!G58","v":0},{"$f":"'Bordereau versement A'!H58","v":0},{"$f":"'Bordereau versement A'!I58","v":0}]
[{"$f":"'Bordereau versement A'!A59:D59","v":0},null,null,null,{"$f":"'Bordereau versement A'!E59","v":0},{"$f":"'Bordereau versement A'!F59","v":0},{"$f":"'Bordereau versement A'!G59","v":0},{"$f":"'Bordereau versement A'!H59","v":0},{"$f":"'Bordereau versement A'!I59","v":0}]
[{"$f":"'Bordereau versement A'!A60:D60","v":0},null,null,null,{"$f":"'Bordereau versement A'!E60","v":0},{"$f":"'Bordereau versement A'!F60","v":0},{"$f":"'Bordereau versement A'!G60","v":0},{"$f":"'Bordereau versement A'!H60","v":0},{"$f":"'Bordereau versement A'!I60","v":0}]
[{"$f":"'Bordereau versement A'!A61:D61","v":0},null,null,null,{"$f":"'Bordereau versement A'!E61","v":0},{"$f":"'Bordereau versement A'!F61","v":0},{"$f":"'Bordereau versement A'!G61","v":0},{"$f":"'Bordereau versement A'!H61","v":0},{"$f":"'Bordereau versement A'!I61","v":0}]
[{"$f":"'Bordereau versement A'!A62:D62","v":0},null,null,null,{"$f":"'Bordereau versement A'!E62","v":0},{"$f":"'Bordereau versement A'!F62","v":0},{"$f":"'Bordereau versement A'!G62","v":0},{"$f":"'Bordereau versement A'!H62","v":0},{"$f":"'Bordereau versement A'!I62","v":0}]
[{"$f":"'Bordereau versement A'!A63:D63","v":0},null,null,null,{"$f":"'Bordereau versement A'!E63","v":0},{"$f":"'Bordereau versement A'!F63","v":0},{"$f":"'Bordereau versement A'!G63","v":0},{"$f":"'Bordereau versement A'!H63","v":0},{"$f":"'Bordereau versement A'!I63","v":0}]
[{"$f":"'Bordereau versement A'!A64:D64","v":0},null,null,null,{"$f":"'Bordereau versement A'!E64","v":0},{"$f":"'Bordereau versement A'!F64","v":0},{"$f":"'Bordereau versement A'!G64","v":0},{"$f":"'Bordereau versement A'!H64","v":0},{"$f":"'Bordereau versement A'!I64","v":0}]
[{"$f":"'Bordereau versement A'!A65:D65","v":0},null,null,null,{"$f":"'Bordereau versement A'!E65","v":0},{"$f":"'Bordereau versement A'!F65","v":0},{"$f":"'Bordereau versement A'!G65","v":0},{"$f":"'Bordereau versement A'!H65","v":0},{"$f":"'Bordereau versement A'!I65","v":0}]
[{"$f":"'Bordereau versement A'!A66:D66","v":0},null,null,null,{"$f":"'Bordereau versement A'!E66","v":0},{"$f":"'Bordereau versement A'!F66","v":0},{"$f":"'Bordereau versement A'!G66","v":0},{"$f":"'Bordereau versement A'!H66","v":0},{"$f":"'Bordereau versement A'!I66","v":0}]
[{"$f":"'Bordereau versement A'!A67:D67","v":0},null,null,null,{"$f":"'Bordereau versement A'!E67","v":0},{"$f":"'Bordereau versement A'!F67","v":0},{"$f":"'Bordereau versement A'!G67","v":0},{"$f":"'Bordereau versement A'!H67","v":0},{"$f":"'Bordereau versement A'!I67","v":0}]
[{"$f":"'Bordereau versement A'!A68:D68","v":0},null,null,null,{"$f":"'Bordereau versement A'!E68","v":0},{"$f":"'Bordereau versement A'!F68","v":0},{"$f":"'Bordereau versement A'!G68","v":0},{"$f":"'Bordereau versement A'!H68","v":0},{"$f":"'Bordereau versement A'!I68","v":0}]
[{"$f":"'Bordereau versement A'!A69:D69","v":0},null,null,null,{"$f":"'Bordereau versement A'!E69","v":0},{"$f":"'Bordereau versement A'!F69","v":0},{"$f":"'Bordereau versement A'!G69","v":0},{"$f":"'Bordereau versement A'!H69","v":0},{"$f":"'Bordereau versement A'!I69","v":0}]
[{"$f":"'Bordereau versement A'!A70:D70","v":0},null,null,null,{"$f":"'Bordereau versement A'!E70","v":0},{"$f":"'Bordereau versement A'!F70","v":0},{"$f":"'Bordereau versement A'!G70","v":0},{"$f":"'Bordereau versement A'!H70","v":0},{"$f":"'Bordereau versement A'!I70","v":0}]
[{"$f":"'Bordereau versement A'!A71:D71","v":0},null,null,null,{"$f":"'Bordereau versement A'!E71","v":0},{"$f":"'Bordereau versement A'!F71","v":0},{"$f":"'Bordereau versement A'!G71","v":0},{"$f":"'Bordereau versement A'!H71","v":0},{"$f":"'Bordereau versement A'!I71","v":0}]
[{"$f":"'Bordereau versement A'!A72:D72","v":0},null,null,null,{"$f":"'Bordereau versement A'!E72","v":0},{"$f":"'Bordereau versement A'!F72","v":0},{"$f":"'Bordereau versement A'!G72","v":0},{"$f":"'Bordereau versement A'!H72","v":0},{"$f":"'Bordereau versement A'!I72","v":0}]
[{"$f":"'Bordereau versement A'!A73:D73","v":0},null,null,null,{"$f":"'Bordereau versement A'!E73","v":0},{"$f":"'Bordereau versement A'!F73","v":0},{"$f":"'Bordereau versement A'!G73","v":0},{"$f":"'Bordereau versement A'!H73","v":0},{"$f":"'Bordereau versement A'!I73","v":0}]
[{"$f":"'Bordereau versement A'!A74:D74","v":0},null,null,null,{"$f":"'Bordereau versement A'!E74","v":0},{"$f":"'Bordereau versement A'!F74","v":0},{"$f":"'Bordereau versement A'!G74","v":0},{"$f":"'Bordereau versement A'!H74","v":0},{"$f":"'Bordereau versement A'!I74","v":0}]
[{"$f":"'Bordereau versement A'!A75:D75","v":0},null,null,null,{"$f":"'Bordereau versement A'!E75","v":0},{"$f":"'Bordereau versement A'!F75","v":0},{"$f":"'Bordereau versement A'!G75","v":0},{"$f":"'Bordereau versement A'!H75","v":0},{"$f":"'Bordereau versement A'!I75","v":0}]
[{"$f":"'Bordereau versement A'!A76:D76","v":0},null,null,null,{"$f":"'Bordereau versement A'!E76","v":0},{"$f":"'Bordereau versement A'!F76","v":0},{"$f":"'Bordereau versement A'!G76","v":0},{"$f":"'Bordereau versement A'!H76","v":0},{"$f":"'Bordereau versement A'!I76","v":0}]
[{"$f":"'Bordereau versement A'!A77:D77","v":0},null,null,null,{"$f":"'Bordereau versement A'!E77","v":0},{"$f":"'Bordereau versement A'!F77","v":0},{"$f":"'Bordereau versement A'!G77","v":0},{"$f":"'Bordereau versement A'!H77","v":0},{"$f":"'Bordereau versement A'!I77","v":0}]
[{"$f":"'Bordereau versement A'!A78:D78","v":0},null,null,null,{"$f":"'Bordereau versement A'!E78","v":0},{"$f":"'Bordereau versement A'!F78","v":0},{"$f":"'Bordereau versement A'!G78","v":0},{"$f":"'Bordereau versement A'!H78","v":0},{"$f":"'Bordereau versement A'!I78","v":0}]
[{"$f":"'Bordereau versement A'!A79:D79","v":0},null,null,null,{"$f":"'Bordereau versement A'!E79","v":0},{"$f":"'Bordereau versement A'!F79","v":0},{"$f":"'Bordereau versement A'!G79","v":0},{"$f":"'Bordereau versement A'!H79","v":0},{"$f":"'Bordereau versement A'!I79","v":0}]
[{"$f":"'Bordereau versement A'!A80:D80","v":0},null,null,null,{"$f":"'Bordereau versement A'!E80","v":0},{"$f":"'Bordereau versement A'!F80","v":0},{"$f":"'Bordereau versement A'!G80","v":0},{"$f":"'Bordereau versement A'!H80","v":0},{"$f":"'Bordereau versement A'!I80","v":0}]
[{"$f":"'Bordereau versement A'!A81:D81","v":0},null,null,null,{"$f":"'Bordereau versement A'!E81","v":0},{"$f":"'Bordereau versement A'!F81","v":0},{"$f":"'Bordereau versement A'!G81","v":0},{"$f":"'Bordereau versement A'!H81","v":0},{"$f":"'Bordereau versement A'!I81","v":0}]
[{"$f":"'Bordereau versement A'!A82:D82","v":0},null,null,null,{"$f":"'Bordereau versement A'!E82","v":0},{"$f":"'Bordereau versement A'!F82","v":0},{"$f":"'Bordereau versement A'!G82","v":0},{"$f":"'Bordereau versement A'!H82","v":0},{"$f":"'Bordereau versement A'!I82","v":0}]
[{"$f":"'Bordereau versement A'!A83:D83","v":0},null,null,null,{"$f":"'Bordereau versement A'!E83","v":0},{"$f":"'Bordereau versement A'!F83","v":0},{"$f":"'Bordereau versement A'!G83","v":0},{"$f":"'Bordereau versement A'!H83","v":0},{"$f":"'Bordereau versement A'!I83","v":0}]
[{"$f":"'Bordereau versement A'!A84:D84","v":0},null,null,null,{"$f":"'Bordereau versement A'!E84","v":0},{"$f":"'Bordereau versement A'!F84","v":0},{"$f":"'Bordereau versement A'!G84","v":0},{"$f":"'Bordereau versement A'!H84","v":0},{"$f":"'Bordereau versement A'!I84","v":0}]
[{"$f":"'Bordereau versement A'!A85:D85","v":0},null,null,null,{"$f":"'Bordereau versement A'!E85","v":0},{"$f":"'Bordereau versement A'!F85","v":0},{"$f":"'Bordereau versement A'!G85","v":0},{"$f":"'Bordereau versement A'!H85","v":0},{"$f":"'Bordereau versement A'!I85","v":0}]
[{"$f":"'Bordereau versement A'!A86:D86","v":0},null,null,null,{"$f":"'Bordereau versement A'!E86","v":0},{"$f":"'Bordereau versement A'!F86","v":0},{"$f":"'Bordereau versement A'!G86","v":0},{"$f":"'Bordereau versement A'!H86","v":0},{"$f":"'Bordereau versement A'!I86","v":0}]
[{"$f":"'Bordereau versement A'!A87:D87","v":0},null,null,null,{"$f":"'Bordereau versement A'!E87","v":0},{"$f":"'Bordereau versement A'!F87","v":0},{"$f":"'Bordereau versement A'!G87","v":0},{"$f":"'Bordereau versement A'!H87","v":0},{"$f":"'Bordereau versement A'!I87","v":0}]
[{"$f":"'Bordereau versement A'!A88:D88","v":0},null,null,null,{"$f":"'Bordereau versement A'!E88","v":0},{"$f":"'Bordereau versement A'!F88","v":0},{"$f":"'Bordereau versement A'!G88","v":0},{"$f":"'Bordereau versement A'!H88","v":0},{"$f":"'Bordereau versement A'!I88","v":0}]
[{"$f":"'Bordereau versement A'!A89:D89","v":0},null,null,null,{"$f":"'Bordereau versement A'!E89","v":0},{"$f":"'Bordereau versement A'!F89","v":0},{"$f":"'Bordereau versement A'!G89","v":0},{"$f":"'Bordereau versement A'!H89","v":0},{"$f":"'Bordereau versement A'!I89","v":0}]
[{"$f":"'Bordereau versement A'!A90:D90","v":0},null,null,null,{"$f":"'Bordereau versement A'!E90","v":0},{"$f":"'Bordereau versement A'!F90","v":0},{"$f":"'Bordereau versement A'!G90","v":0},{"$f":"'Bordereau versement A'!H90","v":0},{"$f":"'Bordereau versement A'!I90","v":0}]
[{"$f":"'Bordereau versement A'!A91:D91","v":0},null,null,null,{"$f":"'Bordereau versement A'!E91","v":0},{"$f":"'Bordereau versement A'!F91","v":0},{"$f":"'Bordereau versement A'!G91","v":0},{"$f":"'Bordereau versement A'!H91","v":0},{"$f":"'Bordereau versement A'!I91","v":0}]
[{"$f":"'Bordereau versement A'!A92:D92","v":0},null,null,null,{"$f":"'Bordereau versement A'!E92","v":0},{"$f":"'Bordereau versement A'!F92","v":0},{"$f":"'Bordereau versement A'!G92","v":0},{"$f":"'Bordereau versement A'!H92","v":0},{"$f":"'Bordereau versement A'!I92","v":0}]
[{"$f":"'Bordereau versement A'!A93:D93","v":0},null,null,null,{"$f":"'Bordereau versement A'!E93","v":0},{"$f":"'Bordereau versement A'!F93","v":0},{"$f":"'Bordereau versement A'!G93","v":0},{"$f":"'Bordereau versement A'!H93","v":0},{"$f":"'Bordereau versement A'!I93","v":0}]
[{"$f":"'Bordereau versement A'!A94:D94","v":0},null,null,null,{"$f":"'Bordereau versement A'!E94","v":0},{"$f":"'Bordereau versement A'!F94","v":0},{"$f":"'Bordereau versement A'!G94","v":0},{"$f":"'Bordereau versement A'!H94","v":0},{"$f":"'Bordereau versement A'!I94","v":0}]
[{"$f":"'Bordereau versement A'!A95:D95","v":0},null,null,null,{"$f":"'Bordereau versement A'!E95","v":0},{"$f":"'Bordereau versement A'!F95","v":0},{"$f":"'Bordereau versement A'!G95","v":0},{"$f":"'Bordereau versement A'!H95","v":0},{"$f":"'Bordereau versement A'!I95","v":0}]
[{"$f":"'Bordereau versement A'!A96:D96","v":0},null,null,null,{"$f":"'Bordereau versement A'!E96","v":0},{"$f":"'Bordereau versement A'!F96","v":0},{"$f":"'Bordereau versement A'!G96","v":0},{"$f":"'Bordereau versement A'!H96","v":0},{"$f":"'Bordereau versement A'!I96","v":0}]
[{"$f":"'Bordereau versement A'!A97:D97","v":0},null,null,null,{"$f":"'Bordereau versement A'!E97","v":0},{"$f":"'Bordereau versement A'!F97","v":0},{"$f":"'Bordereau versement A'!G97","v":0},{"$f":"'Bordereau versement A'!H97","v":0},{"$f":"'Bordereau versement A'!I97","v":0}]
[{"$f":"'Bordereau versement A'!A98:D98","v":0},null,null,null,{"$f":"'Bordereau versement A'!E98","v":0},{"$f":"'Bordereau versement A'!F98","v":0},{"$f":"'Bordereau versement A'!G98","v":0},{"$f":"'Bordereau versement A'!H98","v":0},{"$f":"'Bordereau versement A'!I98","v":0}]
[{"$f":"'Bordereau versement A'!A99:D99","v":0},null,null,null,{"$f":"'Bordereau versement A'!E99","v":0},{"$f":"'Bordereau versement A'!F99","v":0},{"$f":"'Bordereau versement A'!G99","v":0},{"$f":"'Bordereau versement A'!H99","v":0},{"$f":"'Bordereau versement A'!I99","v":0}]
[{"$f":"'Bordereau versement A'!A100:D100","v":0},null,null,null,{"$f":"'Bordereau versement A'!E100","v":0},{"$f":"'Bordereau versement A'!F100","v":0},{"$f":"'Bordereau versement A'!G100","v":0},{"$f":"'Bordereau versement A'!H100","v":0},{"$f":"'Bordereau versement A'!I100","v":0}]
[{"$f":"'Bordereau versement A'!A101:D101","v":0},null,null,null,{"$f":"'Bordereau versement A'!E101","v":0},{"$f":"'Bordereau versement A'!F101","v":0},{"$f":"'Bordereau versement A'!G101","v":0},{"$f":"'Bordereau versement A'!H101","v":0},{"$f":"'Bordereau versement A'!I101","v":0}]
[{"$f":"'Bordereau versement A'!A102:D102","v":0},null,null,null,{"$f":"'Bordereau versement A'!E102","v":0},{"$f":"'Bordereau versement A'!F102","v":0},{"$f":"'Bordereau versement A'!G102","v":0},{"$f":"'Bordereau versement A'!H102","v":0},{"$f":"'Bordereau versement A'!I102","v":0}]
[{"$f":"'Bordereau versement A'!A103:D103","v":0},null,null,null,{"$f":"'Bordereau versement A'!E103","v":0},{"$f":"'Bordereau versement A'!F103","v":0},{"$f":"'Bordereau versement A'!G103","v":0},{"$f":"'Bordereau versement A'!H103","v":0},{"$f":"'Bordereau versement A'!I103","v":0}]
[{"$f":"'Bordereau versement A'!A104:D104","v":0},null,null,null,{"$f":"'Bordereau versement A'!E104","v":0},{"$f":"'Bordereau versement A'!F104","v":0},{"$f":"'Bordereau versement A'!G104","v":0},{"$f":"'Bordereau versement A'!H104","v":0},{"$f":"'Bordereau versement A'!I104","v":0}]
[{"$f":"'Bordereau versement A'!A105:D105","v":0},null,null,null,{"$f":"'Bordereau versement A'!E105","v":0},{"$f":"'Bordereau versement A'!F105","v":0},{"$f":"'Bordereau versement A'!G105","v":0},{"$f":"'Bordereau versement A'!H105","v":0},{"$f":"'Bordereau versement A'!I105","v":0}]
[{"$f":"'Bordereau versement A'!A106:D106","v":0},null,null,null,{"$f":"'Bordereau versement A'!E106","v":0},{"$f":"'Bordereau versement A'!F106","v":0},{"$f":"'Bordereau versement A'!G106","v":0},{"$f":"'Bordereau versement A'!H106","v":0},{"$f":"'Bordereau versement A'!I106","v":0}]
[{"$f":"'Bordereau versement A'!A107:D107","v":0},null,null,null,{"$f":"'Bordereau versement A'!E107","v":0},{"$f":"'Bordereau versement A'!F107","v":0},{"$f":"'Bordereau versement A'!G107","v":0},{"$f":"'Bordereau versement A'!H107","v":0},{"$f":"'Bordereau versement A'!I107","v":0}]
[{"$f":"'Bordereau versement A'!A110:D110","v":0},null,null,null,{"$f":"'Bordereau versement A'!E110","v":0},{"$f":"'Bordereau versement A'!F110","v":0},{"$f":"'Bordereau versement A'!G110","v":0},{"$f":"'Bordereau versement A'!H110","v":0},{"$f":"'Bordereau versement A'!I110","v":0}]
[{"$f":"'Bordereau versement A'!A111:D111","v":0},null,null,null,{"$f":"'Bordereau versement A'!E111","v":0},{"$f":"'Bordereau versement A'!F111","v":0},{"$f":"'Bordereau versement A'!G111","v":0},{"$f":"'Bordereau versement A'!H111","v":0},{"$f":"'Bordereau versement A'!I111","v":0}]
[{"$f":"'Bordereau versement A'!A112:D112","v":0},null,null,null,{"$f":"'Bordereau versement A'!E112","v":0},{"$f":"'Bordereau versement A'!F112","v":0},{"$f":"'Bordereau versement A'!G112","v":0},{"$f":"'Bordereau versement A'!H112","v":0},{"$f":"'Bordereau versement A'!I112","v":0}]
[{"$f":"'Bordereau versement A'!A113:D113","v":0},null,null,null,{"$f":"'Bordereau versement A'!E113","v":0},{"$f":"'Bordereau versement A'!F113","v":0},{"$f":"'Bordereau versement A'!G113","v":0},{"$f":"'Bordereau versement A'!H113","v":0},{"$f":"'Bordereau versement A'!I113","v":0}]
[{"$f":"'Bordereau versement A'!A114:D114","v":0},null,null,null,{"$f":"'Bordereau versement A'!E114","v":0},{"$f":"'Bordereau versement A'!F114","v":0},{"$f":"'Bordereau versement A'!G114","v":0},{"$f":"'Bordereau versement A'!H114","v":0},{"$f":"'Bordereau versement A'!I114","v":0}]
[{"$f":"'Bordereau versement A'!A115:D115","v":0},null,null,null,{"$f":"'Bordereau versement A'!E115","v":0},{"$f":"'Bordereau versement A'!F115","v":0},{"$f":"'Bordereau versement A'!G115","v":0},{"$f":"'Bordereau versement A'!H115","v":0},{"$f":"'Bordereau versement A'!I115","v":0}]
[{"$f":"'Bordereau versement A'!A116:D116","v":0},null,null,null,{"$f":"'Bordereau versement A'!E116","v":0},{"$f":"'Bordereau versement A'!F116","v":0},{"$f":"'Bordereau versement A'!G116","v":0},{"$f":"'Bordereau versement A'!H116","v":0},{"$f":"'Bordereau versement A'!I116","v":0}]
[{"$f":"'Bordereau versement A'!A117:D117","v":0},null,null,null,{"$f":"'Bordereau versement A'!E117","v":0},{"$f":"'Bordereau versement A'!F117","v":0},{"$f":"'Bordereau versement A'!G117","v":0},{"$f":"'Bordereau versement A'!H117","v":0},{"$f":"'Bordereau versement A'!I117","v":0}]
[{"$f":"'Bordereau versement A'!A118:D118","v":0},null,null,null,{"$f":"'Bordereau versement A'!E118","v":0},{"$f":"'Bordereau versement A'!F118","v":0},{"$f":"'Bordereau versement A'!G118","v":0},{"$f":"'Bordereau versement A'!H118","v":0},{"$f":"'Bordereau versement A'!I118","v":0}]
[{"$f":"'Bordereau versement A'!A119:D119","v":0},null,null,null,{"$f":"'Bordereau versement A'!E119","v":0},{"$f":"'Bordereau versement A'!F119","v":0},{"$f":"'Bordereau versement A'!G119","v":0},{"$f":"'Bordereau versement A'!H119","v":0},{"$f":"'Bordereau versement A'!I119","v":0}]
[{"$f":"'Bordereau versement A'!A120:D120","v":0},null,null,null,{"$f":"'Bordereau versement A'!E120","v":0},{"$f":"'Bordereau versement A'!F120","v":0},{"$f":"'Bordereau versement A'!G120","v":0},{"$f":"'Bordereau versement A'!H120","v":0},{"$f":"'Bordereau versement A'!I120","v":0}]
[{"$f":"'Bordereau versement A'!A121:D121","v":0},null,null,null,{"$f":"'Bordereau versement A'!E121","v":0},{"$f":"'Bordereau versement A'!F121","v":0},{"$f":"'Bordereau versement A'!G121","v":0},{"$f":"'Bordereau versement A'!H121","v":0},{"$f":"'Bordereau versement A'!I121","v":0}]
[{"$f":"'Bordereau versement A'!A122:D122","v":0},null,null,null,{"$f":"'Bordereau versement A'!E122","v":0},{"$f":"'Bordereau versement A'!F122","v":0},{"$f":"'Bordereau versement A'!G122","v":0},{"$f":"'Bordereau versement A'!H122","v":0},{"$f":"'Bordereau versement A'!I122","v":0}]
[{"$f":"'Bordereau versement A'!A123:D123","v":0},null,null,null,{"$f":"'Bordereau versement A'!E123","v":0},{"$f":"'Bordereau versement A'!F123","v":0},{"$f":"'Bordereau versement A'!G123","v":0},{"$f":"'Bordereau versement A'!H123","v":0},{"$f":"'Bordereau versement A'!I123","v":0}]
[{"$f":"'Bordereau versement A'!A124:D124","v":0},null,null,null,{"$f":"'Bordereau versement A'!E124","v":0},{"$f":"'Bordereau versement A'!F124","v":0},{"$f":"'Bordereau versement A'!G124","v":0},{"$f":"'Bordereau versement A'!H124","v":0},{"$f":"'Bordereau versement A'!I124","v":0}]
[{"$f":"'Bordereau versement A'!A125:D125","v":0},null,null,null,{"$f":"'Bordereau versement A'!E125","v":0},{"$f":"'Bordereau versement A'!F125","v":0},{"$f":"'Bordereau versement A'!G125","v":0},{"$f":"'Bordereau versement A'!H125","v":0},{"$f":"'Bordereau versement A'!I125","v":0}]
[{"$f":"'Bordereau versement A'!A126:D126","v":0},null,null,null,{"$f":"'Bordereau versement A'!E126","v":0},{"$f":"'Bordereau versement A'!F126","v":0},{"$f":"'Bordereau versement A'!G126","v":0},{"$f":"'Bordereau versement A'!H126","v":0},{"$f":"'Bordereau versement A'!I126","v":0}]
[{"$f":"'Bordereau versement A'!A127:D127","v":0},null,null,null,{"$f":"'Bordereau versement A'!E127","v":0},{"$f":"'Bordereau versement A'!F127","v":0},{"$f":"'Bordereau versement A'!G127","v":0},{"$f":"'Bordereau versement A'!H127","v":0},{"$f":"'Bordereau versement A'!I127","v":0}]
[{"$f":"'Bordereau versement A'!A128:D128","v":0},null,null,null,{"$f":"'Bordereau versement A'!E128","v":0},{"$f":"'Bordereau versement A'!F128","v":0},{"$f":"'Bordereau versement A'!G128","v":0},{"$f":"'Bordereau versement A'!H128","v":0},{"$f":"'Bordereau versement A'!I128","v":0}]
[{"$f":"'Bordereau versement A'!A129:D129","v":0},null,null,null,{"$f":"'Bordereau versement A'!E129","v":0},{"$f":"'Bordereau versement A'!F129","v":0},{"$f":"'Bordereau versement A'!G129","v":0},{"$f":"'Bordereau versement A'!H129","v":0},{"$f":"'Bordereau versement A'!I129","v":0}]
[{"$f":"'Bordereau versement A'!A130:D130","v":0},null,null,null,{"$f":"'Bordereau versement A'!E130","v":0},{"$f":"'Bordereau versement A'!F130","v":0},{"$f":"'Bordereau versement A'!G130","v":0},{"$f":"'Bordereau versement A'!H130","v":0},{"$f":"'Bordereau versement A'!I130","v":0}]
[{"$f":"'Bordereau versement A'!A131:D131","v":0},null,null,null,{"$f":"'Bordereau versement A'!E131","v":0},{"$f":"'Bordereau versement A'!F131","v":0},{"$f":"'Bordereau versement A'!G131","v":0},{"$f":"'Bordereau versement A'!H131","v":0},{"$f":"'Bordereau versement A'!I131","v":0}]
[{"$f":"'Bordereau versement A'!A132:D132","v":0},null,null,null,{"$f":"'Bordereau versement A'!E132","v":0},{"$f":"'Bordereau versement A'!F132","v":0},{"$f":"'Bordereau versement A'!G132","v":0},{"$f":"'Bordereau versement A'!H132","v":0},{"$f":"'Bordereau versement A'!I132","v":0}]
[{"$f":"'Bordereau versement A'!A133:D133","v":0},null,null,null,{"$f":"'Bordereau versement A'!E133","v":0},{"$f":"'Bordereau versement A'!F133","v":0},{"$f":"'Bordereau versement A'!G133","v":0},{"$f":"'Bordereau versement A'!H133","v":0},{"$f":"'Bordereau versement A'!I133","v":0}]
[{"$f":"'Bordereau versement A'!A134:D134","v":0},null,null,null,{"$f":"'Bordereau versement A'!E134","v":0},{"$f":"'Bordereau versement A'!F134","v":0},{"$f":"'Bordereau versement A'!G134","v":0},{"$f":"'Bordereau versement A'!H134","v":0},{"$f":"'Bordereau versement A'!I134","v":0}]
[{"$f":"'Bordereau versement A'!A135:D135","v":0},null,null,null,{"$f":"'Bordereau versement A'!E135","v":0},{"$f":"'Bordereau versement A'!F135","v":0},{"$f":"'Bordereau versement A'!G135","v":0},{"$f":"'Bordereau versement A'!H135","v":0},{"$f":"'Bordereau versement A'!I135","v":0}]
[{"$f":"'Bordereau versement A'!A136:D136","v":0},null,null,null,{"$f":"'Bordereau versement A'!E136","v":0},{"$f":"'Bordereau versement A'!F136","v":0},{"$f":"'Bordereau versement A'!G136","v":0},{"$f":"'Bordereau versement A'!H136","v":0},{"$f":"'Bordereau versement A'!I136","v":0}]
[{"$f":"'Bordereau versement A'!A137:D137","v":0},null,null,null,{"$f":"'Bordereau versement A'!E137","v":0},{"$f":"'Bordereau versement A'!F137","v":0},{"$f":"'Bordereau versement A'!G137","v":0},{"$f":"'Bordereau versement A'!H137","v":0},{"$f":"'Bordereau versement A'!I137","v":0}]
[{"$f":"'Bordereau versement A'!A138:D138","v":0},null,null,null,{"$f":"'Bordereau versement A'!E138","v":0},{"$f":"'Bordereau versement A'!F138","v":0},{"$f":"'Bordereau versement A'!G138","v":0},{"$f":"'Bordereau versement A'!H138","v":0},{"$f":"'Bordereau versement A'!I138","v":0}]
[{"$f":"'Bordereau versement A'!A139:D139","v":0},null,null,null,{"$f":"'Bordereau versement A'!E139","v":0},{"$f":"'Bordereau versement A'!F139","v":0},{"$f":"'Bordereau versement A'!G139","v":0},{"$f":"'Bordereau versement A'!H139","v":0},{"$f":"'Bordereau versement A'!I139","v":0}]
[{"$f":"'Bordereau versement A'!A140:D140","v":0},null,null,null,{"$f":"'Bordereau versement A'!E140","v":0},{"$f":"'Bordereau versement A'!F140","v":0},{"$f":"'Bordereau versement A'!G140","v":0},{"$f":"'Bordereau versement A'!H140","v":0},{"$f":"'Bordereau versement A'!I140","v":0}]
[{"$f":"'Bordereau versement A'!A141:D141","v":0},null,null,null,{"$f":"'Bordereau versement A'!E141","v":0},{"$f":"'Bordereau versement A'!F141","v":0},{"$f":"'Bordereau versement A'!G141","v":0},{"$f":"'Bordereau versement A'!H141","v":0},{"$f":"'Bordereau versement A'!I141","v":0}]
[{"$f":"'Bordereau versement A'!A142:D142","v":0},null,null,null,{"$f":"'Bordereau versement A'!E142","v":0},{"$f":"'Bordereau versement A'!F142","v":0},{"$f":"'Bordereau versement A'!G142","v":0},{"$f":"'Bordereau versement A'!H142","v":0},{"$f":"'Bordereau versement A'!I142","v":0}]
[{"$f":"'Bordereau versement A'!A143:D143","v":0},null,null,null,{"$f":"'Bordereau versement A'!E143","v":0},{"$f":"'Bordereau versement A'!F143","v":0},{"$f":"'Bordereau versement A'!G143","v":0},{"$f":"'Bordereau versement A'!H143","v":0},{"$f":"'Bordereau versement A'!I143","v":0}]
[{"$f":"'Bordereau versement A'!A144:D144","v":0},null,null,null,{"$f":"'Bordereau versement A'!E144","v":0},{"$f":"'Bordereau versement A'!F144","v":0},{"$f":"'Bordereau versement A'!G144","v":0},{"$f":"'Bordereau versement A'!H144","v":0},{"$f":"'Bordereau versement A'!I144","v":0}]
[{"$f":"'Bordereau versement A'!A145:D145","v":0},null,null,null,{"$f":"'Bordereau versement A'!E145","v":0},{"$f":"'Bordereau versement A'!F145","v":0},{"$f":"'Bordereau versement A'!G145","v":0},{"$f":"'Bordereau versement A'!H145","v":0},{"$f":"'Bordereau versement A'!I145","v":0}]
[{"$f":"'Bordereau versement A'!A146:D146","v":0},null,null,null,{"$f":"'Bordereau versement A'!E146","v":0},{"$f":"'Bordereau versement A'!F146","v":0},{"$f":"'Bordereau versement A'!G146","v":0},{"$f":"'Bordereau versement A'!H146","v":0},{"$f":"'Bordereau versement A'!I146","v":0}]
[{"$f":"'Bordereau versement A'!A147:D147","v":0},null,null,null,{"$f":"'Bordereau versement A'!E147","v":0},{"$f":"'Bordereau versement A'!F147","v":0},{"$f":"'Bordereau versement A'!G147","v":0},{"$f":"'Bordereau versement A'!H147","v":0},{"$f":"'Bordereau versement A'!I147","v":0}]
[{"$f":"'Bordereau versement A'!A148:D148","v":0},null,null,null,{"$f":"'Bordereau versement A'!E148","v":0},{"$f":"'Bordereau versement A'!F148","v":0},{"$f":"'Bordereau versement A'!G148","v":0},{"$f":"'Bordereau versement A'!H148","v":0},{"$f":"'Bordereau versement A'!I148","v":0}]
[{"$f":"'Bordereau versement A'!A149:D149","v":0},null,null,null,{"$f":"'Bordereau versement A'!E149","v":0},{"$f":"'Bordereau versement A'!F149","v":0},{"$f":"'Bordereau versement A'!G149","v":0},{"$f":"'Bordereau versement A'!H149","v":0},{"$f":"'Bordereau versement A'!I149","v":0}]
[{"$f":"'Bordereau versement A'!A150:D150","v":0},null,null,null,{"$f":"'Bordereau versement A'!E150","v":0},{"$f":"'Bordereau versement A'!F150","v":0},{"$f":"'Bordereau versement A'!G150","v":0},{"$f":"'Bordereau versement A'!H150","v":0},{"$f":"'Bordereau versement A'!I150","v":0}]
[{"$f":"'Bordereau versement A'!A151:D151","v":0},null,null,null,{"$f":"'Bordereau versement A'!E151","v":0},{"$f":"'Bordereau versement A'!F151","v":0},{"$f":"'Bordereau versement A'!G151","v":0},{"$f":"'Bordereau versement A'!H151","v":0},{"$f":"'Bordereau versement A'!I151","v":0}]
[{"$f":"'Bordereau versement A'!A152:D152","v":0},null,null,null,{"$f":"'Bordereau versement A'!E152","v":0},{"$f":"'Bordereau versement A'!F152","v":0},{"$f":"'Bordereau versement A'!G152","v":0},{"$f":"'Bordereau versement A'!H152","v":0},{"$f":"'Bordereau versement A'!I152","v":0}]
[{"$f":"'Bordereau versement A'!A153:D153","v":0},null,null,null,{"$f":"'Bordereau versement A'!E153","v":0},{"$f":"'Bordereau versement A'!F153","v":0},{"$f":"'Bordereau versement A'!G153","v":0},{"$f":"'Bordereau versement A'!H153","v":0},{"$f":"'Bordereau versement A'!I153","v":0}]
[{"$f":"'Bordereau versement A'!A154:D154","v":0},null,null,null,{"$f":"'Bordereau versement A'!E154","v":0},{"$f":"'Bordereau versement A'!F154","v":0},{"$f":"'Bordereau versement A'!G154","v":0},{"$f":"'Bordereau versement A'!H154","v":0},{"$f":"'Bordereau versement A'!I154","v":0}]
[{"$f":"'Bordereau versement A'!A155:D155","v":0},null,null,null,{"$f":"'Bordereau versement A'!E155","v":0},{"$f":"'Bordereau versement A'!F155","v":0},{"$f":"'Bordereau versement A'!G155","v":0},{"$f":"'Bordereau versement A'!H155","v":0},{"$f":"'Bordereau versement A'!I155","v":0}]
[{"$f":"'Bordereau versement A'!A156:D156","v":0},null,null,null,{"$f":"'Bordereau versement A'!E156","v":0},{"$f":"'Bordereau versement A'!F156","v":0},{"$f":"'Bordereau versement A'!G156","v":0},{"$f":"'Bordereau versement A'!H156","v":0},{"$f":"'Bordereau versement A'!I156","v":0}]
[{"$f":"'Bordereau versement A'!A157:D157","v":0},null,null,null,{"$f":"'Bordereau versement A'!E157","v":0},{"$f":"'Bordereau versement A'!F157","v":0},{"$f":"'Bordereau versement A'!G157","v":0},{"$f":"'Bordereau versement A'!H157","v":0},{"$f":"'Bordereau versement A'!I157","v":0}]
[{"$f":"'Bordereau versement A'!A158:D158","v":0},null,null,null,{"$f":"'Bordereau versement A'!E158","v":0},{"$f":"'Bordereau versement A'!F158","v":0},{"$f":"'Bordereau versement A'!G158","v":0},{"$f":"'Bordereau versement A'!H158","v":0},{"$f":"'Bordereau versement A'!I158","v":0}]
[{"$f":"'Bordereau versement A'!A159:D159","v":0},null,null,null,{"$f":"'Bordereau versement A'!E159","v":0},{"$f":"'Bordereau versement A'!F159","v":0},{"$f":"'Bordereau versement A'!G159","v":0},{"$f":"'Bordereau versement A'!H159","v":0},{"$f":"'Bordereau versement A'!I159","v":0}]
[{"$f":"'Bordereau versement A'!A160:D160","v":0},null,null,null,{"$f":"'Bordereau versement A'!E160","v":0},{"$f":"'Bordereau versement A'!F160","v":0},{"$f":"'Bordereau versement A'!G160","v":0},{"$f":"'Bordereau versement A'!H160","v":0},{"$f":"'Bordereau versement A'!I160","v":0}]
[{"$f":"'Bordereau versement A'!A161:D161","v":0},null,null,null,{"$f":"'Bordereau versement A'!E161","v":0},{"$f":"'Bordereau versement A'!F161","v":0},{"$f":"'Bordereau versement A'!G161","v":0},{"$f":"'Bordereau versement A'!H161","v":0},{"$f":"'Bordereau versement A'!I161","v":0}]
[{"$f":"'Bordereau versement A'!A162:D162","v":0},null,null,null,{"$f":"'Bordereau versement A'!E162","v":0},{"$f":"'Bordereau versement A'!F162","v":0},{"$f":"'Bordereau versement A'!G162","v":0},{"$f":"'Bordereau versement A'!H162","v":0},{"$f":"'Bordereau versement A'!I162","v":0}]
[{"$f":"'Bordereau versement A'!A163:D163","v":0},null,null,null,{"$f":"'Bordereau versement A'!E163","v":0},{"$f":"'Bordereau versement A'!F163","v":0},{"$f":"'Bordereau versement A'!G163","v":0},{"$f":"'Bordereau versement A'!H163","v":0},{"$f":"'Bordereau versement A'!I163","v":0}]
[{"$f":"'Bordereau versement A'!A164:D164","v":0},null,null,null,{"$f":"'Bordereau versement A'!E164","v":0},{"$f":"'Bordereau versement A'!F164","v":0},{"$f":"'Bordereau versement A'!G164","v":0},{"$f":"'Bordereau versement A'!H164","v":0},{"$f":"'Bordereau versement A'!I164","v":0}]
[{"$f":"'Bordereau versement A'!A165:D165","v":0},null,null,null,{"$f":"'Bordereau versement A'!E165","v":0},{"$f":"'Bordereau versement A'!F165","v":0},{"$f":"'Bordereau versement A'!G165","v":0},{"$f":"'Bordereau versement A'!H165","v":0},{"$f":"'Bordereau versement A'!I165","v":0}]
[{"$f":"'Bordereau versement A'!A166:D166","v":0},null,null,null,{"$f":"'Bordereau versement A'!E166","v":0},{"$f":"'Bordereau versement A'!F166","v":0},{"$f":"'Bordereau versement A'!G166","v":0},{"$f":"'Bordereau versement A'!H166","v":0},{"$f":"'Bordereau versement A'!I166","v":0}]
[{"$f":"'Bordereau versement A'!A167:D167","v":0},null,null,null,{"$f":"'Bordereau versement A'!E167","v":0},{"$f":"'Bordereau versement A'!F167","v":0},{"$f":"'Bordereau versement A'!G167","v":0},{"$f":"'Bordereau versement A'!H167","v":0},{"$f":"'Bordereau versement A'!I167","v":0}]
[{"$f":"'Bordereau versement A'!A168:D168","v":0},null,null,null,{"$f":"'Bordereau versement A'!E168","v":0},{"$f":"'Bordereau versement A'!F168","v":0},{"$f":"'Bordereau versement A'!G168","v":0},{"$f":"'Bordereau versement A'!H168","v":0},{"$f":"'Bordereau versement A'!I168","v":0}]
[{"$f":"'Bordereau versement A'!A169:D169","v":0},null,null,null,{"$f":"'Bordereau versement A'!E169","v":0},{"$f":"'Bordereau versement A'!F169","v":0},{"$f":"'Bordereau versement A'!G169","v":0},{"$f":"'Bordereau versement A'!H169","v":0},{"$f":"'Bordereau versement A'!I169","v":0}]
[{"$f":"'Bordereau versement A'!A170:D170","v":0},null,null,null,{"$f":"'Bordereau versement A'!E170","v":0},{"$f":"'Bordereau versement A'!F170","v":0},{"$f":"'Bordereau versement A'!G170","v":0},{"$f":"'Bordereau versement A'!H170","v":0},{"$f":"'Bordereau versement A'!I170","v":0}]
[{"$f":"'Bordereau versement A'!A171:D171","v":0},null,null,null,{"$f":"'Bordereau versement A'!E171","v":0},{"$f":"'Bordereau versement A'!F171","v":0},{"$f":"'Bordereau versement A'!G171","v":0},{"$f":"'Bordereau versement A'!H171","v":0},{"$f":"'Bordereau versement A'!I171","v":0}]
[{"$f":"'Bordereau versement A'!A172:D172","v":0},null,null,null,{"$f":"'Bordereau versement A'!E172","v":0},{"$f":"'Bordereau versement A'!F172","v":0},{"$f":"'Bordereau versement A'!G172","v":0},{"$f":"'Bordereau versement A'!H172","v":0},{"$f":"'Bordereau versement A'!I172","v":0}]
[{"$f":"'Bordereau versement A'!A173:D173","v":0},null,null,null,{"$f":"'Bordereau versement A'!E173","v":0},{"$f":"'Bordereau versement A'!F173","v":0},{"$f":"'Bordereau versement A'!G173","v":0},{"$f":"'Bordereau versement A'!H173","v":0},{"$f":"'Bordereau versement A'!I173","v":0}]
[{"$f":"'Bordereau versement A'!A174:D174","v":0},null,null,null,{"$f":"'Bordereau versement A'!E174","v":0},{"$f":"'Bordereau versement A'!F174","v":0},{"$f":"'Bordereau versement A'!G174","v":0},{"$f":"'Bordereau versement A'!H174","v":0},{"$f":"'Bordereau versement A'!I174","v":0}]
[{"$f":"'Bordereau versement A'!A175:D175","v":0},null,null,null,{"$f":"'Bordereau versement A'!E175","v":0},{"$f":"'Bordereau versement A'!F175","v":0},{"$f":"'Bordereau versement A'!G175","v":0},{"$f":"'Bordereau versement A'!H175","v":0},{"$f":"'Bordereau versement A'!I175","v":0}]
[{"$f":"'Bordereau versement A'!A176:D176","v":0},null,null,null,{"$f":"'Bordereau versement A'!E176","v":0},{"$f":"'Bordereau versement A'!F176","v":0},{"$f":"'Bordereau versement A'!G176","v":0},{"$f":"'Bordereau versement A'!H176","v":0},{"$f":"'Bordereau versement A'!I176","v":0}]
[{"$f":"'Bordereau versement A'!A177:D177","v":0},null,null,null,{"$f":"'Bordereau versement A'!E177","v":0},{"$f":"'Bordereau versement A'!F177","v":0},{"$f":"'Bordereau versement A'!G177","v":0},{"$f":"'Bordereau versement A'!H177","v":0},{"$f":"'Bordereau versement A'!I177","v":0}]
[{"$f":"'Bordereau versement A'!A178:D178","v":0},null,null,null,{"$f":"'Bordereau versement A'!E178","v":0},{"$f":"'Bordereau versement A'!F178","v":0},{"$f":"'Bordereau versement A'!G178","v":0},{"$f":"'Bordereau versement A'!H178","v":0},{"$f":"'Bordereau versement A'!I178","v":0}]
[{"$f":"'Bordereau versement A'!A179:D179","v":0},null,null,null,{"$f":"'Bordereau versement A'!E179","v":0},{"$f":"'Bordereau versement A'!F179","v":0},{"$f":"'Bordereau versement A'!G179","v":0},{"$f":"'Bordereau versement A'!H179","v":0},{"$f":"'Bordereau versement A'!I179","v":0}]
[{"$f":"'Bordereau versement A'!A180:D180","v":0},null,null,null,{"$f":"'Bordereau versement A'!E180","v":0},{"$f":"'Bordereau versement A'!F180","v":0},{"$f":"'Bordereau versement A'!G180","v":0},{"$f":"'Bordereau versement A'!H180","v":0},{"$f":"'Bordereau versement A'!I180","v":0}]
[{"$f":"'Bordereau versement A'!A181:D181","v":0},null,null,null,{"$f":"'Bordereau versement A'!E181","v":0},{"$f":"'Bordereau versement A'!F181","v":0},{"$f":"'Bordereau versement A'!G181","v":0},{"$f":"'Bordereau versement A'!H181","v":0},{"$f":"'Bordereau versement A'!I181","v":0}]
[{"$f":"'Bordereau versement A'!A182:D182","v":0},null,null,null,{"$f":"'Bordereau versement A'!E182","v":0},{"$f":"'Bordereau versement A'!F182","v":0},{"$f":"'Bordereau versement A'!G182","v":0},{"$f":"'Bordereau versement A'!H182","v":0},{"$f":"'Bordereau versement A'!I182","v":0}]
[{"$f":"'Bordereau versement A'!A183:D183","v":0},null,null,null,{"$f":"'Bordereau versement A'!E183","v":0},{"$f":"'Bordereau versement A'!F183","v":0},{"$f":"'Bordereau versement A'!G183","v":0},{"$f":"'Bordereau versement A'!H183","v":0},{"$f":"'Bordereau versement A'!I183","v":0}]
[{"$f":"'Bordereau versement A'!A184:D184","v":0},null,null,null,{"$f":"'Bordereau versement A'!E184","v":0},{"$f":"'Bordereau versement A'!F184","v":0},{"$f":"'Bordereau versement A'!G184","v":0},{"$f":"'Bordereau versement A'!H184","v":0},{"$f":"'Bordereau versement A'!I184","v":0}]
[{"$f":"'Bordereau versement A'!A185:D185","v":0},null,null,null,{"$f":"'Bordereau versement A'!E185","v":0},{"$f":"'Bordereau versement A'!F185","v":0},{"$f":"'Bordereau versement A'!G185","v":0},{"$f":"'Bordereau versement A'!H185","v":0},{"$f":"'Bordereau versement A'!I185","v":0}]
[{"$f":"'Bordereau versement A'!A186:D186","v":0},null,null,null,{"$f":"'Bordereau versement A'!E186","v":0},{"$f":"'Bordereau versement A'!F186","v":0},{"$f":"'Bordereau versement A'!G186","v":0},{"$f":"'Bordereau versement A'!H186","v":0},{"$f":"'Bordereau versement A'!I186","v":0}]
[{"$f":"'Bordereau versement A'!A187:D187","v":0},null,null,null,{"$f":"'Bordereau versement A'!E187","v":0},{"$f":"'Bordereau versement A'!F187","v":0},{"$f":"'Bordereau versement A'!G187","v":0},{"$f":"'Bordereau versement A'!H187","v":0},{"$f":"'Bordereau versement A'!I187","v":0}]
[{"$f":"'Bordereau versement A'!A188:D188","v":0},null,null,null,{"$f":"'Bordereau versement A'!E188","v":0},{"$f":"'Bordereau versement A'!F188","v":0},{"$f":"'Bordereau versement A'!G188","v":0},{"$f":"'Bordereau versement A'!H188","v":0},{"$f":"'Bordereau versement A'!I188","v":0}]
[{"$f":"'Bordereau versement A'!A189:D189","v":0},null,null,null,{"$f":"'Bordereau versement A'!E189","v":0},{"$f":"'Bordereau versement A'!F189","v":0},{"$f":"'Bordereau versement A'!G189","v":0},{"$f":"'Bordereau versement A'!H189","v":0},{"$f":"'Bordereau versement A'!I189","v":0}]
[{"$f":"'Bordereau versement A'!A190:D190","v":0},null,null,null,{"$f":"'Bordereau versement A'!E190","v":0},{"$f":"'Bordereau versement A'!F190","v":0},{"$f":"'Bordereau versement A'!G190","v":0},{"$f":"'Bordereau versement A'!H190","v":0},{"$f":"'Bordereau versement A'!I190","v":0}]
[{"$f":"'Bordereau versement A'!A191:D191","v":0},null,null,null,{"$f":"'Bordereau versement A'!E191","v":0},{"$f":"'Bordereau versement A'!F191","v":0},{"$f":"'Bordereau versement A'!G191","v":0},{"$f":"'Bordereau versement A'!H191","v":0},{"$f":"'Bordereau versement A'!I191","v":0}]
[{"$f":"'Bordereau versement A'!A192:D192","v":0},null,null,null,{"$f":"'Bordereau versement A'!E192","v":0},{"$f":"'Bordereau versement A'!F192","v":0},{"$f":"'Bordereau versement A'!G192","v":0},{"$f":"'Bordereau versement A'!H192","v":0},{"$f":"'Bordereau versement A'!I192","v":0}]
[{"$f":"'Bordereau versement A'!A193:D193","v":0},null,null,null,{"$f":"'Bordereau versement A'!E193","v":0},{"$f":"'Bordereau versement A'!F193","v":0},{"$f":"'Bordereau versement A'!G193","v":0},{"$f":"'Bordereau versement A'!H193","v":0},{"$f":"'Bordereau versement A'!I193","v":0}]
[{"$f":"'Bordereau versement A'!A194:D194","v":0},null,null,null,{"$f":"'Bordereau versement A'!E194","v":0},{"$f":"'Bordereau versement A'!F194","v":0},{"$f":"'Bordereau versement A'!G194","v":0},{"$f":"'Bordereau versement A'!H194","v":0},{"$f":"'Bordereau versement A'!I194","v":0}]
[{"$f":"'Bordereau versement A'!A195:D195","v":0},null,null,null,{"$f":"'Bordereau versement A'!E195","v":0},{"$f":"'Bordereau versement A'!F195","v":0},{"$f":"'Bordereau versement A'!G195","v":0},{"$f":"'Bordereau versement A'!H195","v":0},{"$f":"'Bordereau versement A'!I195","v":0}]
[{"$f":"'Bordereau versement A'!A196:D196","v":0},null,null,null,{"$f":"'Bordereau versement A'!E196","v":0},{"$f":"'Bordereau versement A'!F196","v":0},{"$f":"'Bordereau versement A'!G196","v":0},{"$f":"'Bordereau versement A'!H196","v":0},{"$f":"'Bordereau versement A'!I196","v":0}]
[{"$f":"'Bordereau versement A'!A197:D197","v":0},null,null,null,{"$f":"'Bordereau versement A'!E197","v":0},{"$f":"'Bordereau versement A'!F197","v":0},{"$f":"'Bordereau versement A'!G197","v":0},{"$f":"'Bordereau versement A'!H197","v":0},{"$f":"'Bordereau versement A'!I197","v":0}]
[{"$f":"'Bordereau versement A'!A198:D198","v":0},null,null,null,{"$f":"'Bordereau versement A'!E198","v":0},{"$f":"'Bordereau versement A'!F198","v":0},{"$f":"'Bordereau versement A'!G198","v":0},{"$f":"'Bordereau versement A'!H198","v":0},{"$f":"'Bordereau versement A'!I198","v":0}]
[{"$f":"'Bordereau versement A'!A199:D199","v":0},null,null,null,{"$f":"'Bordereau versement A'!E199","v":0},{"$f":"'Bordereau versement A'!F199","v":0},{"$f":"'Bordereau versement A'!G199","v":0},{"$f":"'Bordereau versement A'!H199","v":0},{"$f":"'Bordereau versement A'!I199","v":0}]
[{"$f":"'Bordereau versement A'!A200:D200","v":0},null,null,null,{"$f":"'Bordereau versement A'!E200","v":0},{"$f":"'Bordereau versement A'!F200","v":0},{"$f":"'Bordereau versement A'!G200","v":0},{"$f":"'Bordereau versement A'!H200","v":0},{"$f":"'Bordereau versement A'!I200","v":0}]
[{"$f":"'Bordereau versement A'!A201:D201","v":0},null,null,null,{"$f":"'Bordereau versement A'!E201","v":0},{"$f":"'Bordereau versement A'!F201","v":0},{"$f":"'Bordereau versement A'!G201","v":0},{"$f":"'Bordereau versement A'!H201","v":0},{"$f":"'Bordereau versement A'!I201","v":0}]
[{"$f":"'Bordereau versement A'!A202:D202","v":0},null,null,null,{"$f":"'Bordereau versement A'!E202","v":0},{"$f":"'Bordereau versement A'!F202","v":0},{"$f":"'Bordereau versement A'!G202","v":0},{"$f":"'Bordereau versement A'!H202","v":0},{"$f":"'Bordereau versement A'!I202","v":0}]
[{"$f":"'Bordereau versement A'!A203:D203","v":0},null,null,null,{"$f":"'Bordereau versement A'!E203","v":0},{"$f":"'Bordereau versement A'!F203","v":0},{"$f":"'Bordereau versement A'!G203","v":0},{"$f":"'Bordereau versement A'!H203","v":0},{"$f":"'Bordereau versement A'!I203","v":0}]
[{"$f":"'Bordereau versement A'!A204:D204","v":0},null,null,null,{"$f":"'Bordereau versement A'!E204","v":0},{"$f":"'Bordereau versement A'!F204","v":0},{"$f":"'Bordereau versement A'!G204","v":0},{"$f":"'Bordereau versement A'!H204","v":0},{"$f":"'Bordereau versement A'!I204","v":0}]
[{"$f":"'Bordereau versement A'!A205:D205","v":0},null,null,null,{"$f":"'Bordereau versement A'!E205","v":0},{"$f":"'Bordereau versement A'!F205","v":0},{"$f":"'Bordereau versement A'!G205","v":0},{"$f":"'Bordereau versement A'!H205","v":0},{"$f":"'Bordereau versement A'!I205","v":0}]
[{"$f":"'Bordereau versement A'!A206:D206","v":0},null,null,null,{"$f":"'Bordereau versement A'!E206","v":0},{"$f":"'Bordereau versement A'!F206","v":0},{"$f":"'Bordereau versement A'!G206","v":0},{"$f":"'Bordereau versement A'!H206","v":0},{"$f":"'Bordereau versement A'!I206","v":0}]
[{"$f":"'Bordereau versement A'!A207:D207","v":0},null,null,null,{"$f":"'Bordereau versement A'!E207","v":0},{"$f":"'Bordereau versement A'!F207","v":0},{"$f":"'Bordereau versement A'!G207","v":0},{"$f":"'Bordereau versement A'!H207","v":0},{"$f":"'Bordereau versement A'!I207","v":0}]
[{"$f":"'Bordereau versement A'!A208:D208","v":0},null,null,null,{"$f":"'Bordereau versement A'!E208","v":0},{"$f":"'Bordereau versement A'!F208","v":0},{"$f":"'Bordereau versement A'!G208","v":0},{"$f":"'Bordereau versement A'!H208","v":0},{"$f":"'Bordereau versement A'!I208","v":0}]
[{"$f":"'Bordereau versement A'!A209:D209","v":0},null,null,null,{"$f":"'Bordereau versement A'!E209","v":0},{"$f":"'Bordereau versement A'!F209","v":0},{"$f":"'Bordereau versement A'!G209","v":0},{"$f":"'Bordereau versement A'!H209","v":0},{"$f":"'Bordereau versement A'!I209","v":0}]
[{"$f":"'Bordereau versement A'!A210:D210","v":0},null,null,null,{"$f":"'Bordereau versement A'!E210","v":0},{"$f":"'Bordereau versement A'!F210","v":0},{"$f":"'Bordereau versement A'!G210","v":0},{"$f":"'Bordereau versement A'!H210","v":0},{"$f":"'Bordereau versement A'!I210","v":0}]
[{"$f":"'Bordereau versement A'!A211:D211","v":0},null,null,null,{"$f":"'Bordereau versement A'!E211","v":0},{"$f":"'Bordereau versement A'!F211","v":0},{"$f":"'Bordereau versement A'!G211","v":0},{"$f":"'Bordereau versement A'!H211","v":0},{"$f":"'Bordereau versement A'!I211","v":0}]
[{"$f":"'Bordereau versement A'!A212:D212","v":0},null,null,null,{"$f":"'Bordereau versement A'!E212","v":0},{"$f":"'Bordereau versement A'!F212","v":0},{"$f":"'Bordereau versement A'!G212","v":0},{"$f":"'Bordereau versement A'!H212","v":0},{"$f":"'Bordereau versement A'!I212","v":0}]
[{"$f":"'Bordereau versement A'!A213:D213","v":0},null,null,null,{"$f":"'Bordereau versement A'!E213","v":0},{"$f":"'Bordereau versement A'!F213","v":0},{"$f":"'Bordereau versement A'!G213","v":0},{"$f":"'Bordereau versement A'!H213","v":0},{"$f":"'Bordereau versement A'!I213","v":0}]
[{"$f":"'Bordereau versement A'!A214:D214","v":0},null,null,null,{"$f":"'Bordereau versement A'!E214","v":0},{"$f":"'Bordereau versement A'!F214","v":0},{"$f":"'Bordereau versement A'!G214","v":0},{"$f":"'Bordereau versement A'!H214","v":0},{"$f":"'Bordereau versement A'!I214","v":0}]
[{"$f":"'Bordereau versement A'!A215:D215","v":0},null,null,null,{"$f":"'Bordereau versement A'!E215","v":0},{"$f":"'Bordereau versement A'!F215","v":0},{"$f":"'Bordereau versement A'!G215","v":0},{"$f":"'Bordereau versement A'!H215","v":0},{"$f":"'Bordereau versement A'!I215","v":0}]
[{"$f":"'Bordereau versement A'!A216:D216","v":0},null,null,null,{"$f":"'Bordereau versement A'!E216","v":0},{"$f":"'Bordereau versement A'!F216","v":0},{"$f":"'Bordereau versement A'!G216","v":0},{"$f":"'Bordereau versement A'!H216","v":0},{"$f":"'Bordereau versement A'!I216","v":0}]
[{"$f":"'Bordereau versement A'!A217:D217","v":0},null,null,null,{"$f":"'Bordereau versement A'!E217","v":0},{"$f":"'Bordereau versement A'!F217","v":0},{"$f":"'Bordereau versement A'!G217","v":0},{"$f":"'Bordereau versement A'!H217","v":0},{"$f":"'Bordereau versement A'!I217","v":0}]
[{"$f":"'Bordereau versement A'!A218:D218","v":0},null,null,null,{"$f":"'Bordereau versement A'!E218","v":0},{"$f":"'Bordereau versement A'!F218","v":0},{"$f":"'Bordereau versement A'!G218","v":0},{"$f":"'Bordereau versement A'!H218","v":0},{"$f":"'Bordereau versement A'!I218","v":0}]
[{"$f":"'Bordereau versement A'!A219:D219","v":0},null,null,null,{"$f":"'Bordereau versement A'!E219","v":0},{"$f":"'Bordereau versement A'!F219","v":0},{"$f":"'Bordereau versement A'!G219","v":0},{"$f":"'Bordereau versement A'!H219","v":0},{"$f":"'Bordereau versement A'!I219","v":0}]
[{"$f":"'Bordereau versement A'!A220:D220","v":0},null,null,null,{"$f":"'Bordereau versement A'!E220","v":0},{"$f":"'Bordereau versement A'!F220","v":0},{"$f":"'Bordereau versement A'!G220","v":0},{"$f":"'Bordereau versement A'!H220","v":0},{"$f":"'Bordereau versement A'!I220","v":0}]
[{"$f":"'Bordereau versement A'!A221:D221","v":0},null,null,null,{"$f":"'Bordereau versement A'!E221","v":0},{"$f":"'Bordereau versement A'!F221","v":0},{"$f":"'Bordereau versement A'!G221","v":0},{"$f":"'Bordereau versement A'!H221","v":0},{"$f":"'Bordereau versement A'!I221","v":0}]
[{"$f":"'Bordereau versement A'!A222:D222","v":0},null,null,null,{"$f":"'Bordereau versement A'!E222","v":0},{"$f":"'Bordereau versement A'!F222","v":0},{"$f":"'Bordereau versement A'!G222","v":0},{"$f":"'Bordereau versement A'!H222","v":0},{"$f":"'Bordereau versement A'!I222","v":0}]
[{"$f":"'Bordereau versement A'!A223:D223","v":0},null,null,null,{"$f":"'Bordereau versement A'!E223","v":0},{"$f":"'Bordereau versement A'!F223","v":0},{"$f":"'Bordereau versement A'!G223","v":0},{"$f":"'Bordereau versement A'!H223","v":0},{"$f":"'Bordereau versement A'!I223","v":0}]
[{"$f":"'Bordereau versement A'!A224:D224","v":0},null,null,null,{"$f":"'Bordereau versement A'!E224","v":0},{"$f":"'Bordereau versement A'!F224","v":0},{"$f":"'Bordereau versement A'!G224","v":0},{"$f":"'Bordereau versement A'!H224","v":0},{"$f":"'Bordereau versement A'!I224","v":0}]
[{"$f":"'Bordereau versement A'!A225:D225","v":0},null,null,null,{"$f":"'Bordereau versement A'!E225","v":0},{"$f":"'Bordereau versement A'!F225","v":0},{"$f":"'Bordereau versement A'!G225","v":0},{"$f":"'Bordereau versement A'!H225","v":0},{"$f":"'Bordereau versement A'!I225","v":0}]
[{"$f":"'Bordereau versement A'!A226:D226","v":0},null,null,null,{"$f":"'Bordereau versement A'!E226","v":0},{"$f":"'Bordereau versement A'!F226","v":0},{"$f":"'Bordereau versement A'!G226","v":0},{"$f":"'Bordereau versement A'!H226","v":0},{"$f":"'Bordereau versement A'!I226","v":0}]
[{"$f":"'Bordereau versement A'!A227:D227","v":0},null,null,null,{"$f":"'Bordereau versement A'!E227","v":0},{"$f":"'Bordereau versement A'!F227","v":0},{"$f":"'Bordereau versement A'!G227","v":0},{"$f":"'Bordereau versement A'!H227","v":0},{"$f":"'Bordereau versement A'!I227","v":0}]
[{"$f":"'Bordereau versement A'!A228:D228","v":0},null,null,null,{"$f":"'Bordereau versement A'!E228","v":0},{"$f":"'Bordereau versement A'!F228","v":0},{"$f":"'Bordereau versement A'!G228","v":0},{"$f":"'Bordereau versement A'!H228","v":0},{"$f":"'Bordereau versement A'!I228","v":0}]
[{"$f":"'Bordereau versement A'!A229:D229","v":0},null,null,null,{"$f":"'Bordereau versement A'!E229","v":0},{"$f":"'Bordereau versement A'!F229","v":0},{"$f":"'Bordereau versement A'!G229","v":0},{"$f":"'Bordereau versement A'!H229","v":0},{"$f":"'Bordereau versement A'!I229","v":0}]
[{"$f":"'Bordereau versement A'!A230:D230","v":0},null,null,null,{"$f":"'Bordereau versement A'!E230","v":0},{"$f":"'Bordereau versement A'!F230","v":0},{"$f":"'Bordereau versement A'!G230","v":0},{"$f":"'Bordereau versement A'!H230","v":0},{"$f":"'Bordereau versement A'!I230","v":0}]
[{"$f":"'Bordereau versement A'!A231:D231","v":0},null,null,null,{"$f":"'Bordereau versement A'!E231","v":0},{"$f":"'Bordereau versement A'!F231","v":0},{"$f":"'Bordereau versement A'!G231","v":0},{"$f":"'Bordereau versement A'!H231","v":0},{"$f":"'Bordereau versement A'!I231","v":0}]
[{"$f":"'Bordereau versement A'!A232:D232","v":0},null,null,null,{"$f":"'Bordereau versement A'!E232","v":0},{"$f":"'Bordereau versement A'!F232","v":0},{"$f":"'Bordereau versement A'!G232","v":0},{"$f":"'Bordereau versement A'!H232","v":0},{"$f":"'Bordereau versement A'!I232","v":0}]
[{"$f":"'Bordereau versement A'!A233:D233","v":0},null,null,null,{"$f":"'Bordereau versement A'!E233","v":0},{"$f":"'Bordereau versement A'!F233","v":0},{"$f":"'Bordereau versement A'!G233","v":0},{"$f":"'Bordereau versement A'!H233","v":0},{"$f":"'Bordereau versement A'!I233","v":0}]
[{"$f":"'Bordereau versement A'!A234:D234","v":0},null,null,null,{"$f":"'Bordereau versement A'!E234","v":0},{"$f":"'Bordereau versement A'!F234","v":0},{"$f":"'Bordereau versement A'!G234","v":0},{"$f":"'Bordereau versement A'!H234","v":0},{"$f":"'Bordereau versement A'!I234","v":0}]
[{"$f":"'Bordereau versement A'!A235:D235","v":0},null,null,null,{"$f":"'Bordereau versement A'!E235","v":0},{"$f":"'Bordereau versement A'!F235","v":0},{"$f":"'Bordereau versement A'!G235","v":0},{"$f":"'Bordereau versement A'!H235","v":0},{"$f":"'Bordereau versement A'!I235","v":0}]
[{"$f":"'Bordereau versement A'!A236:D236","v":0},null,null,null,{"$f":"'Bordereau versement A'!E236","v":0},{"$f":"'Bordereau versement A'!F236","v":0},{"$f":"'Bordereau versement A'!G236","v":0},{"$f":"'Bordereau versement A'!H236","v":0},{"$f":"'Bordereau versement A'!I236","v":0}]
[{"$f":"'Bordereau versement A'!A237:D237","v":0},null,null,null,{"$f":"'Bordereau versement A'!E237","v":0},{"$f":"'Bordereau versement A'!F237","v":0},{"$f":"'Bordereau versement A'!G237","v":0},{"$f":"'Bordereau versement A'!H237","v":0},{"$f":"'Bordereau versement A'!I237","v":0}]
[{"$f":"'Bordereau versement A'!A238:D238","v":0},null,null,null,{"$f":"'Bordereau versement A'!E238","v":0},{"$f":"'Bordereau versement A'!F238","v":0},{"$f":"'Bordereau versement A'!G238","v":0},{"$f":"'Bordereau versement A'!H238","v":0},{"$f":"'Bordereau versement A'!I238","v":0}]
[{"$f":"'Bordereau versement A'!A239:D239","v":0},null,null,null,{"$f":"'Bordereau versement A'!E239","v":0},{"$f":"'Bordereau versement A'!F239","v":0},{"$f":"'Bordereau versement A'!G239","v":0},{"$f":"'Bordereau versement A'!H239","v":0},{"$f":"'Bordereau versement A'!I239","v":0}]
[{"$f":"'Bordereau versement A'!A240:D240","v":0},null,null,null,{"$f":"'Bordereau versement A'!E240","v":0},{"$f":"'Bordereau versement A'!F240","v":0},{"$f":"'Bordereau versement A'!G240","v":0},{"$f":"'Bordereau versement A'!H240","v":0},{"$f":"'Bordereau versement A'!I240","v":0}]
[{"$f":"'Bordereau versement A'!A241:D241","v":0},null,null,null,{"$f":"'Bordereau versement A'!E241","v":0},{"$f":"'Bordereau versement A'!F241","v":0},{"$f":"'Bordereau versement A'!G241","v":0},{"$f":"'Bordereau versement A'!H241","v":0},{"$f":"'Bordereau versement A'!I241","v":0}]
[{"$f":"'Bordereau versement A'!A242:D242","v":0},null,null,null,{"$f":"'Bordereau versement A'!E242","v":0},{"$f":"'Bordereau versement A'!F242","v":0},{"$f":"'Bordereau versement A'!G242","v":0},{"$f":"'Bordereau versement A'!H242","v":0},{"$f":"'Bordereau versement A'!I242","v":0}]
[{"$f":"'Bordereau versement A'!A243:D243","v":0},null,null,null,{"$f":"'Bordereau versement A'!E243","v":0},{"$f":"'Bordereau versement A'!F243","v":0},{"$f":"'Bordereau versement A'!G243","v":0},{"$f":"'Bordereau versement A'!H243","v":0},{"$f":"'Bordereau versement A'!I243","v":0}]
[{"$f":"'Bordereau versement A'!A244:D244","v":0},null,null,null,{"$f":"'Bordereau versement A'!E244","v":0},{"$f":"'Bordereau versement A'!F244","v":0},{"$f":"'Bordereau versement A'!G244","v":0},{"$f":"'Bordereau versement A'!H244","v":0},{"$f":"'Bordereau versement A'!I244","v":0}]
[{"$f":"'Bordereau versement A'!A245:D245","v":0},null,null,null,{"$f":"'Bordereau versement A'!E245","v":0},{"$f":"'Bordereau versement A'!F245","v":0},{"$f":"'Bordereau versement A'!G245","v":0},{"$f":"'Bordereau versement A'!H245","v":0},{"$f":"'Bordereau versement A'!I245","v":0}]
[{"$f":"'Bordereau versement A'!A246:D246","v":0},null,null,null,{"$f":"'Bordereau versement A'!E246","v":0},{"$f":"'Bordereau versement A'!F246","v":0},{"$f":"'Bordereau versement A'!G246","v":0},{"$f":"'Bordereau versement A'!H246","v":0},{"$f":"'Bordereau versement A'!I246","v":0}]
[{"$f":"'Bordereau versement A'!A247:D247","v":0},null,null,null,{"$f":"'Bordereau versement A'!E247","v":0},{"$f":"'Bordereau versement A'!F247","v":0},{"$f":"'Bordereau versement A'!G247","v":0},{"$f":"'Bordereau versement A'!H247","v":0},{"$f":"'Bordereau versement A'!I247","v":0}]
[{"$f":"'Bordereau versement A'!A248:D248","v":0},null,null,null,{"$f":"'Bordereau versement A'!E248","v":0},{"$f":"'Bordereau versement A'!F248","v":0},{"$f":"'Bordereau versement A'!G248","v":0},{"$f":"'Bordereau versement A'!H248","v":0},{"$f":"'Bordereau versement A'!I248","v":0}]
[{"$f":"'Bordereau versement A'!A249:D249","v":0},null,null,null,{"$f":"'Bordereau versement A'!E249","v":0},{"$f":"'Bordereau versement A'!F249","v":0},{"$f":"'Bordereau versement A'!G249","v":0},{"$f":"'Bordereau versement A'!H249","v":0},{"$f":"'Bordereau versement A'!I249","v":0}]
[{"$f":"'Bordereau versement A'!A250:D250","v":0},null,null,null,{"$f":"'Bordereau versement A'!E250","v":0},{"$f":"'Bordereau versement A'!F250","v":0},{"$f":"'Bordereau versement A'!G250","v":0},{"$f":"'Bordereau versement A'!H250","v":0},{"$f":"'Bordereau versement A'!I250","v":0}]
[{"$f":"'Bordereau versement A'!A251:D251","v":0},null,null,null,{"$f":"'Bordereau versement A'!E251","v":0},{"$f":"'Bordereau versement A'!F251","v":0},{"$f":"'Bordereau versement A'!G251","v":0},{"$f":"'Bordereau versement A'!H251","v":0},{"$f":"'Bordereau versement A'!I251","v":0}]
[{"$f":"'Bordereau versement A'!A252:D252","v":0},null,null,null,{"$f":"'Bordereau versement A'!E252","v":0},{"$f":"'Bordereau versement A'!F252","v":0},{"$f":"'Bordereau versement A'!G252","v":0},{"$f":"'Bordereau versement A'!H252","v":0},{"$f":"'Bordereau versement A'!I252","v":0}]
[{"$f":"'Bordereau versement A'!A253:D253","v":0},null,null,null,{"$f":"'Bordereau versement A'!E253","v":0},{"$f":"'Bordereau versement A'!F253","v":0},{"$f":"'Bordereau versement A'!G253","v":0},{"$f":"'Bordereau versement A'!H253","v":0},{"$f":"'Bordereau versement A'!I253","v":0}]
[{"$f":"'Bordereau versement A'!A254:D254","v":0},null,null,null,{"$f":"'Bordereau versement A'!E254","v":0},{"$f":"'Bordereau versement A'!F254","v":0},{"$f":"'Bordereau versement A'!G254","v":0},{"$f":"'Bordereau versement A'!H254","v":0},{"$f":"'Bordereau versement A'!I254","v":0}]
[{"$f":"'Bordereau versement A'!A255:D255","v":0},null,null,null,{"$f":"'Bordereau versement A'!E255","v":0},{"$f":"'Bordereau versement A'!F255","v":0},{"$f":"'Bordereau versement A'!G255","v":0},{"$f":"'Bordereau versement A'!H255","v":0},{"$f":"'Bordereau versement A'!I255","v":0}]
[{"$f":"'Bordereau versement A'!A256:D256","v":0},null,null,null,{"$f":"'Bordereau versement A'!E256","v":0},{"$f":"'Bordereau versement A'!F256","v":0},{"$f":"'Bordereau versement A'!G256","v":0},{"$f":"'Bordereau versement A'!H256","v":0},{"$f":"'Bordereau versement A'!I256","v":0}]
[{"$f":"'Bordereau versement A'!A257:D257","v":0},null,null,null,{"$f":"'Bordereau versement A'!E257","v":0},{"$f":"'Bordereau versement A'!F257","v":0},{"$f":"'Bordereau versement A'!G257","v":0},{"$f":"'Bordereau versement A'!H257","v":0},{"$f":"'Bordereau versement A'!I257","v":0}]
[{"$f":"'Bordereau versement A'!A258:D258","v":0},null,null,null,{"$f":"'Bordereau versement A'!E258","v":0},{"$f":"'Bordereau versement A'!F258","v":0},{"$f":"'Bordereau versement A'!G258","v":0},{"$f":"'Bordereau versement A'!H258","v":0},{"$f":"'Bordereau versement A'!I258","v":0}]
[{"$f":"'Bordereau versement A'!A259:D259","v":0},null,null,null,{"$f":"'Bordereau versement A'!E259","v":0},{"$f":"'Bordereau versement A'!F259","v":0},{"$f":"'Bordereau versement A'!G259","v":0},{"$f":"'Bordereau versement A'!H259","v":0},{"$f":"'Bordereau versement A'!I259","v":0}]
[{"$f":"'Bordereau versement A'!A260:D260","v":"Total A"},null,null,null,null,null,{"$f":"'Bordereau versement A'!G260","v":0},{"$f":"'Bordereau versement A'!H260","v":0},{"$f":"'Bordereau versement A'!I260","v":0}]
[]
[]
["B. Frais de service et frais d'inscription prélevés depuis le versement précédent, à l'exclusion des ajustements de la partie C"]
["                                                                                                          Nom, prénom de la RSG",null,null,null,"No d'identification","Raison du prélèvement",null,"Nombre de places aux fins du calcul","Nombre de mois pour lesquels les frais ont été prélevés","Frais de service comprenant les taxes","Frais d'inscription comprenant les taxes","Total comprenant les taxes","TPS","TVQ"]
[{"$f":"'Bordereau versement B'!A10:D10","v":0},null,null,null,{"$f":"'Bordereau versement B'!E10","v":0},{"$f":"'Bordereau versement B'!F10:G10","v":0},null,{"$f":"'Bordereau versement B'!H10","v":0},{"$f":"'Bordereau versement B'!I10","v":0},{"$f":"'Bordereau versement B'!J10","v":0},{"$f":"'Bordereau versement B'!K10","v":0},{"$f":"'Bordereau versement B'!L10","v":0},{"$f":"'Bordereau versement B'!M10","v":0},{"$f":"'Bordereau versement B'!N10","v":0}]
[{"$f":"'Bordereau versement B'!A11:D11","v":0},null,null,null,{"$f":"'Bordereau versement B'!E11","v":0},{"$f":"'Bordereau versement B'!F11:G11","v":0},null,{"$f":"'Bordereau versement B'!H11","v":0},{"$f":"'Bordereau versement B'!I11","v":0},{"$f":"'Bordereau versement B'!J11","v":0},{"$f":"'Bordereau versement B'!K11","v":0},{"$f":"'Bordereau versement B'!L11","v":0},{"$f":"'Bordereau versement B'!M11","v":0},{"$f":"'Bordereau versement B'!N11","v":0}]
[{"$f":"'Bordereau versement B'!A12:D12","v":0},null,null,null,{"$f":"'Bordereau versement B'!E12","v":0},{"$f":"'Bordereau versement B'!F12:G12","v":0},null,{"$f":"'Bordereau versement B'!H12","v":0},{"$f":"'Bordereau versement B'!I12","v":0},{"$f":"'Bordereau versement B'!J12","v":0},{"$f":"'Bordereau versement B'!K12","v":0},{"$f":"'Bordereau versement B'!L12","v":0},{"$f":"'Bordereau versement B'!M12","v":0},{"$f":"'Bordereau versement B'!N12","v":0}]
[{"$f":"'Bordereau versement B'!A13:D13","v":0},null,null,null,{"$f":"'Bordereau versement B'!E13","v":0},{"$f":"'Bordereau versement B'!F13:G13","v":0},null,{"$f":"'Bordereau versement B'!H13","v":0},{"$f":"'Bordereau versement B'!I13","v":0},{"$f":"'Bordereau versement B'!J13","v":0},{"$f":"'Bordereau versement B'!K13","v":0},{"$f":"'Bordereau versement B'!L13","v":0},{"$f":"'Bordereau versement B'!M13","v":0},{"$f":"'Bordereau versement B'!N13","v":0}]
[{"$f":"'Bordereau versement B'!A14:D14","v":0},null,null,null,{"$f":"'Bordereau versement B'!E14","v":0},{"$f":"'Bordereau versement B'!F14:G14","v":0},null,{"$f":"'Bordereau versement B'!H14","v":0},{"$f":"'Bordereau versement B'!I14","v":0},{"$f":"'Bordereau versement B'!J14","v":0},{"$f":"'Bordereau versement B'!K14","v":0},{"$f":"'Bordereau versement B'!L14","v":0},{"$f":"'Bordereau versement B'!M14","v":0},{"$f":"'Bordereau versement B'!N14","v":0}]
[{"$f":"'Bordereau versement B'!A15:D15","v":0},null,null,null,{"$f":"'Bordereau versement B'!E15","v":0},{"$f":"'Bordereau versement B'!F15:G15","v":0},null,{"$f":"'Bordereau versement B'!H15","v":0},{"$f":"'Bordereau versement B'!I15","v":0},{"$f":"'Bordereau versement B'!J15","v":0},{"$f":"'Bordereau versement B'!K15","v":0},{"$f":"'Bordereau versement B'!L15","v":0},{"$f":"'Bordereau versement B'!M15","v":0},{"$f":"'Bordereau versement B'!N15","v":0}]
[{"$f":"'Bordereau versement B'!A16:D16","v":0},null,null,null,{"$f":"'Bordereau versement B'!E16","v":0},{"$f":"'Bordereau versement B'!F16:G16","v":0},null,{"$f":"'Bordereau versement B'!H16","v":0},{"$f":"'Bordereau versement B'!I16","v":0},{"$f":"'Bordereau versement B'!J16","v":0},{"$f":"'Bordereau versement B'!K16","v":0},{"$f":"'Bordereau versement B'!L16","v":0},{"$f":"'Bordereau versement B'!M16","v":0},{"$f":"'Bordereau versement B'!N16","v":0}]
[{"$f":"'Bordereau versement B'!A17:D17","v":0},null,null,null,{"$f":"'Bordereau versement B'!E17","v":0},{"$f":"'Bordereau versement B'!F17:G17","v":0},null,{"$f":"'Bordereau versement B'!H17","v":0},{"$f":"'Bordereau versement B'!I17","v":0},{"$f":"'Bordereau versement B'!J17","v":0},{"$f":"'Bordereau versement B'!K17","v":0},{"$f":"'Bordereau versement B'!L17","v":0},{"$f":"'Bordereau versement B'!M17","v":0},{"$f":"'Bordereau versement B'!N17","v":0}]
[{"$f":"'Bordereau versement B'!A18:D18","v":0},null,null,null,{"$f":"'Bordereau versement B'!E18","v":0},{"$f":"'Bordereau versement B'!F18:G18","v":0},null,{"$f":"'Bordereau versement B'!H18","v":0},{"$f":"'Bordereau versement B'!I18","v":0},{"$f":"'Bordereau versement B'!J18","v":0},{"$f":"'Bordereau versement B'!K18","v":0},{"$f":"'Bordereau versement B'!L18","v":0},{"$f":"'Bordereau versement B'!M18","v":0},{"$f":"'Bordereau versement B'!N18","v":0}]
[{"$f":"'Bordereau versement B'!A19:D19","v":0},null,null,null,{"$f":"'Bordereau versement B'!E19","v":0},{"$f":"'Bordereau versement B'!F19:G19","v":0},null,{"$f":"'Bordereau versement B'!H19","v":0},{"$f":"'Bordereau versement B'!I19","v":0},{"$f":"'Bordereau versement B'!J19","v":0},{"$f":"'Bordereau versement B'!K19","v":0},{"$f":"'Bordereau versement B'!L19","v":0},{"$f":"'Bordereau versement B'!M19","v":0},{"$f":"'Bordereau versement B'!N19","v":0}]
[{"$f":"'Bordereau versement B'!A20:D20","v":0},null,null,null,{"$f":"'Bordereau versement B'!E20","v":0},{"$f":"'Bordereau versement B'!F20:G20","v":0},null,{"$f":"'Bordereau versement B'!H20","v":0},{"$f":"'Bordereau versement B'!I20","v":0},{"$f":"'Bordereau versement B'!J20","v":0},{"$f":"'Bordereau versement B'!K20","v":0},{"$f":"'Bordereau versement B'!L20","v":0},{"$f":"'Bordereau versement B'!M20","v":0},{"$f":"'Bordereau versement B'!N20","v":0}]
[{"$f":"'Bordereau versement B'!A21:D21","v":0},null,null,null,{"$f":"'Bordereau versement B'!E21","v":0},{"$f":"'Bordereau versement B'!F21:G21","v":0},null,{"$f":"'Bordereau versement B'!H21","v":0},{"$f":"'Bordereau versement B'!I21","v":0},{"$f":"'Bordereau versement B'!J21","v":0},{"$f":"'Bordereau versement B'!K21","v":0},{"$f":"'Bordereau versement B'!L21","v":0},{"$f":"'Bordereau versement B'!M21","v":0},{"$f":"'Bordereau versement B'!N21","v":0}]
[{"$f":"'Bordereau versement B'!A22:D22","v":0},null,null,null,{"$f":"'Bordereau versement B'!E22","v":0},{"$f":"'Bordereau versement B'!F22:G22","v":0},null,{"$f":"'Bordereau versement B'!H22","v":0},{"$f":"'Bordereau versement B'!I22","v":0},{"$f":"'Bordereau versement B'!J22","v":0},{"$f":"'Bordereau versement B'!K22","v":0},{"$f":"'Bordereau versement B'!L22","v":0},{"$f":"'Bordereau versement B'!M22","v":0},{"$f":"'Bordereau versement B'!N22","v":0}]
[{"$f":"'Bordereau versement B'!A23:D23","v":0},null,null,null,{"$f":"'Bordereau versement B'!E23","v":0},{"$f":"'Bordereau versement B'!F23:G23","v":0},null,{"$f":"'Bordereau versement B'!H23","v":0},{"$f":"'Bordereau versement B'!I23","v":0},{"$f":"'Bordereau versement B'!J23","v":0},{"$f":"'Bordereau versement B'!K23","v":0},{"$f":"'Bordereau versement B'!L23","v":0},{"$f":"'Bordereau versement B'!M23","v":0},{"$f":"'Bordereau versement B'!N23","v":0}]
[{"$f":"'Bordereau versement B'!A24:D24","v":0},null,null,null,{"$f":"'Bordereau versement B'!E24","v":0},{"$f":"'Bordereau versement B'!F24:G24","v":0},null,{"$f":"'Bordereau versement B'!H24","v":0},{"$f":"'Bordereau versement B'!I24","v":0},{"$f":"'Bordereau versement B'!J24","v":0},{"$f":"'Bordereau versement B'!K24","v":0},{"$f":"'Bordereau versement B'!L24","v":0},{"$f":"'Bordereau versement B'!M24","v":0},{"$f":"'Bordereau versement B'!N24","v":0}]
[{"$f":"'Bordereau versement B'!A25:D25","v":0},null,null,null,{"$f":"'Bordereau versement B'!E25","v":0},{"$f":"'Bordereau versement B'!F25:G25","v":0},null,{"$f":"'Bordereau versement B'!H25","v":0},{"$f":"'Bordereau versement B'!I25","v":0},{"$f":"'Bordereau versement B'!J25","v":0},{"$f":"'Bordereau versement B'!K25","v":0},{"$f":"'Bordereau versement B'!L25","v":0},{"$f":"'Bordereau versement B'!M25","v":0},{"$f":"'Bordereau versement B'!N25","v":0}]
[{"$f":"'Bordereau versement B'!A26:D26","v":0},null,null,null,{"$f":"'Bordereau versement B'!E26","v":0},{"$f":"'Bordereau versement B'!F26:G26","v":0},null,{"$f":"'Bordereau versement B'!H26","v":0},{"$f":"'Bordereau versement B'!I26","v":0},{"$f":"'Bordereau versement B'!J26","v":0},{"$f":"'Bordereau versement B'!K26","v":0},{"$f":"'Bordereau versement B'!L26","v":0},{"$f":"'Bordereau versement B'!M26","v":0},{"$f":"'Bordereau versement B'!N26","v":0}]
[{"$f":"'Bordereau versement B'!A27:D27","v":0},null,null,null,{"$f":"'Bordereau versement B'!E27","v":0},{"$f":"'Bordereau versement B'!F27:G27","v":0},null,{"$f":"'Bordereau versement B'!H27","v":0},{"$f":"'Bordereau versement B'!I27","v":0},{"$f":"'Bordereau versement B'!J27","v":0},{"$f":"'Bordereau versement B'!K27","v":0},{"$f":"'Bordereau versement B'!L27","v":0},{"$f":"'Bordereau versement B'!M27","v":0},{"$f":"'Bordereau versement B'!N27","v":0}]
[{"$f":"'Bordereau versement B'!A28:D28","v":0},null,null,null,{"$f":"'Bordereau versement B'!E28","v":0},{"$f":"'Bordereau versement B'!F28:G28","v":0},null,{"$f":"'Bordereau versement B'!H28","v":0},{"$f":"'Bordereau versement B'!I28","v":0},{"$f":"'Bordereau versement B'!J28","v":0},{"$f":"'Bordereau versement B'!K28","v":0},{"$f":"'Bordereau versement B'!L28","v":0},{"$f":"'Bordereau versement B'!M28","v":0},{"$f":"'Bordereau versement B'!N28","v":0}]
[{"$f":"'Bordereau versement B'!A29:D29","v":0},null,null,null,{"$f":"'Bordereau versement B'!E29","v":0},{"$f":"'Bordereau versement B'!F29:G29","v":0},null,{"$f":"'Bordereau versement B'!H29","v":0},{"$f":"'Bordereau versement B'!I29","v":0},{"$f":"'Bordereau versement B'!J29","v":0},{"$f":"'Bordereau versement B'!K29","v":0},{"$f":"'Bordereau versement B'!L29","v":0},{"$f":"'Bordereau versement B'!M29","v":0},{"$f":"'Bordereau versement B'!N29","v":0}]
[{"$f":"'Bordereau versement B'!A30:D30","v":0},null,null,null,{"$f":"'Bordereau versement B'!E30","v":0},{"$f":"'Bordereau versement B'!F30:G30","v":0},null,{"$f":"'Bordereau versement B'!H30","v":0},{"$f":"'Bordereau versement B'!I30","v":0},{"$f":"'Bordereau versement B'!J30","v":0},{"$f":"'Bordereau versement B'!K30","v":0},{"$f":"'Bordereau versement B'!L30","v":0},{"$f":"'Bordereau versement B'!M30","v":0},{"$f":"'Bordereau versement B'!N30","v":0}]
[{"$f":"'Bordereau versement B'!A31:D31","v":0},null,null,null,{"$f":"'Bordereau versement B'!E31","v":0},{"$f":"'Bordereau versement B'!F31:G31","v":0},null,{"$f":"'Bordereau versement B'!H31","v":0},{"$f":"'Bordereau versement B'!I31","v":0},{"$f":"'Bordereau versement B'!J31","v":0},{"$f":"'Bordereau versement B'!K31","v":0},{"$f":"'Bordereau versement B'!L31","v":0},{"$f":"'Bordereau versement B'!M31","v":0},{"$f":"'Bordereau versement B'!N31","v":0}]
[{"$f":"'Bordereau versement B'!A32:D32","v":0},null,null,null,{"$f":"'Bordereau versement B'!E32","v":0},{"$f":"'Bordereau versement B'!F32:G32","v":0},null,{"$f":"'Bordereau versement B'!H32","v":0},{"$f":"'Bordereau versement B'!I32","v":0},{"$f":"'Bordereau versement B'!J32","v":0},{"$f":"'Bordereau versement B'!K32","v":0},{"$f":"'Bordereau versement B'!L32","v":0},{"$f":"'Bordereau versement B'!M32","v":0},{"$f":"'Bordereau versement B'!N32","v":0}]
[{"$f":"'Bordereau versement B'!A33:D33","v":0},null,null,null,{"$f":"'Bordereau versement B'!E33","v":0},{"$f":"'Bordereau versement B'!F33:G33","v":0},null,{"$f":"'Bordereau versement B'!H33","v":0},{"$f":"'Bordereau versement B'!I33","v":0},{"$f":"'Bordereau versement B'!J33","v":0},{"$f":"'Bordereau versement B'!K33","v":0},{"$f":"'Bordereau versement B'!L33","v":0},{"$f":"'Bordereau versement B'!M33","v":0},{"$f":"'Bordereau versement B'!N33","v":0}]
[{"$f":"'Bordereau versement B'!A34:D34","v":0},null,null,null,{"$f":"'Bordereau versement B'!E34","v":0},{"$f":"'Bordereau versement B'!F34:G34","v":0},null,{"$f":"'Bordereau versement B'!H34","v":0},{"$f":"'Bordereau versement B'!I34","v":0},{"$f":"'Bordereau versement B'!J34","v":0},{"$f":"'Bordereau versement B'!K34","v":0},{"$f":"'Bordereau versement B'!L34","v":0},{"$f":"'Bordereau versement B'!M34","v":0},{"$f":"'Bordereau versement B'!N34","v":0}]
[{"$f":"'Bordereau versement B'!A35:D35","v":0},null,null,null,{"$f":"'Bordereau versement B'!E35","v":0},{"$f":"'Bordereau versement B'!F35:G35","v":0},null,{"$f":"'Bordereau versement B'!H35","v":0},{"$f":"'Bordereau versement B'!I35","v":0},{"$f":"'Bordereau versement B'!J35","v":0},{"$f":"'Bordereau versement B'!K35","v":0},{"$f":"'Bordereau versement B'!L35","v":0},{"$f":"'Bordereau versement B'!M35","v":0},{"$f":"'Bordereau versement B'!N35","v":0}]
[{"$f":"'Bordereau versement B'!A36:D36","v":0},null,null,null,{"$f":"'Bordereau versement B'!E36","v":0},{"$f":"'Bordereau versement B'!F36:G36","v":0},null,{"$f":"'Bordereau versement B'!H36","v":0},{"$f":"'Bordereau versement B'!I36","v":0},{"$f":"'Bordereau versement B'!J36","v":0},{"$f":"'Bordereau versement B'!K36","v":0},{"$f":"'Bordereau versement B'!L36","v":0},{"$f":"'Bordereau versement B'!M36","v":0},{"$f":"'Bordereau versement B'!N36","v":0}]
[{"$f":"'Bordereau versement B'!A37:D37","v":0},null,null,null,{"$f":"'Bordereau versement B'!E37","v":0},{"$f":"'Bordereau versement B'!F37:G37","v":0},null,{"$f":"'Bordereau versement B'!H37","v":0},{"$f":"'Bordereau versement B'!I37","v":0},{"$f":"'Bordereau versement B'!J37","v":0},{"$f":"'Bordereau versement B'!K37","v":0},{"$f":"'Bordereau versement B'!L37","v":0},{"$f":"'Bordereau versement B'!M37","v":0},{"$f":"'Bordereau versement B'!N37","v":0}]
[{"$f":"'Bordereau versement B'!A38:D38","v":0},null,null,null,{"$f":"'Bordereau versement B'!E38","v":0},{"$f":"'Bordereau versement B'!F38:G38","v":0},null,{"$f":"'Bordereau versement B'!H38","v":0},{"$f":"'Bordereau versement B'!I38","v":0},{"$f":"'Bordereau versement B'!J38","v":0},{"$f":"'Bordereau versement B'!K38","v":0},{"$f":"'Bordereau versement B'!L38","v":0},{"$f":"'Bordereau versement B'!M38","v":0},{"$f":"'Bordereau versement B'!N38","v":0}]
[{"$f":"'Bordereau versement B'!A39:D39","v":0},null,null,null,{"$f":"'Bordereau versement B'!E39","v":0},{"$f":"'Bordereau versement B'!F39:G39","v":0},null,{"$f":"'Bordereau versement B'!H39","v":0},{"$f":"'Bordereau versement B'!I39","v":0},{"$f":"'Bordereau versement B'!J39","v":0},{"$f":"'Bordereau versement B'!K39","v":0},{"$f":"'Bordereau versement B'!L39","v":0},{"$f":"'Bordereau versement B'!M39","v":0},{"$f":"'Bordereau versement B'!N39","v":0}]
[{"$f":"'Bordereau versement B'!A40:D40","v":0},null,null,null,{"$f":"'Bordereau versement B'!E40","v":0},{"$f":"'Bordereau versement B'!F40:G40","v":0},null,{"$f":"'Bordereau versement B'!H40","v":0},{"$f":"'Bordereau versement B'!I40","v":0},{"$f":"'Bordereau versement B'!J40","v":0},{"$f":"'Bordereau versement B'!K40","v":0},{"$f":"'Bordereau versement B'!L40","v":0},{"$f":"'Bordereau versement B'!M40","v":0},{"$f":"'Bordereau versement B'!N40","v":0}]
[{"$f":"'Bordereau versement B'!A41:D41","v":0},null,null,null,{"$f":"'Bordereau versement B'!E41","v":0},{"$f":"'Bordereau versement B'!F41:G41","v":0},null,{"$f":"'Bordereau versement B'!H41","v":0},{"$f":"'Bordereau versement B'!I41","v":0},{"$f":"'Bordereau versement B'!J41","v":0},{"$f":"'Bordereau versement B'!K41","v":0},{"$f":"'Bordereau versement B'!L41","v":0},{"$f":"'Bordereau versement B'!M41","v":0},{"$f":"'Bordereau versement B'!N41","v":0}]
[{"$f":"'Bordereau versement B'!A42:D42","v":0},null,null,null,{"$f":"'Bordereau versement B'!E42","v":0},{"$f":"'Bordereau versement B'!F42:G42","v":0},null,{"$f":"'Bordereau versement B'!H42","v":0},{"$f":"'Bordereau versement B'!I42","v":0},{"$f":"'Bordereau versement B'!J42","v":0},{"$f":"'Bordereau versement B'!K42","v":0},{"$f":"'Bordereau versement B'!L42","v":0},{"$f":"'Bordereau versement B'!M42","v":0},{"$f":"'Bordereau versement B'!N42","v":0}]
[{"$f":"'Bordereau versement B'!A43:D43","v":0},null,null,null,{"$f":"'Bordereau versement B'!E43","v":0},{"$f":"'Bordereau versement B'!F43:G43","v":0},null,{"$f":"'Bordereau versement B'!H43","v":0},{"$f":"'Bordereau versement B'!I43","v":0},{"$f":"'Bordereau versement B'!J43","v":0},{"$f":"'Bordereau versement B'!K43","v":0},{"$f":"'Bordereau versement B'!L43","v":0},{"$f":"'Bordereau versement B'!M43","v":0},{"$f":"'Bordereau versement B'!N43","v":0}]
[{"$f":"'Bordereau versement B'!A44:D44","v":0},null,null,null,{"$f":"'Bordereau versement B'!E44","v":0},{"$f":"'Bordereau versement B'!F44:G44","v":0},null,{"$f":"'Bordereau versement B'!H44","v":0},{"$f":"'Bordereau versement B'!I44","v":0},{"$f":"'Bordereau versement B'!J44","v":0},{"$f":"'Bordereau versement B'!K44","v":0},{"$f":"'Bordereau versement B'!L44","v":0},{"$f":"'Bordereau versement B'!M44","v":0},{"$f":"'Bordereau versement B'!N44","v":0}]
[{"$f":"'Bordereau versement B'!A45:D45","v":0},null,null,null,{"$f":"'Bordereau versement B'!E45","v":0},{"$f":"'Bordereau versement B'!F45:G45","v":0},null,{"$f":"'Bordereau versement B'!H45","v":0},{"$f":"'Bordereau versement B'!I45","v":0},{"$f":"'Bordereau versement B'!J45","v":0},{"$f":"'Bordereau versement B'!K45","v":0},{"$f":"'Bordereau versement B'!L45","v":0},{"$f":"'Bordereau versement B'!M45","v":0},{"$f":"'Bordereau versement B'!N45","v":0}]
[{"$f":"'Bordereau versement B'!A46:D46","v":0},null,null,null,{"$f":"'Bordereau versement B'!E46","v":0},{"$f":"'Bordereau versement B'!F46:G46","v":0},null,{"$f":"'Bordereau versement B'!H46","v":0},{"$f":"'Bordereau versement B'!I46","v":0},{"$f":"'Bordereau versement B'!J46","v":0},{"$f":"'Bordereau versement B'!K46","v":0},{"$f":"'Bordereau versement B'!L46","v":0},{"$f":"'Bordereau versement B'!M46","v":0},{"$f":"'Bordereau versement B'!N46","v":0}]
[{"$f":"'Bordereau versement B'!A47:D47","v":0},null,null,null,{"$f":"'Bordereau versement B'!E47","v":0},{"$f":"'Bordereau versement B'!F47:G47","v":0},null,{"$f":"'Bordereau versement B'!H47","v":0},{"$f":"'Bordereau versement B'!I47","v":0},{"$f":"'Bordereau versement B'!J47","v":0},{"$f":"'Bordereau versement B'!K47","v":0},{"$f":"'Bordereau versement B'!L47","v":0},{"$f":"'Bordereau versement B'!M47","v":0},{"$f":"'Bordereau versement B'!N47","v":0}]
[{"$f":"'Bordereau versement B'!A48:D48","v":0},null,null,null,{"$f":"'Bordereau versement B'!E48","v":0},{"$f":"'Bordereau versement B'!F48:G48","v":0},null,{"$f":"'Bordereau versement B'!H48","v":0},{"$f":"'Bordereau versement B'!I48","v":0},{"$f":"'Bordereau versement B'!J48","v":0},{"$f":"'Bordereau versement B'!K48","v":0},{"$f":"'Bordereau versement B'!L48","v":0},{"$f":"'Bordereau versement B'!M48","v":0},{"$f":"'Bordereau versement B'!N48","v":0}]
[{"$f":"'Bordereau versement B'!A49:D49","v":0},null,null,null,{"$f":"'Bordereau versement B'!E49","v":0},{"$f":"'Bordereau versement B'!F49:G49","v":0},null,{"$f":"'Bordereau versement B'!H49","v":0},{"$f":"'Bordereau versement B'!I49","v":0},{"$f":"'Bordereau versement B'!J49","v":0},{"$f":"'Bordereau versement B'!K49","v":0},{"$f":"'Bordereau versement B'!L49","v":0},{"$f":"'Bordereau versement B'!M49","v":0},{"$f":"'Bordereau versement B'!N49","v":0}]
[{"$f":"'Bordereau versement B'!A50:D50","v":0},null,null,null,{"$f":"'Bordereau versement B'!E50","v":0},{"$f":"'Bordereau versement B'!F50:G50","v":0},null,{"$f":"'Bordereau versement B'!H50","v":0},{"$f":"'Bordereau versement B'!I50","v":0},{"$f":"'Bordereau versement B'!J50","v":0},{"$f":"'Bordereau versement B'!K50","v":0},{"$f":"'Bordereau versement B'!L50","v":0},{"$f":"'Bordereau versement B'!M50","v":0},{"$f":"'Bordereau versement B'!N50","v":0}]
[{"$f":"'Bordereau versement B'!A51:D51","v":0},null,null,null,{"$f":"'Bordereau versement B'!E51","v":0},{"$f":"'Bordereau versement B'!F51:G51","v":0},null,{"$f":"'Bordereau versement B'!H51","v":0},{"$f":"'Bordereau versement B'!I51","v":0},{"$f":"'Bordereau versement B'!J51","v":0},{"$f":"'Bordereau versement B'!K51","v":0},{"$f":"'Bordereau versement B'!L51","v":0},{"$f":"'Bordereau versement B'!M51","v":0},{"$f":"'Bordereau versement B'!N51","v":0}]
[{"$f":"'Bordereau versement B'!A52:D52","v":0},null,null,null,{"$f":"'Bordereau versement B'!E52","v":0},{"$f":"'Bordereau versement B'!F52:G52","v":0},null,{"$f":"'Bordereau versement B'!H52","v":0},{"$f":"'Bordereau versement B'!I52","v":0},{"$f":"'Bordereau versement B'!J52","v":0},{"$f":"'Bordereau versement B'!K52","v":0},{"$f":"'Bordereau versement B'!L52","v":0},{"$f":"'Bordereau versement B'!M52","v":0},{"$f":"'Bordereau versement B'!N52","v":0}]
[{"$f":"'Bordereau versement B'!A53:D53","v":0},null,null,null,{"$f":"'Bordereau versement B'!E53","v":0},{"$f":"'Bordereau versement B'!F53:G53","v":0},null,{"$f":"'Bordereau versement B'!H53","v":0},{"$f":"'Bordereau versement B'!I53","v":0},{"$f":"'Bordereau versement B'!J53","v":0},{"$f":"'Bordereau versement B'!K53","v":0},{"$f":"'Bordereau versement B'!L53","v":0},{"$f":"'Bordereau versement B'!M53","v":0},{"$f":"'Bordereau versement B'!N53","v":0}]
[{"$f":"'Bordereau versement B'!A54:D54","v":0},null,null,null,{"$f":"'Bordereau versement B'!E54","v":0},{"$f":"'Bordereau versement B'!F54:G54","v":0},null,{"$f":"'Bordereau versement B'!H54","v":0},{"$f":"'Bordereau versement B'!I54","v":0},{"$f":"'Bordereau versement B'!J54","v":0},{"$f":"'Bordereau versement B'!K54","v":0},{"$f":"'Bordereau versement B'!L54","v":0},{"$f":"'Bordereau versement B'!M54","v":0},{"$f":"'Bordereau versement B'!N54","v":0}]
[{"$f":"'Bordereau versement B'!A55:D55","v":0},null,null,null,{"$f":"'Bordereau versement B'!E55","v":0},{"$f":"'Bordereau versement B'!F55:G55","v":0},null,{"$f":"'Bordereau versement B'!H55","v":0},{"$f":"'Bordereau versement B'!I55","v":0},{"$f":"'Bordereau versement B'!J55","v":0},{"$f":"'Bordereau versement B'!K55","v":0},{"$f":"'Bordereau versement B'!L55","v":0},{"$f":"'Bordereau versement B'!M55","v":0},{"$f":"'Bordereau versement B'!N55","v":0}]
[{"$f":"'Bordereau versement B'!A56:D56","v":0},null,null,null,{"$f":"'Bordereau versement B'!E56","v":0},{"$f":"'Bordereau versement B'!F56:G56","v":0},null,{"$f":"'Bordereau versement B'!H56","v":0},{"$f":"'Bordereau versement B'!I56","v":0},{"$f":"'Bordereau versement B'!J56","v":0},{"$f":"'Bordereau versement B'!K56","v":0},{"$f":"'Bordereau versement B'!L56","v":0},{"$f":"'Bordereau versement B'!M56","v":0},{"$f":"'Bordereau versement B'!N56","v":0}]
[{"$f":"'Bordereau versement B'!A57:D57","v":0},null,null,null,{"$f":"'Bordereau versement B'!E57","v":0},{"$f":"'Bordereau versement B'!F57:G57","v":0},null,{"$f":"'Bordereau versement B'!H57","v":0},{"$f":"'Bordereau versement B'!I57","v":0},{"$f":"'Bordereau versement B'!J57","v":0},{"$f":"'Bordereau versement B'!K57","v":0},{"$f":"'Bordereau versement B'!L57","v":0},{"$f":"'Bordereau versement B'!M57","v":0},{"$f":"'Bordereau versement B'!N57","v":0}]
[{"$f":"'Bordereau versement B'!A58:D58","v":0},null,null,null,{"$f":"'Bordereau versement B'!E58","v":0},{"$f":"'Bordereau versement B'!F58:G58","v":0},null,{"$f":"'Bordereau versement B'!H58","v":0},{"$f":"'Bordereau versement B'!I58","v":0},{"$f":"'Bordereau versement B'!J58","v":0},{"$f":"'Bordereau versement B'!K58","v":0},{"$f":"'Bordereau versement B'!L58","v":0},{"$f":"'Bordereau versement B'!M58","v":0},{"$f":"'Bordereau versement B'!N58","v":0}]
[{"$f":"'Bordereau versement B'!A59:D59","v":0},null,null,null,{"$f":"'Bordereau versement B'!E59","v":0},{"$f":"'Bordereau versement B'!F59:G59","v":0},null,{"$f":"'Bordereau versement B'!H59","v":0},{"$f":"'Bordereau versement B'!I59","v":0},{"$f":"'Bordereau versement B'!J59","v":0},{"$f":"'Bordereau versement B'!K59","v":0},{"$f":"'Bordereau versement B'!L59","v":0},{"$f":"'Bordereau versement B'!M59","v":0},{"$f":"'Bordereau versement B'!N59","v":0}]
[{"$f":"'Bordereau versement B'!A60:D60","v":0},null,null,null,{"$f":"'Bordereau versement B'!E60","v":0},{"$f":"'Bordereau versement B'!F60:G60","v":0},null,{"$f":"'Bordereau versement B'!H60","v":0},{"$f":"'Bordereau versement B'!I60","v":0},{"$f":"'Bordereau versement B'!J60","v":0},{"$f":"'Bordereau versement B'!K60","v":0},{"$f":"'Bordereau versement B'!L60","v":0},{"$f":"'Bordereau versement B'!M60","v":0},{"$f":"'Bordereau versement B'!N60","v":0}]
[{"$f":"'Bordereau versement B'!A61:D61","v":0},null,null,null,{"$f":"'Bordereau versement B'!E61","v":0},{"$f":"'Bordereau versement B'!F61:G61","v":0},null,{"$f":"'Bordereau versement B'!H61","v":0},{"$f":"'Bordereau versement B'!I61","v":0},{"$f":"'Bordereau versement B'!J61","v":0},{"$f":"'Bordereau versement B'!K61","v":0},{"$f":"'Bordereau versement B'!L61","v":0},{"$f":"'Bordereau versement B'!M61","v":0},{"$f":"'Bordereau versement B'!N61","v":0}]
[{"$f":"'Bordereau versement B'!A62:D62","v":0},null,null,null,{"$f":"'Bordereau versement B'!E62","v":0},{"$f":"'Bordereau versement B'!F62:G62","v":0},null,{"$f":"'Bordereau versement B'!H62","v":0},{"$f":"'Bordereau versement B'!I62","v":0},{"$f":"'Bordereau versement B'!J62","v":0},{"$f":"'Bordereau versement B'!K62","v":0},{"$f":"'Bordereau versement B'!L62","v":0},{"$f":"'Bordereau versement B'!M62","v":0},{"$f":"'Bordereau versement B'!N62","v":0}]
[{"$f":"'Bordereau versement B'!A63:D63","v":0},null,null,null,{"$f":"'Bordereau versement B'!E63","v":0},{"$f":"'Bordereau versement B'!F63:G63","v":0},null,{"$f":"'Bordereau versement B'!H63","v":0},{"$f":"'Bordereau versement B'!I63","v":0},{"$f":"'Bordereau versement B'!J63","v":0},{"$f":"'Bordereau versement B'!K63","v":0},{"$f":"'Bordereau versement B'!L63","v":0},{"$f":"'Bordereau versement B'!M63","v":0},{"$f":"'Bordereau versement B'!N63","v":0}]
[{"$f":"'Bordereau versement B'!A64:D64","v":0},null,null,null,{"$f":"'Bordereau versement B'!E64","v":0},{"$f":"'Bordereau versement B'!F64:G64","v":0},null,{"$f":"'Bordereau versement B'!H64","v":0},{"$f":"'Bordereau versement B'!I64","v":0},{"$f":"'Bordereau versement B'!J64","v":0},{"$f":"'Bordereau versement B'!K64","v":0},{"$f":"'Bordereau versement B'!L64","v":0},{"$f":"'Bordereau versement B'!M64","v":0},{"$f":"'Bordereau versement B'!N64","v":0}]
[{"$f":"'Bordereau versement B'!A65:D65","v":0},null,null,null,{"$f":"'Bordereau versement B'!E65","v":0},{"$f":"'Bordereau versement B'!F65:G65","v":0},null,{"$f":"'Bordereau versement B'!H65","v":0},{"$f":"'Bordereau versement B'!I65","v":0},{"$f":"'Bordereau versement B'!J65","v":0},{"$f":"'Bordereau versement B'!K65","v":0},{"$f":"'Bordereau versement B'!L65","v":0},{"$f":"'Bordereau versement B'!M65","v":0},{"$f":"'Bordereau versement B'!N65","v":0}]
[{"$f":"'Bordereau versement B'!A66:D66","v":0},null,null,null,{"$f":"'Bordereau versement B'!E66","v":0},{"$f":"'Bordereau versement B'!F66:G66","v":0},null,{"$f":"'Bordereau versement B'!H66","v":0},{"$f":"'Bordereau versement B'!I66","v":0},{"$f":"'Bordereau versement B'!J66","v":0},{"$f":"'Bordereau versement B'!K66","v":0},{"$f":"'Bordereau versement B'!L66","v":0},{"$f":"'Bordereau versement B'!M66","v":0},{"$f":"'Bordereau versement B'!N66","v":0}]
[{"$f":"'Bordereau versement B'!A67:D67","v":0},null,null,null,{"$f":"'Bordereau versement B'!E67","v":0},{"$f":"'Bordereau versement B'!F67:G67","v":0},null,{"$f":"'Bordereau versement B'!H67","v":0},{"$f":"'Bordereau versement B'!I67","v":0},{"$f":"'Bordereau versement B'!J67","v":0},{"$f":"'Bordereau versement B'!K67","v":0},{"$f":"'Bordereau versement B'!L67","v":0},{"$f":"'Bordereau versement B'!M67","v":0},{"$f":"'Bordereau versement B'!N67","v":0}]
[{"$f":"'Bordereau versement B'!A68:D68","v":0},null,null,null,{"$f":"'Bordereau versement B'!E68","v":0},{"$f":"'Bordereau versement B'!F68:G68","v":0},null,{"$f":"'Bordereau versement B'!H68","v":0},{"$f":"'Bordereau versement B'!I68","v":0},{"$f":"'Bordereau versement B'!J68","v":0},{"$f":"'Bordereau versement B'!K68","v":0},{"$f":"'Bordereau versement B'!L68","v":0},{"$f":"'Bordereau versement B'!M68","v":0},{"$f":"'Bordereau versement B'!N68","v":0}]
[{"$f":"'Bordereau versement B'!A69:D69","v":0},null,null,null,{"$f":"'Bordereau versement B'!E69","v":0},{"$f":"'Bordereau versement B'!F69:G69","v":0},null,{"$f":"'Bordereau versement B'!H69","v":0},{"$f":"'Bordereau versement B'!I69","v":0},{"$f":"'Bordereau versement B'!J69","v":0},{"$f":"'Bordereau versement B'!K69","v":0},{"$f":"'Bordereau versement B'!L69","v":0},{"$f":"'Bordereau versement B'!M69","v":0},{"$f":"'Bordereau versement B'!N69","v":0}]
[{"$f":"'Bordereau versement B'!A70:D70","v":0},null,null,null,{"$f":"'Bordereau versement B'!E70","v":0},{"$f":"'Bordereau versement B'!F70:G70","v":0},null,{"$f":"'Bordereau versement B'!H70","v":0},{"$f":"'Bordereau versement B'!I70","v":0},{"$f":"'Bordereau versement B'!J70","v":0},{"$f":"'Bordereau versement B'!K70","v":0},{"$f":"'Bordereau versement B'!L70","v":0},{"$f":"'Bordereau versement B'!M70","v":0},{"$f":"'Bordereau versement B'!N70","v":0}]
[{"$f":"'Bordereau versement B'!A71:D71","v":0},null,null,null,{"$f":"'Bordereau versement B'!E71","v":0},{"$f":"'Bordereau versement B'!F71:G71","v":0},null,{"$f":"'Bordereau versement B'!H71","v":0},{"$f":"'Bordereau versement B'!I71","v":0},{"$f":"'Bordereau versement B'!J71","v":0},{"$f":"'Bordereau versement B'!K71","v":0},{"$f":"'Bordereau versement B'!L71","v":0},{"$f":"'Bordereau versement B'!M71","v":0},{"$f":"'Bordereau versement B'!N71","v":0}]
[{"$f":"'Bordereau versement B'!A72:D72","v":0},null,null,null,{"$f":"'Bordereau versement B'!E72","v":0},{"$f":"'Bordereau versement B'!F72:G72","v":0},null,{"$f":"'Bordereau versement B'!H72","v":0},{"$f":"'Bordereau versement B'!I72","v":0},{"$f":"'Bordereau versement B'!J72","v":0},{"$f":"'Bordereau versement B'!K72","v":0},{"$f":"'Bordereau versement B'!L72","v":0},{"$f":"'Bordereau versement B'!M72","v":0},{"$f":"'Bordereau versement B'!N72","v":0}]
[{"$f":"'Bordereau versement B'!A73:D73","v":0},null,null,null,{"$f":"'Bordereau versement B'!E73","v":0},{"$f":"'Bordereau versement B'!F73:G73","v":0},null,{"$f":"'Bordereau versement B'!H73","v":0},{"$f":"'Bordereau versement B'!I73","v":0},{"$f":"'Bordereau versement B'!J73","v":0},{"$f":"'Bordereau versement B'!K73","v":0},{"$f":"'Bordereau versement B'!L73","v":0},{"$f":"'Bordereau versement B'!M73","v":0},{"$f":"'Bordereau versement B'!N73","v":0}]
[{"$f":"'Bordereau versement B'!A74:D74","v":0},null,null,null,{"$f":"'Bordereau versement B'!E74","v":0},{"$f":"'Bordereau versement B'!F74:G74","v":0},null,{"$f":"'Bordereau versement B'!H74","v":0},{"$f":"'Bordereau versement B'!I74","v":0},{"$f":"'Bordereau versement B'!J74","v":0},{"$f":"'Bordereau versement B'!K74","v":0},{"$f":"'Bordereau versement B'!L74","v":0},{"$f":"'Bordereau versement B'!M74","v":0},{"$f":"'Bordereau versement B'!N74","v":0}]
[{"$f":"'Bordereau versement B'!A75:D75","v":0},null,null,null,{"$f":"'Bordereau versement B'!E75","v":0},{"$f":"'Bordereau versement B'!F75:G75","v":0},null,{"$f":"'Bordereau versement B'!H75","v":0},{"$f":"'Bordereau versement B'!I75","v":0},{"$f":"'Bordereau versement B'!J75","v":0},{"$f":"'Bordereau versement B'!K75","v":0},{"$f":"'Bordereau versement B'!L75","v":0},{"$f":"'Bordereau versement B'!M75","v":0},{"$f":"'Bordereau versement B'!N75","v":0}]
[{"$f":"'Bordereau versement B'!A76:D76","v":0},null,null,null,{"$f":"'Bordereau versement B'!E76","v":0},{"$f":"'Bordereau versement B'!F76:G76","v":0},null,{"$f":"'Bordereau versement B'!H76","v":0},{"$f":"'Bordereau versement B'!I76","v":0},{"$f":"'Bordereau versement B'!J76","v":0},{"$f":"'Bordereau versement B'!K76","v":0},{"$f":"'Bordereau versement B'!L76","v":0},{"$f":"'Bordereau versement B'!M76","v":0},{"$f":"'Bordereau versement B'!N76","v":0}]
[{"$f":"'Bordereau versement B'!A77:D77","v":0},null,null,null,{"$f":"'Bordereau versement B'!E77","v":0},{"$f":"'Bordereau versement B'!F77:G77","v":0},null,{"$f":"'Bordereau versement B'!H77","v":0},{"$f":"'Bordereau versement B'!I77","v":0},{"$f":"'Bordereau versement B'!J77","v":0},{"$f":"'Bordereau versement B'!K77","v":0},{"$f":"'Bordereau versement B'!L77","v":0},{"$f":"'Bordereau versement B'!M77","v":0},{"$f":"'Bordereau versement B'!N77","v":0}]
[{"$f":"'Bordereau versement B'!A78:D78","v":0},null,null,null,{"$f":"'Bordereau versement B'!E78","v":0},{"$f":"'Bordereau versement B'!F78:G78","v":0},null,{"$f":"'Bordereau versement B'!H78","v":0},{"$f":"'Bordereau versement B'!I78","v":0},{"$f":"'Bordereau versement B'!J78","v":0},{"$f":"'Bordereau versement B'!K78","v":0},{"$f":"'Bordereau versement B'!L78","v":0},{"$f":"'Bordereau versement B'!M78","v":0},{"$f":"'Bordereau versement B'!N78","v":0}]
[{"$f":"'Bordereau versement B'!A79:D79","v":0},null,null,null,{"$f":"'Bordereau versement B'!E79","v":0},{"$f":"'Bordereau versement B'!F79:G79","v":0},null,{"$f":"'Bordereau versement B'!H79","v":0},{"$f":"'Bordereau versement B'!I79","v":0},{"$f":"'Bordereau versement B'!J79","v":0},{"$f":"'Bordereau versement B'!K79","v":0},{"$f":"'Bordereau versement B'!L79","v":0},{"$f":"'Bordereau versement B'!M79","v":0},{"$f":"'Bordereau versement B'!N79","v":0}]
[{"$f":"'Bordereau versement B'!A80:D80","v":0},null,null,null,{"$f":"'Bordereau versement B'!E80","v":0},{"$f":"'Bordereau versement B'!F80:G80","v":0},null,{"$f":"'Bordereau versement B'!H80","v":0},{"$f":"'Bordereau versement B'!I80","v":0},{"$f":"'Bordereau versement B'!J80","v":0},{"$f":"'Bordereau versement B'!K80","v":0},{"$f":"'Bordereau versement B'!L80","v":0},{"$f":"'Bordereau versement B'!M80","v":0},{"$f":"'Bordereau versement B'!N80","v":0}]
[{"$f":"'Bordereau versement B'!A81:D81","v":0},null,null,null,{"$f":"'Bordereau versement B'!E81","v":0},{"$f":"'Bordereau versement B'!F81:G81","v":0},null,{"$f":"'Bordereau versement B'!H81","v":0},{"$f":"'Bordereau versement B'!I81","v":0},{"$f":"'Bordereau versement B'!J81","v":0},{"$f":"'Bordereau versement B'!K81","v":0},{"$f":"'Bordereau versement B'!L81","v":0},{"$f":"'Bordereau versement B'!M81","v":0},{"$f":"'Bordereau versement B'!N81","v":0}]
[{"$f":"'Bordereau versement B'!A82:D82","v":0},null,null,null,{"$f":"'Bordereau versement B'!E82","v":0},{"$f":"'Bordereau versement B'!F82:G82","v":0},null,{"$f":"'Bordereau versement B'!H82","v":0},{"$f":"'Bordereau versement B'!I82","v":0},{"$f":"'Bordereau versement B'!J82","v":0},{"$f":"'Bordereau versement B'!K82","v":0},{"$f":"'Bordereau versement B'!L82","v":0},{"$f":"'Bordereau versement B'!M82","v":0},{"$f":"'Bordereau versement B'!N82","v":0}]
[{"$f":"'Bordereau versement B'!A83:D83","v":0},null,null,null,{"$f":"'Bordereau versement B'!E83","v":0},{"$f":"'Bordereau versement B'!F83:G83","v":0},null,{"$f":"'Bordereau versement B'!H83","v":0},{"$f":"'Bordereau versement B'!I83","v":0},{"$f":"'Bordereau versement B'!J83","v":0},{"$f":"'Bordereau versement B'!K83","v":0},{"$f":"'Bordereau versement B'!L83","v":0},{"$f":"'Bordereau versement B'!M83","v":0},{"$f":"'Bordereau versement B'!N83","v":0}]
[{"$f":"'Bordereau versement B'!A84:D84","v":0},null,null,null,{"$f":"'Bordereau versement B'!E84","v":0},{"$f":"'Bordereau versement B'!F84:G84","v":0},null,{"$f":"'Bordereau versement B'!H84","v":0},{"$f":"'Bordereau versement B'!I84","v":0},{"$f":"'Bordereau versement B'!J84","v":0},{"$f":"'Bordereau versement B'!K84","v":0},{"$f":"'Bordereau versement B'!L84","v":0},{"$f":"'Bordereau versement B'!M84","v":0},{"$f":"'Bordereau versement B'!N84","v":0}]
[{"$f":"'Bordereau versement B'!A85:D85","v":0},null,null,null,{"$f":"'Bordereau versement B'!E85","v":0},{"$f":"'Bordereau versement B'!F85:G85","v":0},null,{"$f":"'Bordereau versement B'!H85","v":0},{"$f":"'Bordereau versement B'!I85","v":0},{"$f":"'Bordereau versement B'!J85","v":0},{"$f":"'Bordereau versement B'!K85","v":0},{"$f":"'Bordereau versement B'!L85","v":0},{"$f":"'Bordereau versement B'!M85","v":0},{"$f":"'Bordereau versement B'!N85","v":0}]
[{"$f":"'Bordereau versement B'!A86:D86","v":0},null,null,null,{"$f":"'Bordereau versement B'!E86","v":0},{"$f":"'Bordereau versement B'!F86:G86","v":0},null,{"$f":"'Bordereau versement B'!H86","v":0},{"$f":"'Bordereau versement B'!I86","v":0},{"$f":"'Bordereau versement B'!J86","v":0},{"$f":"'Bordereau versement B'!K86","v":0},{"$f":"'Bordereau versement B'!L86","v":0},{"$f":"'Bordereau versement B'!M86","v":0},{"$f":"'Bordereau versement B'!N86","v":0}]
[{"$f":"'Bordereau versement B'!A87:D87","v":0},null,null,null,{"$f":"'Bordereau versement B'!E87","v":0},{"$f":"'Bordereau versement B'!F87:G87","v":0},null,{"$f":"'Bordereau versement B'!H87","v":0},{"$f":"'Bordereau versement B'!I87","v":0},{"$f":"'Bordereau versement B'!J87","v":0},{"$f":"'Bordereau versement B'!K87","v":0},{"$f":"'Bordereau versement B'!L87","v":0},{"$f":"'Bordereau versement B'!M87","v":0},{"$f":"'Bordereau versement B'!N87","v":0}]
[{"$f":"'Bordereau versement B'!A88:D88","v":0},null,null,null,{"$f":"'Bordereau versement B'!E88","v":0},{"$f":"'Bordereau versement B'!F88:G88","v":0},null,{"$f":"'Bordereau versement B'!H88","v":0},{"$f":"'Bordereau versement B'!I88","v":0},{"$f":"'Bordereau versement B'!J88","v":0},{"$f":"'Bordereau versement B'!K88","v":0},{"$f":"'Bordereau versement B'!L88","v":0},{"$f":"'Bordereau versement B'!M88","v":0},{"$f":"'Bordereau versement B'!N88","v":0}]
[{"$f":"'Bordereau versement B'!A89:D89","v":0},null,null,null,{"$f":"'Bordereau versement B'!E89","v":0},{"$f":"'Bordereau versement B'!F89:G89","v":0},null,{"$f":"'Bordereau versement B'!H89","v":0},{"$f":"'Bordereau versement B'!I89","v":0},{"$f":"'Bordereau versement B'!J89","v":0},{"$f":"'Bordereau versement B'!K89","v":0},{"$f":"'Bordereau versement B'!L89","v":0},{"$f":"'Bordereau versement B'!M89","v":0},{"$f":"'Bordereau versement B'!N89","v":0}]
[{"$f":"'Bordereau versement B'!A90:D90","v":0},null,null,null,{"$f":"'Bordereau versement B'!E90","v":0},{"$f":"'Bordereau versement B'!F90:G90","v":0},null,{"$f":"'Bordereau versement B'!H90","v":0},{"$f":"'Bordereau versement B'!I90","v":0},{"$f":"'Bordereau versement B'!J90","v":0},{"$f":"'Bordereau versement B'!K90","v":0},{"$f":"'Bordereau versement B'!L90","v":0},{"$f":"'Bordereau versement B'!M90","v":0},{"$f":"'Bordereau versement B'!N90","v":0}]
[{"$f":"'Bordereau versement B'!A91:D91","v":0},null,null,null,{"$f":"'Bordereau versement B'!E91","v":0},{"$f":"'Bordereau versement B'!F91:G91","v":0},null,{"$f":"'Bordereau versement B'!H91","v":0},{"$f":"'Bordereau versement B'!I91","v":0},{"$f":"'Bordereau versement B'!J91","v":0},{"$f":"'Bordereau versement B'!K91","v":0},{"$f":"'Bordereau versement B'!L91","v":0},{"$f":"'Bordereau versement B'!M91","v":0},{"$f":"'Bordereau versement B'!N91","v":0}]
[{"$f":"'Bordereau versement B'!A92:D92","v":0},null,null,null,{"$f":"'Bordereau versement B'!E92","v":0},{"$f":"'Bordereau versement B'!F92:G92","v":0},null,{"$f":"'Bordereau versement B'!H92","v":0},{"$f":"'Bordereau versement B'!I92","v":0},{"$f":"'Bordereau versement B'!J92","v":0},{"$f":"'Bordereau versement B'!K92","v":0},{"$f":"'Bordereau versement B'!L92","v":0},{"$f":"'Bordereau versement B'!M92","v":0},{"$f":"'Bordereau versement B'!N92","v":0}]
[{"$f":"'Bordereau versement B'!A93:D93","v":0},null,null,null,{"$f":"'Bordereau versement B'!E93","v":0},{"$f":"'Bordereau versement B'!F93:G93","v":0},null,{"$f":"'Bordereau versement B'!H93","v":0},{"$f":"'Bordereau versement B'!I93","v":0},{"$f":"'Bordereau versement B'!J93","v":0},{"$f":"'Bordereau versement B'!K93","v":0},{"$f":"'Bordereau versement B'!L93","v":0},{"$f":"'Bordereau versement B'!M93","v":0},{"$f":"'Bordereau versement B'!N93","v":0}]
[{"$f":"'Bordereau versement B'!A94:D94","v":0},null,null,null,{"$f":"'Bordereau versement B'!E94","v":0},{"$f":"'Bordereau versement B'!F94:G94","v":0},null,{"$f":"'Bordereau versement B'!H94","v":0},{"$f":"'Bordereau versement B'!I94","v":0},{"$f":"'Bordereau versement B'!J94","v":0},{"$f":"'Bordereau versement B'!K94","v":0},{"$f":"'Bordereau versement B'!L94","v":0},{"$f":"'Bordereau versement B'!M94","v":0},{"$f":"'Bordereau versement B'!N94","v":0}]
[{"$f":"'Bordereau versement B'!A95:D95","v":0},null,null,null,{"$f":"'Bordereau versement B'!E95","v":0},{"$f":"'Bordereau versement B'!F95:G95","v":0},null,{"$f":"'Bordereau versement B'!H95","v":0},{"$f":"'Bordereau versement B'!I95","v":0},{"$f":"'Bordereau versement B'!J95","v":0},{"$f":"'Bordereau versement B'!K95","v":0},{"$f":"'Bordereau versement B'!L95","v":0},{"$f":"'Bordereau versement B'!M95","v":0},{"$f":"'Bordereau versement B'!N95","v":0}]
[{"$f":"'Bordereau versement B'!A96:D96","v":0},null,null,null,{"$f":"'Bordereau versement B'!E96","v":0},{"$f":"'Bordereau versement B'!F96:G96","v":0},null,{"$f":"'Bordereau versement B'!H96","v":0},{"$f":"'Bordereau versement B'!I96","v":0},{"$f":"'Bordereau versement B'!J96","v":0},{"$f":"'Bordereau versement B'!K96","v":0},{"$f":"'Bordereau versement B'!L96","v":0},{"$f":"'Bordereau versement B'!M96","v":0},{"$f":"'Bordereau versement B'!N96","v":0}]
[{"$f":"'Bordereau versement B'!A97:D97","v":0},null,null,null,{"$f":"'Bordereau versement B'!E97","v":0},{"$f":"'Bordereau versement B'!F97:G97","v":0},null,{"$f":"'Bordereau versement B'!H97","v":0},{"$f":"'Bordereau versement B'!I97","v":0},{"$f":"'Bordereau versement B'!J97","v":0},{"$f":"'Bordereau versement B'!K97","v":0},{"$f":"'Bordereau versement B'!L97","v":0},{"$f":"'Bordereau versement B'!M97","v":0},{"$f":"'Bordereau versement B'!N97","v":0}]
[{"$f":"'Bordereau versement B'!A98:D98","v":0},null,null,null,{"$f":"'Bordereau versement B'!E98","v":0},{"$f":"'Bordereau versement B'!F98:G98","v":0},null,{"$f":"'Bordereau versement B'!H98","v":0},{"$f":"'Bordereau versement B'!I98","v":0},{"$f":"'Bordereau versement B'!J98","v":0},{"$f":"'Bordereau versement B'!K98","v":0},{"$f":"'Bordereau versement B'!L98","v":0},{"$f":"'Bordereau versement B'!M98","v":0},{"$f":"'Bordereau versement B'!N98","v":0}]
[{"$f":"'Bordereau versement B'!A99:D99","v":0},null,null,null,{"$f":"'Bordereau versement B'!E99","v":0},{"$f":"'Bordereau versement B'!F99:G99","v":0},null,{"$f":"'Bordereau versement B'!H99","v":0},{"$f":"'Bordereau versement B'!I99","v":0},{"$f":"'Bordereau versement B'!J99","v":0},{"$f":"'Bordereau versement B'!K99","v":0},{"$f":"'Bordereau versement B'!L99","v":0},{"$f":"'Bordereau versement B'!M99","v":0},{"$f":"'Bordereau versement B'!N99","v":0}]
[{"$f":"'Bordereau versement B'!A100:D100","v":0},null,null,null,{"$f":"'Bordereau versement B'!E100","v":0},{"$f":"'Bordereau versement B'!F100:G100","v":0},null,{"$f":"'Bordereau versement B'!H100","v":0},{"$f":"'Bordereau versement B'!I100","v":0},{"$f":"'Bordereau versement B'!J100","v":0},{"$f":"'Bordereau versement B'!K100","v":0},{"$f":"'Bordereau versement B'!L100","v":0},{"$f":"'Bordereau versement B'!M100","v":0},{"$f":"'Bordereau versement B'!N100","v":0}]
[{"$f":"'Bordereau versement B'!A101:D101","v":0},null,null,null,{"$f":"'Bordereau versement B'!E101","v":0},{"$f":"'Bordereau versement B'!F101:G101","v":0},null,{"$f":"'Bordereau versement B'!H101","v":0},{"$f":"'Bordereau versement B'!I101","v":0},{"$f":"'Bordereau versement B'!J101","v":0},{"$f":"'Bordereau versement B'!K101","v":0},{"$f":"'Bordereau versement B'!L101","v":0},{"$f":"'Bordereau versement B'!M101","v":0},{"$f":"'Bordereau versement B'!N101","v":0}]
[{"$f":"'Bordereau versement B'!A102:D102","v":0},null,null,null,{"$f":"'Bordereau versement B'!E102","v":0},{"$f":"'Bordereau versement B'!F102:G102","v":0},null,{"$f":"'Bordereau versement B'!H102","v":0},{"$f":"'Bordereau versement B'!I102","v":0},{"$f":"'Bordereau versement B'!J102","v":0},{"$f":"'Bordereau versement B'!K102","v":0},{"$f":"'Bordereau versement B'!L102","v":0},{"$f":"'Bordereau versement B'!M102","v":0},{"$f":"'Bordereau versement B'!N102","v":0}]
[{"$f":"'Bordereau versement B'!A103:D103","v":0},null,null,null,{"$f":"'Bordereau versement B'!E103","v":0},{"$f":"'Bordereau versement B'!F103:G103","v":0},null,{"$f":"'Bordereau versement B'!H103","v":0},{"$f":"'Bordereau versement B'!I103","v":0},{"$f":"'Bordereau versement B'!J103","v":0},{"$f":"'Bordereau versement B'!K103","v":0},{"$f":"'Bordereau versement B'!L103","v":0},{"$f":"'Bordereau versement B'!M103","v":0},{"$f":"'Bordereau versement B'!N103","v":0}]
[{"$f":"'Bordereau versement B'!A104:D104","v":0},null,null,null,{"$f":"'Bordereau versement B'!E104","v":0},{"$f":"'Bordereau versement B'!F104:G104","v":0},null,{"$f":"'Bordereau versement B'!H104","v":0},{"$f":"'Bordereau versement B'!I104","v":0},{"$f":"'Bordereau versement B'!J104","v":0},{"$f":"'Bordereau versement B'!K104","v":0},{"$f":"'Bordereau versement B'!L104","v":0},{"$f":"'Bordereau versement B'!M104","v":0},{"$f":"'Bordereau versement B'!N104","v":0}]
[{"$f":"'Bordereau versement B'!A105:D105","v":0},null,null,null,{"$f":"'Bordereau versement B'!E105","v":0},{"$f":"'Bordereau versement B'!F105:G105","v":0},null,{"$f":"'Bordereau versement B'!H105","v":0},{"$f":"'Bordereau versement B'!I105","v":0},{"$f":"'Bordereau versement B'!J105","v":0},{"$f":"'Bordereau versement B'!K105","v":0},{"$f":"'Bordereau versement B'!L105","v":0},{"$f":"'Bordereau versement B'!M105","v":0},{"$f":"'Bordereau versement B'!N105","v":0}]
[{"$f":"'Bordereau versement B'!A106:D106","v":0},null,null,null,{"$f":"'Bordereau versement B'!E106","v":0},{"$f":"'Bordereau versement B'!F106:G106","v":0},null,{"$f":"'Bordereau versement B'!H106","v":0},{"$f":"'Bordereau versement B'!I106","v":0},{"$f":"'Bordereau versement B'!J106","v":0},{"$f":"'Bordereau versement B'!K106","v":0},{"$f":"'Bordereau versement B'!L106","v":0},{"$f":"'Bordereau versement B'!M106","v":0},{"$f":"'Bordereau versement B'!N106","v":0}]
[{"$f":"'Bordereau versement B'!A107:D107","v":0},null,null,null,{"$f":"'Bordereau versement B'!E107","v":0},{"$f":"'Bordereau versement B'!F107:G107","v":0},null,{"$f":"'Bordereau versement B'!H107","v":0},{"$f":"'Bordereau versement B'!I107","v":0},{"$f":"'Bordereau versement B'!J107","v":0},{"$f":"'Bordereau versement B'!K107","v":0},{"$f":"'Bordereau versement B'!L107","v":0},{"$f":"'Bordereau versement B'!M107","v":0},{"$f":"'Bordereau versement B'!N107","v":0}]
[{"$f":"'Bordereau versement B'!A108:D108","v":0},null,null,null,{"$f":"'Bordereau versement B'!E108","v":0},{"$f":"'Bordereau versement B'!F108:G108","v":0},null,{"$f":"'Bordereau versement B'!H108","v":0},{"$f":"'Bordereau versement B'!I108","v":0},{"$f":"'Bordereau versement B'!J108","v":0},{"$f":"'Bordereau versement B'!K108","v":0},{"$f":"'Bordereau versement B'!L108","v":0},{"$f":"'Bordereau versement B'!M108","v":0},{"$f":"'Bordereau versement B'!N108","v":0}]
[{"$f":"'Bordereau versement B'!A109:D109","v":0},null,null,null,{"$f":"'Bordereau versement B'!E109","v":0},{"$f":"'Bordereau versement B'!F109:G109","v":0},null,{"$f":"'Bordereau versement B'!H109","v":0},{"$f":"'Bordereau versement B'!I109","v":0},{"$f":"'Bordereau versement B'!J109","v":0},{"$f":"'Bordereau versement B'!K109","v":0},{"$f":"'Bordereau versement B'!L109","v":0},{"$f":"'Bordereau versement B'!M109","v":0},{"$f":"'Bordereau versement B'!N109","v":0}]
[{"$f":"'Bordereau versement B'!A110:D110","v":0},null,null,null,{"$f":"'Bordereau versement B'!E110","v":0},{"$f":"'Bordereau versement B'!F110:G110","v":0},null,{"$f":"'Bordereau versement B'!H110","v":0},{"$f":"'Bordereau versement B'!I110","v":0},{"$f":"'Bordereau versement B'!J110","v":0},{"$f":"'Bordereau versement B'!K110","v":0},{"$f":"'Bordereau versement B'!L110","v":0},{"$f":"'Bordereau versement B'!M110","v":0},{"$f":"'Bordereau versement B'!N110","v":0}]
[{"$f":"'Bordereau versement B'!A111:D111","v":0},null,null,null,{"$f":"'Bordereau versement B'!E111","v":0},{"$f":"'Bordereau versement B'!F111:G111","v":0},null,{"$f":"'Bordereau versement B'!H111","v":0},{"$f":"'Bordereau versement B'!I111","v":0},{"$f":"'Bordereau versement B'!J111","v":0},{"$f":"'Bordereau versement B'!K111","v":0},{"$f":"'Bordereau versement B'!L111","v":0},{"$f":"'Bordereau versement B'!M111","v":0},{"$f":"'Bordereau versement B'!N111","v":0}]
[{"$f":"'Bordereau versement B'!A112:D112","v":0},null,null,null,{"$f":"'Bordereau versement B'!E112","v":0},{"$f":"'Bordereau versement B'!F112:G112","v":0},null,{"$f":"'Bordereau versement B'!H112","v":0},{"$f":"'Bordereau versement B'!I112","v":0},{"$f":"'Bordereau versement B'!J112","v":0},{"$f":"'Bordereau versement B'!K112","v":0},{"$f":"'Bordereau versement B'!L112","v":0},{"$f":"'Bordereau versement B'!M112","v":0},{"$f":"'Bordereau versement B'!N112","v":0}]
[{"$f":"'Bordereau versement B'!A113:D113","v":0},null,null,null,{"$f":"'Bordereau versement B'!E113","v":0},{"$f":"'Bordereau versement B'!F113:G113","v":0},null,{"$f":"'Bordereau versement B'!H113","v":0},{"$f":"'Bordereau versement B'!I113","v":0},{"$f":"'Bordereau versement B'!J113","v":0},{"$f":"'Bordereau versement B'!K113","v":0},{"$f":"'Bordereau versement B'!L113","v":0},{"$f":"'Bordereau versement B'!M113","v":0},{"$f":"'Bordereau versement B'!N113","v":0}]
[{"$f":"'Bordereau versement B'!A114:D114","v":0},null,null,null,{"$f":"'Bordereau versement B'!E114","v":0},{"$f":"'Bordereau versement B'!F114:G114","v":0},null,{"$f":"'Bordereau versement B'!H114","v":0},{"$f":"'Bordereau versement B'!I114","v":0},{"$f":"'Bordereau versement B'!J114","v":0},{"$f":"'Bordereau versement B'!K114","v":0},{"$f":"'Bordereau versement B'!L114","v":0},{"$f":"'Bordereau versement B'!M114","v":0},{"$f":"'Bordereau versement B'!N114","v":0}]
[{"$f":"'Bordereau versement B'!A115:D115","v":0},null,null,null,{"$f":"'Bordereau versement B'!E115","v":0},{"$f":"'Bordereau versement B'!F115:G115","v":0},null,{"$f":"'Bordereau versement B'!H115","v":0},{"$f":"'Bordereau versement B'!I115","v":0},{"$f":"'Bordereau versement B'!J115","v":0},{"$f":"'Bordereau versement B'!K115","v":0},{"$f":"'Bordereau versement B'!L115","v":0},{"$f":"'Bordereau versement B'!M115","v":0},{"$f":"'Bordereau versement B'!N115","v":0}]
[{"$f":"'Bordereau versement B'!A116:D116","v":0},null,null,null,{"$f":"'Bordereau versement B'!E116","v":0},{"$f":"'Bordereau versement B'!F116:G116","v":0},null,{"$f":"'Bordereau versement B'!H116","v":0},{"$f":"'Bordereau versement B'!I116","v":0},{"$f":"'Bordereau versement B'!J116","v":0},{"$f":"'Bordereau versement B'!K116","v":0},{"$f":"'Bordereau versement B'!L116","v":0},{"$f":"'Bordereau versement B'!M116","v":0},{"$f":"'Bordereau versement B'!N116","v":0}]
[{"$f":"'Bordereau versement B'!A117:D117","v":0},null,null,null,{"$f":"'Bordereau versement B'!E117","v":0},{"$f":"'Bordereau versement B'!F117:G117","v":0},null,{"$f":"'Bordereau versement B'!H117","v":0},{"$f":"'Bordereau versement B'!I117","v":0},{"$f":"'Bordereau versement B'!J117","v":0},{"$f":"'Bordereau versement B'!K117","v":0},{"$f":"'Bordereau versement B'!L117","v":0},{"$f":"'Bordereau versement B'!M117","v":0},{"$f":"'Bordereau versement B'!N117","v":0}]
[{"$f":"'Bordereau versement B'!A118:D118","v":0},null,null,null,{"$f":"'Bordereau versement B'!E118","v":0},{"$f":"'Bordereau versement B'!F118:G118","v":0},null,{"$f":"'Bordereau versement B'!H118","v":0},{"$f":"'Bordereau versement B'!I118","v":0},{"$f":"'Bordereau versement B'!J118","v":0},{"$f":"'Bordereau versement B'!K118","v":0},{"$f":"'Bordereau versement B'!L118","v":0},{"$f":"'Bordereau versement B'!M118","v":0},{"$f":"'Bordereau versement B'!N118","v":0}]
[{"$f":"'Bordereau versement B'!A119:D119","v":0},null,null,null,{"$f":"'Bordereau versement B'!E119","v":0},{"$f":"'Bordereau versement B'!F119:G119","v":0},null,{"$f":"'Bordereau versement B'!H119","v":0},{"$f":"'Bordereau versement B'!I119","v":0},{"$f":"'Bordereau versement B'!J119","v":0},{"$f":"'Bordereau versement B'!K119","v":0},{"$f":"'Bordereau versement B'!L119","v":0},{"$f":"'Bordereau versement B'!M119","v":0},{"$f":"'Bordereau versement B'!N119","v":0}]
[{"$f":"'Bordereau versement B'!A120:D120","v":0},null,null,null,{"$f":"'Bordereau versement B'!E120","v":0},{"$f":"'Bordereau versement B'!F120:G120","v":0},null,{"$f":"'Bordereau versement B'!H120","v":0},{"$f":"'Bordereau versement B'!I120","v":0},{"$f":"'Bordereau versement B'!J120","v":0},{"$f":"'Bordereau versement B'!K120","v":0},{"$f":"'Bordereau versement B'!L120","v":0},{"$f":"'Bordereau versement B'!M120","v":0},{"$f":"'Bordereau versement B'!N120","v":0}]
[{"$f":"'Bordereau versement B'!A121:D121","v":0},null,null,null,{"$f":"'Bordereau versement B'!E121","v":0},{"$f":"'Bordereau versement B'!F121:G121","v":0},null,{"$f":"'Bordereau versement B'!H121","v":0},{"$f":"'Bordereau versement B'!I121","v":0},{"$f":"'Bordereau versement B'!J121","v":0},{"$f":"'Bordereau versement B'!K121","v":0},{"$f":"'Bordereau versement B'!L121","v":0},{"$f":"'Bordereau versement B'!M121","v":0},{"$f":"'Bordereau versement B'!N121","v":0}]
[{"$f":"'Bordereau versement B'!A122:D122","v":0},null,null,null,{"$f":"'Bordereau versement B'!E122","v":0},{"$f":"'Bordereau versement B'!F122:G122","v":0},null,{"$f":"'Bordereau versement B'!H122","v":0},{"$f":"'Bordereau versement B'!I122","v":0},{"$f":"'Bordereau versement B'!J122","v":0},{"$f":"'Bordereau versement B'!K122","v":0},{"$f":"'Bordereau versement B'!L122","v":0},{"$f":"'Bordereau versement B'!M122","v":0},{"$f":"'Bordereau versement B'!N122","v":0}]
[{"$f":"'Bordereau versement B'!A123:D123","v":0},null,null,null,{"$f":"'Bordereau versement B'!E123","v":0},{"$f":"'Bordereau versement B'!F123:G123","v":0},null,{"$f":"'Bordereau versement B'!H123","v":0},{"$f":"'Bordereau versement B'!I123","v":0},{"$f":"'Bordereau versement B'!J123","v":0},{"$f":"'Bordereau versement B'!K123","v":0},{"$f":"'Bordereau versement B'!L123","v":0},{"$f":"'Bordereau versement B'!M123","v":0},{"$f":"'Bordereau versement B'!N123","v":0}]
[{"$f":"'Bordereau versement B'!A124:D124","v":0},null,null,null,{"$f":"'Bordereau versement B'!E124","v":0},{"$f":"'Bordereau versement B'!F124:G124","v":0},null,{"$f":"'Bordereau versement B'!H124","v":0},{"$f":"'Bordereau versement B'!I124","v":0},{"$f":"'Bordereau versement B'!J124","v":0},{"$f":"'Bordereau versement B'!K124","v":0},{"$f":"'Bordereau versement B'!L124","v":0},{"$f":"'Bordereau versement B'!M124","v":0},{"$f":"'Bordereau versement B'!N124","v":0}]
[{"$f":"'Bordereau versement B'!A125:D125","v":0},null,null,null,{"$f":"'Bordereau versement B'!E125","v":0},{"$f":"'Bordereau versement B'!F125:G125","v":0},null,{"$f":"'Bordereau versement B'!H125","v":0},{"$f":"'Bordereau versement B'!I125","v":0},{"$f":"'Bordereau versement B'!J125","v":0},{"$f":"'Bordereau versement B'!K125","v":0},{"$f":"'Bordereau versement B'!L125","v":0},{"$f":"'Bordereau versement B'!M125","v":0},{"$f":"'Bordereau versement B'!N125","v":0}]
[{"$f":"'Bordereau versement B'!A126:D126","v":0},null,null,null,{"$f":"'Bordereau versement B'!E126","v":0},{"$f":"'Bordereau versement B'!F126:G126","v":0},null,{"$f":"'Bordereau versement B'!H126","v":0},{"$f":"'Bordereau versement B'!I126","v":0},{"$f":"'Bordereau versement B'!J126","v":0},{"$f":"'Bordereau versement B'!K126","v":0},{"$f":"'Bordereau versement B'!L126","v":0},{"$f":"'Bordereau versement B'!M126","v":0},{"$f":"'Bordereau versement B'!N126","v":0}]
[{"$f":"'Bordereau versement B'!A127:D127","v":0},null,null,null,{"$f":"'Bordereau versement B'!E127","v":0},{"$f":"'Bordereau versement B'!F127:G127","v":0},null,{"$f":"'Bordereau versement B'!H127","v":0},{"$f":"'Bordereau versement B'!I127","v":0},{"$f":"'Bordereau versement B'!J127","v":0},{"$f":"'Bordereau versement B'!K127","v":0},{"$f":"'Bordereau versement B'!L127","v":0},{"$f":"'Bordereau versement B'!M127","v":0},{"$f":"'Bordereau versement B'!N127","v":0}]
[{"$f":"'Bordereau versement B'!A128:D128","v":0},null,null,null,{"$f":"'Bordereau versement B'!E128","v":0},{"$f":"'Bordereau versement B'!F128:G128","v":0},null,{"$f":"'Bordereau versement B'!H128","v":0},{"$f":"'Bordereau versement B'!I128","v":0},{"$f":"'Bordereau versement B'!J128","v":0},{"$f":"'Bordereau versement B'!K128","v":0},{"$f":"'Bordereau versement B'!L128","v":0},{"$f":"'Bordereau versement B'!M128","v":0},{"$f":"'Bordereau versement B'!N128","v":0}]
[{"$f":"'Bordereau versement B'!A129:D129","v":0},null,null,null,{"$f":"'Bordereau versement B'!E129","v":0},{"$f":"'Bordereau versement B'!F129:G129","v":0},null,{"$f":"'Bordereau versement B'!H129","v":0},{"$f":"'Bordereau versement B'!I129","v":0},{"$f":"'Bordereau versement B'!J129","v":0},{"$f":"'Bordereau versement B'!K129","v":0},{"$f":"'Bordereau versement B'!L129","v":0},{"$f":"'Bordereau versement B'!M129","v":0},{"$f":"'Bordereau versement B'!N129","v":0}]
[{"$f":"'Bordereau versement B'!A130:D130","v":0},null,null,null,{"$f":"'Bordereau versement B'!E130","v":0},{"$f":"'Bordereau versement B'!F130:G130","v":0},null,{"$f":"'Bordereau versement B'!H130","v":0},{"$f":"'Bordereau versement B'!I130","v":0},{"$f":"'Bordereau versement B'!J130","v":0},{"$f":"'Bordereau versement B'!K130","v":0},{"$f":"'Bordereau versement B'!L130","v":0},{"$f":"'Bordereau versement B'!M130","v":0},{"$f":"'Bordereau versement B'!N130","v":0}]
[{"$f":"'Bordereau versement B'!A131:D131","v":0},null,null,null,{"$f":"'Bordereau versement B'!E131","v":0},{"$f":"'Bordereau versement B'!F131:G131","v":0},null,{"$f":"'Bordereau versement B'!H131","v":0},{"$f":"'Bordereau versement B'!I131","v":0},{"$f":"'Bordereau versement B'!J131","v":0},{"$f":"'Bordereau versement B'!K131","v":0},{"$f":"'Bordereau versement B'!L131","v":0},{"$f":"'Bordereau versement B'!M131","v":0},{"$f":"'Bordereau versement B'!N131","v":0}]
[{"$f":"'Bordereau versement B'!A132:D132","v":0},null,null,null,{"$f":"'Bordereau versement B'!E132","v":0},{"$f":"'Bordereau versement B'!F132:G132","v":0},null,{"$f":"'Bordereau versement B'!H132","v":0},{"$f":"'Bordereau versement B'!I132","v":0},{"$f":"'Bordereau versement B'!J132","v":0},{"$f":"'Bordereau versement B'!K132","v":0},{"$f":"'Bordereau versement B'!L132","v":0},{"$f":"'Bordereau versement B'!M132","v":0},{"$f":"'Bordereau versement B'!N132","v":0}]
[{"$f":"'Bordereau versement B'!A133:D133","v":0},null,null,null,{"$f":"'Bordereau versement B'!E133","v":0},{"$f":"'Bordereau versement B'!F133:G133","v":0},null,{"$f":"'Bordereau versement B'!H133","v":0},{"$f":"'Bordereau versement B'!I133","v":0},{"$f":"'Bordereau versement B'!J133","v":0},{"$f":"'Bordereau versement B'!K133","v":0},{"$f":"'Bordereau versement B'!L133","v":0},{"$f":"'Bordereau versement B'!M133","v":0},{"$f":"'Bordereau versement B'!N133","v":0}]
[{"$f":"'Bordereau versement B'!A134:D134","v":0},null,null,null,{"$f":"'Bordereau versement B'!E134","v":0},{"$f":"'Bordereau versement B'!F134:G134","v":0},null,{"$f":"'Bordereau versement B'!H134","v":0},{"$f":"'Bordereau versement B'!I134","v":0},{"$f":"'Bordereau versement B'!J134","v":0},{"$f":"'Bordereau versement B'!K134","v":0},{"$f":"'Bordereau versement B'!L134","v":0},{"$f":"'Bordereau versement B'!M134","v":0},{"$f":"'Bordereau versement B'!N134","v":0}]
[{"$f":"'Bordereau versement B'!A135:D135","v":0},null,null,null,{"$f":"'Bordereau versement B'!E135","v":0},{"$f":"'Bordereau versement B'!F135:G135","v":0},null,{"$f":"'Bordereau versement B'!H135","v":0},{"$f":"'Bordereau versement B'!I135","v":0},{"$f":"'Bordereau versement B'!J135","v":0},{"$f":"'Bordereau versement B'!K135","v":0},{"$f":"'Bordereau versement B'!L135","v":0},{"$f":"'Bordereau versement B'!M135","v":0},{"$f":"'Bordereau versement B'!N135","v":0}]
[{"$f":"'Bordereau versement B'!A136:D136","v":0},null,null,null,{"$f":"'Bordereau versement B'!E136","v":0},{"$f":"'Bordereau versement B'!F136:G136","v":0},null,{"$f":"'Bordereau versement B'!H136","v":0},{"$f":"'Bordereau versement B'!I136","v":0},{"$f":"'Bordereau versement B'!J136","v":0},{"$f":"'Bordereau versement B'!K136","v":0},{"$f":"'Bordereau versement B'!L136","v":0},{"$f":"'Bordereau versement B'!M136","v":0},{"$f":"'Bordereau versement B'!N136","v":0}]
[{"$f":"'Bordereau versement B'!A137:D137","v":0},null,null,null,{"$f":"'Bordereau versement B'!E137","v":0},{"$f":"'Bordereau versement B'!F137:G137","v":0},null,{"$f":"'Bordereau versement B'!H137","v":0},{"$f":"'Bordereau versement B'!I137","v":0},{"$f":"'Bordereau versement B'!J137","v":0},{"$f":"'Bordereau versement B'!K137","v":0},{"$f":"'Bordereau versement B'!L137","v":0},{"$f":"'Bordereau versement B'!M137","v":0},{"$f":"'Bordereau versement B'!N137","v":0}]
[{"$f":"'Bordereau versement B'!A138:D138","v":0},null,null,null,{"$f":"'Bordereau versement B'!E138","v":0},{"$f":"'Bordereau versement B'!F138:G138","v":0},null,{"$f":"'Bordereau versement B'!H138","v":0},{"$f":"'Bordereau versement B'!I138","v":0},{"$f":"'Bordereau versement B'!J138","v":0},{"$f":"'Bordereau versement B'!K138","v":0},{"$f":"'Bordereau versement B'!L138","v":0},{"$f":"'Bordereau versement B'!M138","v":0},{"$f":"'Bordereau versement B'!N138","v":0}]
[{"$f":"'Bordereau versement B'!A139:D139","v":0},null,null,null,{"$f":"'Bordereau versement B'!E139","v":0},{"$f":"'Bordereau versement B'!F139:G139","v":0},null,{"$f":"'Bordereau versement B'!H139","v":0},{"$f":"'Bordereau versement B'!I139","v":0},{"$f":"'Bordereau versement B'!J139","v":0},{"$f":"'Bordereau versement B'!K139","v":0},{"$f":"'Bordereau versement B'!L139","v":0},{"$f":"'Bordereau versement B'!M139","v":0},{"$f":"'Bordereau versement B'!N139","v":0}]
[{"$f":"'Bordereau versement B'!A140:D140","v":0},null,null,null,{"$f":"'Bordereau versement B'!E140","v":0},{"$f":"'Bordereau versement B'!F140:G140","v":0},null,{"$f":"'Bordereau versement B'!H140","v":0},{"$f":"'Bordereau versement B'!I140","v":0},{"$f":"'Bordereau versement B'!J140","v":0},{"$f":"'Bordereau versement B'!K140","v":0},{"$f":"'Bordereau versement B'!L140","v":0},{"$f":"'Bordereau versement B'!M140","v":0},{"$f":"'Bordereau versement B'!N140","v":0}]
[{"$f":"'Bordereau versement B'!A141:D141","v":0},null,null,null,{"$f":"'Bordereau versement B'!E141","v":0},{"$f":"'Bordereau versement B'!F141:G141","v":0},null,{"$f":"'Bordereau versement B'!H141","v":0},{"$f":"'Bordereau versement B'!I141","v":0},{"$f":"'Bordereau versement B'!J141","v":0},{"$f":"'Bordereau versement B'!K141","v":0},{"$f":"'Bordereau versement B'!L141","v":0},{"$f":"'Bordereau versement B'!M141","v":0},{"$f":"'Bordereau versement B'!N141","v":0}]
[{"$f":"'Bordereau versement B'!A142:D142","v":0},null,null,null,{"$f":"'Bordereau versement B'!E142","v":0},{"$f":"'Bordereau versement B'!F142:G142","v":0},null,{"$f":"'Bordereau versement B'!H142","v":0},{"$f":"'Bordereau versement B'!I142","v":0},{"$f":"'Bordereau versement B'!J142","v":0},{"$f":"'Bordereau versement B'!K142","v":0},{"$f":"'Bordereau versement B'!L142","v":0},{"$f":"'Bordereau versement B'!M142","v":0},{"$f":"'Bordereau versement B'!N142","v":0}]
[{"$f":"'Bordereau versement B'!A143:D143","v":0},null,null,null,{"$f":"'Bordereau versement B'!E143","v":0},{"$f":"'Bordereau versement B'!F143:G143","v":0},null,{"$f":"'Bordereau versement B'!H143","v":0},{"$f":"'Bordereau versement B'!I143","v":0},{"$f":"'Bordereau versement B'!J143","v":0},{"$f":"'Bordereau versement B'!K143","v":0},{"$f":"'Bordereau versement B'!L143","v":0},{"$f":"'Bordereau versement B'!M143","v":0},{"$f":"'Bordereau versement B'!N143","v":0}]
[{"$f":"'Bordereau versement B'!A144:D144","v":0},null,null,null,{"$f":"'Bordereau versement B'!E144","v":0},{"$f":"'Bordereau versement B'!F144:G144","v":0},null,{"$f":"'Bordereau versement B'!H144","v":0},{"$f":"'Bordereau versement B'!I144","v":0},{"$f":"'Bordereau versement B'!J144","v":0},{"$f":"'Bordereau versement B'!K144","v":0},{"$f":"'Bordereau versement B'!L144","v":0},{"$f":"'Bordereau versement B'!M144","v":0},{"$f":"'Bordereau versement B'!N144","v":0}]
[{"$f":"'Bordereau versement B'!A145:D145","v":0},null,null,null,{"$f":"'Bordereau versement B'!E145","v":0},{"$f":"'Bordereau versement B'!F145:G145","v":0},null,{"$f":"'Bordereau versement B'!H145","v":0},{"$f":"'Bordereau versement B'!I145","v":0},{"$f":"'Bordereau versement B'!J145","v":0},{"$f":"'Bordereau versement B'!K145","v":0},{"$f":"'Bordereau versement B'!L145","v":0},{"$f":"'Bordereau versement B'!M145","v":0},{"$f":"'Bordereau versement B'!N145","v":0}]
[{"$f":"'Bordereau versement B'!A146:D146","v":0},null,null,null,{"$f":"'Bordereau versement B'!E146","v":0},{"$f":"'Bordereau versement B'!F146:G146","v":0},null,{"$f":"'Bordereau versement B'!H146","v":0},{"$f":"'Bordereau versement B'!I146","v":0},{"$f":"'Bordereau versement B'!J146","v":0},{"$f":"'Bordereau versement B'!K146","v":0},{"$f":"'Bordereau versement B'!L146","v":0},{"$f":"'Bordereau versement B'!M146","v":0},{"$f":"'Bordereau versement B'!N146","v":0}]
[{"$f":"'Bordereau versement B'!A147:D147","v":0},null,null,null,{"$f":"'Bordereau versement B'!E147","v":0},{"$f":"'Bordereau versement B'!F147:G147","v":0},null,{"$f":"'Bordereau versement B'!H147","v":0},{"$f":"'Bordereau versement B'!I147","v":0},{"$f":"'Bordereau versement B'!J147","v":0},{"$f":"'Bordereau versement B'!K147","v":0},{"$f":"'Bordereau versement B'!L147","v":0},{"$f":"'Bordereau versement B'!M147","v":0},{"$f":"'Bordereau versement B'!N147","v":0}]
[{"$f":"'Bordereau versement B'!A148:D148","v":0},null,null,null,{"$f":"'Bordereau versement B'!E148","v":0},{"$f":"'Bordereau versement B'!F148:G148","v":0},null,{"$f":"'Bordereau versement B'!H148","v":0},{"$f":"'Bordereau versement B'!I148","v":0},{"$f":"'Bordereau versement B'!J148","v":0},{"$f":"'Bordereau versement B'!K148","v":0},{"$f":"'Bordereau versement B'!L148","v":0},{"$f":"'Bordereau versement B'!M148","v":0},{"$f":"'Bordereau versement B'!N148","v":0}]
[{"$f":"'Bordereau versement B'!A149:D149","v":0},null,null,null,{"$f":"'Bordereau versement B'!E149","v":0},{"$f":"'Bordereau versement B'!F149:G149","v":0},null,{"$f":"'Bordereau versement B'!H149","v":0},{"$f":"'Bordereau versement B'!I149","v":0},{"$f":"'Bordereau versement B'!J149","v":0},{"$f":"'Bordereau versement B'!K149","v":0},{"$f":"'Bordereau versement B'!L149","v":0},{"$f":"'Bordereau versement B'!M149","v":0},{"$f":"'Bordereau versement B'!N149","v":0}]
[{"$f":"'Bordereau versement B'!A150:D150","v":0},null,null,null,{"$f":"'Bordereau versement B'!E150","v":0},{"$f":"'Bordereau versement B'!F150:G150","v":0},null,{"$f":"'Bordereau versement B'!H150","v":0},{"$f":"'Bordereau versement B'!I150","v":0},{"$f":"'Bordereau versement B'!J150","v":0},{"$f":"'Bordereau versement B'!K150","v":0},{"$f":"'Bordereau versement B'!L150","v":0},{"$f":"'Bordereau versement B'!M150","v":0},{"$f":"'Bordereau versement B'!N150","v":0}]
[{"$f":"'Bordereau versement B'!A151:D151","v":0},null,null,null,{"$f":"'Bordereau versement B'!E151","v":0},{"$f":"'Bordereau versement B'!F151:G151","v":0},null,{"$f":"'Bordereau versement B'!H151","v":0},{"$f":"'Bordereau versement B'!I151","v":0},{"$f":"'Bordereau versement B'!J151","v":0},{"$f":"'Bordereau versement B'!K151","v":0},{"$f":"'Bordereau versement B'!L151","v":0},{"$f":"'Bordereau versement B'!M151","v":0},{"$f":"'Bordereau versement B'!N151","v":0}]
[{"$f":"'Bordereau versement B'!A152:D152","v":0},null,null,null,{"$f":"'Bordereau versement B'!E152","v":0},{"$f":"'Bordereau versement B'!F152:G152","v":0},null,{"$f":"'Bordereau versement B'!H152","v":0},{"$f":"'Bordereau versement B'!I152","v":0},{"$f":"'Bordereau versement B'!J152","v":0},{"$f":"'Bordereau versement B'!K152","v":0},{"$f":"'Bordereau versement B'!L152","v":0},{"$f":"'Bordereau versement B'!M152","v":0},{"$f":"'Bordereau versement B'!N152","v":0}]
[{"$f":"'Bordereau versement B'!A153:D153","v":0},null,null,null,{"$f":"'Bordereau versement B'!E153","v":0},{"$f":"'Bordereau versement B'!F153:G153","v":0},null,{"$f":"'Bordereau versement B'!H153","v":0},{"$f":"'Bordereau versement B'!I153","v":0},{"$f":"'Bordereau versement B'!J153","v":0},{"$f":"'Bordereau versement B'!K153","v":0},{"$f":"'Bordereau versement B'!L153","v":0},{"$f":"'Bordereau versement B'!M153","v":0},{"$f":"'Bordereau versement B'!N153","v":0}]
[{"$f":"'Bordereau versement B'!A154:D154","v":0},null,null,null,{"$f":"'Bordereau versement B'!E154","v":0},{"$f":"'Bordereau versement B'!F154:G154","v":0},null,{"$f":"'Bordereau versement B'!H154","v":0},{"$f":"'Bordereau versement B'!I154","v":0},{"$f":"'Bordereau versement B'!J154","v":0},{"$f":"'Bordereau versement B'!K154","v":0},{"$f":"'Bordereau versement B'!L154","v":0},{"$f":"'Bordereau versement B'!M154","v":0},{"$f":"'Bordereau versement B'!N154","v":0}]
[{"$f":"'Bordereau versement B'!A155:D155","v":0},null,null,null,{"$f":"'Bordereau versement B'!E155","v":0},{"$f":"'Bordereau versement B'!F155:G155","v":0},null,{"$f":"'Bordereau versement B'!H155","v":0},{"$f":"'Bordereau versement B'!I155","v":0},{"$f":"'Bordereau versement B'!J155","v":0},{"$f":"'Bordereau versement B'!K155","v":0},{"$f":"'Bordereau versement B'!L155","v":0},{"$f":"'Bordereau versement B'!M155","v":0},{"$f":"'Bordereau versement B'!N155","v":0}]
[{"$f":"'Bordereau versement B'!A156:D156","v":0},null,null,null,{"$f":"'Bordereau versement B'!E156","v":0},{"$f":"'Bordereau versement B'!F156:G156","v":0},null,{"$f":"'Bordereau versement B'!H156","v":0},{"$f":"'Bordereau versement B'!I156","v":0},{"$f":"'Bordereau versement B'!J156","v":0},{"$f":"'Bordereau versement B'!K156","v":0},{"$f":"'Bordereau versement B'!L156","v":0},{"$f":"'Bordereau versement B'!M156","v":0},{"$f":"'Bordereau versement B'!N156","v":0}]
[{"$f":"'Bordereau versement B'!A157:D157","v":0},null,null,null,{"$f":"'Bordereau versement B'!E157","v":0},{"$f":"'Bordereau versement B'!F157:G157","v":0},null,{"$f":"'Bordereau versement B'!H157","v":0},{"$f":"'Bordereau versement B'!I157","v":0},{"$f":"'Bordereau versement B'!J157","v":0},{"$f":"'Bordereau versement B'!K157","v":0},{"$f":"'Bordereau versement B'!L157","v":0},{"$f":"'Bordereau versement B'!M157","v":0},{"$f":"'Bordereau versement B'!N157","v":0}]
[{"$f":"'Bordereau versement B'!A158:D158","v":0},null,null,null,{"$f":"'Bordereau versement B'!E158","v":0},{"$f":"'Bordereau versement B'!F158:G158","v":0},null,{"$f":"'Bordereau versement B'!H158","v":0},{"$f":"'Bordereau versement B'!I158","v":0},{"$f":"'Bordereau versement B'!J158","v":0},{"$f":"'Bordereau versement B'!K158","v":0},{"$f":"'Bordereau versement B'!L158","v":0},{"$f":"'Bordereau versement B'!M158","v":0},{"$f":"'Bordereau versement B'!N158","v":0}]
[{"$f":"'Bordereau versement B'!A159:D159","v":0},null,null,null,{"$f":"'Bordereau versement B'!E159","v":0},{"$f":"'Bordereau versement B'!F159:G159","v":0},null,{"$f":"'Bordereau versement B'!H159","v":0},{"$f":"'Bordereau versement B'!I159","v":0},{"$f":"'Bordereau versement B'!J159","v":0},{"$f":"'Bordereau versement B'!K159","v":0},{"$f":"'Bordereau versement B'!L159","v":0},{"$f":"'Bordereau versement B'!M159","v":0},{"$f":"'Bordereau versement B'!N159","v":0}]
[{"$f":"'Bordereau versement B'!A160:D160","v":0},null,null,null,{"$f":"'Bordereau versement B'!E160","v":0},{"$f":"'Bordereau versement B'!F160:G160","v":0},null,{"$f":"'Bordereau versement B'!H160","v":0},{"$f":"'Bordereau versement B'!I160","v":0},{"$f":"'Bordereau versement B'!J160","v":0},{"$f":"'Bordereau versement B'!K160","v":0},{"$f":"'Bordereau versement B'!L160","v":0},{"$f":"'Bordereau versement B'!M160","v":0},{"$f":"'Bordereau versement B'!N160","v":0}]
[{"$f":"'Bordereau versement B'!A161:D161","v":0},null,null,null,{"$f":"'Bordereau versement B'!E161","v":0},{"$f":"'Bordereau versement B'!F161:G161","v":0},null,{"$f":"'Bordereau versement B'!H161","v":0},{"$f":"'Bordereau versement B'!I161","v":0},{"$f":"'Bordereau versement B'!J161","v":0},{"$f":"'Bordereau versement B'!K161","v":0},{"$f":"'Bordereau versement B'!L161","v":0},{"$f":"'Bordereau versement B'!M161","v":0},{"$f":"'Bordereau versement B'!N161","v":0}]
[{"$f":"'Bordereau versement B'!A162:D162","v":0},null,null,null,{"$f":"'Bordereau versement B'!E162","v":0},{"$f":"'Bordereau versement B'!F162:G162","v":0},null,{"$f":"'Bordereau versement B'!H162","v":0},{"$f":"'Bordereau versement B'!I162","v":0},{"$f":"'Bordereau versement B'!J162","v":0},{"$f":"'Bordereau versement B'!K162","v":0},{"$f":"'Bordereau versement B'!L162","v":0},{"$f":"'Bordereau versement B'!M162","v":0},{"$f":"'Bordereau versement B'!N162","v":0}]
[{"$f":"'Bordereau versement B'!A163:D163","v":0},null,null,null,{"$f":"'Bordereau versement B'!E163","v":0},{"$f":"'Bordereau versement B'!F163:G163","v":0},null,{"$f":"'Bordereau versement B'!H163","v":0},{"$f":"'Bordereau versement B'!I163","v":0},{"$f":"'Bordereau versement B'!J163","v":0},{"$f":"'Bordereau versement B'!K163","v":0},{"$f":"'Bordereau versement B'!L163","v":0},{"$f":"'Bordereau versement B'!M163","v":0},{"$f":"'Bordereau versement B'!N163","v":0}]
[{"$f":"'Bordereau versement B'!A164:D164","v":0},null,null,null,{"$f":"'Bordereau versement B'!E164","v":0},{"$f":"'Bordereau versement B'!F164:G164","v":0},null,{"$f":"'Bordereau versement B'!H164","v":0},{"$f":"'Bordereau versement B'!I164","v":0},{"$f":"'Bordereau versement B'!J164","v":0},{"$f":"'Bordereau versement B'!K164","v":0},{"$f":"'Bordereau versement B'!L164","v":0},{"$f":"'Bordereau versement B'!M164","v":0},{"$f":"'Bordereau versement B'!N164","v":0}]
[{"$f":"'Bordereau versement B'!A165:D165","v":0},null,null,null,{"$f":"'Bordereau versement B'!E165","v":0},{"$f":"'Bordereau versement B'!F165:G165","v":0},null,{"$f":"'Bordereau versement B'!H165","v":0},{"$f":"'Bordereau versement B'!I165","v":0},{"$f":"'Bordereau versement B'!J165","v":0},{"$f":"'Bordereau versement B'!K165","v":0},{"$f":"'Bordereau versement B'!L165","v":0},{"$f":"'Bordereau versement B'!M165","v":0},{"$f":"'Bordereau versement B'!N165","v":0}]
[{"$f":"'Bordereau versement B'!A166:D166","v":0},null,null,null,{"$f":"'Bordereau versement B'!E166","v":0},{"$f":"'Bordereau versement B'!F166:G166","v":0},null,{"$f":"'Bordereau versement B'!H166","v":0},{"$f":"'Bordereau versement B'!I166","v":0},{"$f":"'Bordereau versement B'!J166","v":0},{"$f":"'Bordereau versement B'!K166","v":0},{"$f":"'Bordereau versement B'!L166","v":0},{"$f":"'Bordereau versement B'!M166","v":0},{"$f":"'Bordereau versement B'!N166","v":0}]
[{"$f":"'Bordereau versement B'!A167:D167","v":0},null,null,null,{"$f":"'Bordereau versement B'!E167","v":0},{"$f":"'Bordereau versement B'!F167:G167","v":0},null,{"$f":"'Bordereau versement B'!H167","v":0},{"$f":"'Bordereau versement B'!I167","v":0},{"$f":"'Bordereau versement B'!J167","v":0},{"$f":"'Bordereau versement B'!K167","v":0},{"$f":"'Bordereau versement B'!L167","v":0},{"$f":"'Bordereau versement B'!M167","v":0},{"$f":"'Bordereau versement B'!N167","v":0}]
[{"$f":"'Bordereau versement B'!A168:D168","v":0},null,null,null,{"$f":"'Bordereau versement B'!E168","v":0},{"$f":"'Bordereau versement B'!F168:G168","v":0},null,{"$f":"'Bordereau versement B'!H168","v":0},{"$f":"'Bordereau versement B'!I168","v":0},{"$f":"'Bordereau versement B'!J168","v":0},{"$f":"'Bordereau versement B'!K168","v":0},{"$f":"'Bordereau versement B'!L168","v":0},{"$f":"'Bordereau versement B'!M168","v":0},{"$f":"'Bordereau versement B'!N168","v":0}]
[{"$f":"'Bordereau versement B'!A169:D169","v":0},null,null,null,{"$f":"'Bordereau versement B'!E169","v":0},{"$f":"'Bordereau versement B'!F169:G169","v":0},null,{"$f":"'Bordereau versement B'!H169","v":0},{"$f":"'Bordereau versement B'!I169","v":0},{"$f":"'Bordereau versement B'!J169","v":0},{"$f":"'Bordereau versement B'!K169","v":0},{"$f":"'Bordereau versement B'!L169","v":0},{"$f":"'Bordereau versement B'!M169","v":0},{"$f":"'Bordereau versement B'!N169","v":0}]
[{"$f":"'Bordereau versement B'!A170:D170","v":0},null,null,null,{"$f":"'Bordereau versement B'!E170","v":0},{"$f":"'Bordereau versement B'!F170:G170","v":0},null,{"$f":"'Bordereau versement B'!H170","v":0},{"$f":"'Bordereau versement B'!I170","v":0},{"$f":"'Bordereau versement B'!J170","v":0},{"$f":"'Bordereau versement B'!K170","v":0},{"$f":"'Bordereau versement B'!L170","v":0},{"$f":"'Bordereau versement B'!M170","v":0},{"$f":"'Bordereau versement B'!N170","v":0}]
[{"$f":"'Bordereau versement B'!A171:D171","v":0},null,null,null,{"$f":"'Bordereau versement B'!E171","v":0},{"$f":"'Bordereau versement B'!F171:G171","v":0},null,{"$f":"'Bordereau versement B'!H171","v":0},{"$f":"'Bordereau versement B'!I171","v":0},{"$f":"'Bordereau versement B'!J171","v":0},{"$f":"'Bordereau versement B'!K171","v":0},{"$f":"'Bordereau versement B'!L171","v":0},{"$f":"'Bordereau versement B'!M171","v":0},{"$f":"'Bordereau versement B'!N171","v":0}]
[{"$f":"'Bordereau versement B'!A172:D172","v":0},null,null,null,{"$f":"'Bordereau versement B'!E172","v":0},{"$f":"'Bordereau versement B'!F172:G172","v":0},null,{"$f":"'Bordereau versement B'!H172","v":0},{"$f":"'Bordereau versement B'!I172","v":0},{"$f":"'Bordereau versement B'!J172","v":0},{"$f":"'Bordereau versement B'!K172","v":0},{"$f":"'Bordereau versement B'!L172","v":0},{"$f":"'Bordereau versement B'!M172","v":0},{"$f":"'Bordereau versement B'!N172","v":0}]
[{"$f":"'Bordereau versement B'!A173:D173","v":0},null,null,null,{"$f":"'Bordereau versement B'!E173","v":0},{"$f":"'Bordereau versement B'!F173:G173","v":0},null,{"$f":"'Bordereau versement B'!H173","v":0},{"$f":"'Bordereau versement B'!I173","v":0},{"$f":"'Bordereau versement B'!J173","v":0},{"$f":"'Bordereau versement B'!K173","v":0},{"$f":"'Bordereau versement B'!L173","v":0},{"$f":"'Bordereau versement B'!M173","v":0},{"$f":"'Bordereau versement B'!N173","v":0}]
[{"$f":"'Bordereau versement B'!A174:D174","v":0},null,null,null,{"$f":"'Bordereau versement B'!E174","v":0},{"$f":"'Bordereau versement B'!F174:G174","v":0},null,{"$f":"'Bordereau versement B'!H174","v":0},{"$f":"'Bordereau versement B'!I174","v":0},{"$f":"'Bordereau versement B'!J174","v":0},{"$f":"'Bordereau versement B'!K174","v":0},{"$f":"'Bordereau versement B'!L174","v":0},{"$f":"'Bordereau versement B'!M174","v":0},{"$f":"'Bordereau versement B'!N174","v":0}]
[{"$f":"'Bordereau versement B'!A175:D175","v":0},null,null,null,{"$f":"'Bordereau versement B'!E175","v":0},{"$f":"'Bordereau versement B'!F175:G175","v":0},null,{"$f":"'Bordereau versement B'!H175","v":0},{"$f":"'Bordereau versement B'!I175","v":0},{"$f":"'Bordereau versement B'!J175","v":0},{"$f":"'Bordereau versement B'!K175","v":0},{"$f":"'Bordereau versement B'!L175","v":0},{"$f":"'Bordereau versement B'!M175","v":0},{"$f":"'Bordereau versement B'!N175","v":0}]
[{"$f":"'Bordereau versement B'!A176:D176","v":0},null,null,null,{"$f":"'Bordereau versement B'!E176","v":0},{"$f":"'Bordereau versement B'!F176:G176","v":0},null,{"$f":"'Bordereau versement B'!H176","v":0},{"$f":"'Bordereau versement B'!I176","v":0},{"$f":"'Bordereau versement B'!J176","v":0},{"$f":"'Bordereau versement B'!K176","v":0},{"$f":"'Bordereau versement B'!L176","v":0},{"$f":"'Bordereau versement B'!M176","v":0},{"$f":"'Bordereau versement B'!N176","v":0}]
[{"$f":"'Bordereau versement B'!A177:D177","v":0},null,null,null,{"$f":"'Bordereau versement B'!E177","v":0},{"$f":"'Bordereau versement B'!F177:G177","v":0},null,{"$f":"'Bordereau versement B'!H177","v":0},{"$f":"'Bordereau versement B'!I177","v":0},{"$f":"'Bordereau versement B'!J177","v":0},{"$f":"'Bordereau versement B'!K177","v":0},{"$f":"'Bordereau versement B'!L177","v":0},{"$f":"'Bordereau versement B'!M177","v":0},{"$f":"'Bordereau versement B'!N177","v":0}]
[{"$f":"'Bordereau versement B'!A178:D178","v":0},null,null,null,{"$f":"'Bordereau versement B'!E178","v":0},{"$f":"'Bordereau versement B'!F178:G178","v":0},null,{"$f":"'Bordereau versement B'!H178","v":0},{"$f":"'Bordereau versement B'!I178","v":0},{"$f":"'Bordereau versement B'!J178","v":0},{"$f":"'Bordereau versement B'!K178","v":0},{"$f":"'Bordereau versement B'!L178","v":0},{"$f":"'Bordereau versement B'!M178","v":0},{"$f":"'Bordereau versement B'!N178","v":0}]
[{"$f":"'Bordereau versement B'!A179:D179","v":0},null,null,null,{"$f":"'Bordereau versement B'!E179","v":0},{"$f":"'Bordereau versement B'!F179:G179","v":0},null,{"$f":"'Bordereau versement B'!H179","v":0},{"$f":"'Bordereau versement B'!I179","v":0},{"$f":"'Bordereau versement B'!J179","v":0},{"$f":"'Bordereau versement B'!K179","v":0},{"$f":"'Bordereau versement B'!L179","v":0},{"$f":"'Bordereau versement B'!M179","v":0},{"$f":"'Bordereau versement B'!N179","v":0}]
[{"$f":"'Bordereau versement B'!A180:D180","v":0},null,null,null,{"$f":"'Bordereau versement B'!E180","v":0},{"$f":"'Bordereau versement B'!F180:G180","v":0},null,{"$f":"'Bordereau versement B'!H180","v":0},{"$f":"'Bordereau versement B'!I180","v":0},{"$f":"'Bordereau versement B'!J180","v":0},{"$f":"'Bordereau versement B'!K180","v":0},{"$f":"'Bordereau versement B'!L180","v":0},{"$f":"'Bordereau versement B'!M180","v":0},{"$f":"'Bordereau versement B'!N180","v":0}]
[{"$f":"'Bordereau versement B'!A181:D181","v":0},null,null,null,{"$f":"'Bordereau versement B'!E181","v":0},{"$f":"'Bordereau versement B'!F181:G181","v":0},null,{"$f":"'Bordereau versement B'!H181","v":0},{"$f":"'Bordereau versement B'!I181","v":0},{"$f":"'Bordereau versement B'!J181","v":0},{"$f":"'Bordereau versement B'!K181","v":0},{"$f":"'Bordereau versement B'!L181","v":0},{"$f":"'Bordereau versement B'!M181","v":0},{"$f":"'Bordereau versement B'!N181","v":0}]
[{"$f":"'Bordereau versement B'!A182:D182","v":0},null,null,null,{"$f":"'Bordereau versement B'!E182","v":0},{"$f":"'Bordereau versement B'!F182:G182","v":0},null,{"$f":"'Bordereau versement B'!H182","v":0},{"$f":"'Bordereau versement B'!I182","v":0},{"$f":"'Bordereau versement B'!J182","v":0},{"$f":"'Bordereau versement B'!K182","v":0},{"$f":"'Bordereau versement B'!L182","v":0},{"$f":"'Bordereau versement B'!M182","v":0},{"$f":"'Bordereau versement B'!N182","v":0}]
[{"$f":"'Bordereau versement B'!A183:D183","v":0},null,null,null,{"$f":"'Bordereau versement B'!E183","v":0},{"$f":"'Bordereau versement B'!F183:G183","v":0},null,{"$f":"'Bordereau versement B'!H183","v":0},{"$f":"'Bordereau versement B'!I183","v":0},{"$f":"'Bordereau versement B'!J183","v":0},{"$f":"'Bordereau versement B'!K183","v":0},{"$f":"'Bordereau versement B'!L183","v":0},{"$f":"'Bordereau versement B'!M183","v":0},{"$f":"'Bordereau versement B'!N183","v":0}]
[{"$f":"'Bordereau versement B'!A184:D184","v":0},null,null,null,{"$f":"'Bordereau versement B'!E184","v":0},{"$f":"'Bordereau versement B'!F184:G184","v":0},null,{"$f":"'Bordereau versement B'!H184","v":0},{"$f":"'Bordereau versement B'!I184","v":0},{"$f":"'Bordereau versement B'!J184","v":0},{"$f":"'Bordereau versement B'!K184","v":0},{"$f":"'Bordereau versement B'!L184","v":0},{"$f":"'Bordereau versement B'!M184","v":0},{"$f":"'Bordereau versement B'!N184","v":0}]
[{"$f":"'Bordereau versement B'!A185:D185","v":0},null,null,null,{"$f":"'Bordereau versement B'!E185","v":0},{"$f":"'Bordereau versement B'!F185:G185","v":0},null,{"$f":"'Bordereau versement B'!H185","v":0},{"$f":"'Bordereau versement B'!I185","v":0},{"$f":"'Bordereau versement B'!J185","v":0},{"$f":"'Bordereau versement B'!K185","v":0},{"$f":"'Bordereau versement B'!L185","v":0},{"$f":"'Bordereau versement B'!M185","v":0},{"$f":"'Bordereau versement B'!N185","v":0}]
[{"$f":"'Bordereau versement B'!A186:D186","v":0},null,null,null,{"$f":"'Bordereau versement B'!E186","v":0},{"$f":"'Bordereau versement B'!F186:G186","v":0},null,{"$f":"'Bordereau versement B'!H186","v":0},{"$f":"'Bordereau versement B'!I186","v":0},{"$f":"'Bordereau versement B'!J186","v":0},{"$f":"'Bordereau versement B'!K186","v":0},{"$f":"'Bordereau versement B'!L186","v":0},{"$f":"'Bordereau versement B'!M186","v":0},{"$f":"'Bordereau versement B'!N186","v":0}]
[{"$f":"'Bordereau versement B'!A187:D187","v":0},null,null,null,{"$f":"'Bordereau versement B'!E187","v":0},{"$f":"'Bordereau versement B'!F187:G187","v":0},null,{"$f":"'Bordereau versement B'!H187","v":0},{"$f":"'Bordereau versement B'!I187","v":0},{"$f":"'Bordereau versement B'!J187","v":0},{"$f":"'Bordereau versement B'!K187","v":0},{"$f":"'Bordereau versement B'!L187","v":0},{"$f":"'Bordereau versement B'!M187","v":0},{"$f":"'Bordereau versement B'!N187","v":0}]
[{"$f":"'Bordereau versement B'!A188:D188","v":0},null,null,null,{"$f":"'Bordereau versement B'!E188","v":0},{"$f":"'Bordereau versement B'!F188:G188","v":0},null,{"$f":"'Bordereau versement B'!H188","v":0},{"$f":"'Bordereau versement B'!I188","v":0},{"$f":"'Bordereau versement B'!J188","v":0},{"$f":"'Bordereau versement B'!K188","v":0},{"$f":"'Bordereau versement B'!L188","v":0},{"$f":"'Bordereau versement B'!M188","v":0},{"$f":"'Bordereau versement B'!N188","v":0}]
[{"$f":"'Bordereau versement B'!A189:D189","v":0},null,null,null,{"$f":"'Bordereau versement B'!E189","v":0},{"$f":"'Bordereau versement B'!F189:G189","v":0},null,{"$f":"'Bordereau versement B'!H189","v":0},{"$f":"'Bordereau versement B'!I189","v":0},{"$f":"'Bordereau versement B'!J189","v":0},{"$f":"'Bordereau versement B'!K189","v":0},{"$f":"'Bordereau versement B'!L189","v":0},{"$f":"'Bordereau versement B'!M189","v":0},{"$f":"'Bordereau versement B'!N189","v":0}]
[{"$f":"'Bordereau versement B'!A190:D190","v":0},null,null,null,{"$f":"'Bordereau versement B'!E190","v":0},{"$f":"'Bordereau versement B'!F190:G190","v":0},null,{"$f":"'Bordereau versement B'!H190","v":0},{"$f":"'Bordereau versement B'!I190","v":0},{"$f":"'Bordereau versement B'!J190","v":0},{"$f":"'Bordereau versement B'!K190","v":0},{"$f":"'Bordereau versement B'!L190","v":0},{"$f":"'Bordereau versement B'!M190","v":0},{"$f":"'Bordereau versement B'!N190","v":0}]
[{"$f":"'Bordereau versement B'!A191:D191","v":0},null,null,null,{"$f":"'Bordereau versement B'!E191","v":0},{"$f":"'Bordereau versement B'!F191:G191","v":0},null,{"$f":"'Bordereau versement B'!H191","v":0},{"$f":"'Bordereau versement B'!I191","v":0},{"$f":"'Bordereau versement B'!J191","v":0},{"$f":"'Bordereau versement B'!K191","v":0},{"$f":"'Bordereau versement B'!L191","v":0},{"$f":"'Bordereau versement B'!M191","v":0},{"$f":"'Bordereau versement B'!N191","v":0}]
[{"$f":"'Bordereau versement B'!A192:D192","v":0},null,null,null,{"$f":"'Bordereau versement B'!E192","v":0},{"$f":"'Bordereau versement B'!F192:G192","v":0},null,{"$f":"'Bordereau versement B'!H192","v":0},{"$f":"'Bordereau versement B'!I192","v":0},{"$f":"'Bordereau versement B'!J192","v":0},{"$f":"'Bordereau versement B'!K192","v":0},{"$f":"'Bordereau versement B'!L192","v":0},{"$f":"'Bordereau versement B'!M192","v":0},{"$f":"'Bordereau versement B'!N192","v":0}]
[{"$f":"'Bordereau versement B'!A193:D193","v":0},null,null,null,{"$f":"'Bordereau versement B'!E193","v":0},{"$f":"'Bordereau versement B'!F193:G193","v":0},null,{"$f":"'Bordereau versement B'!H193","v":0},{"$f":"'Bordereau versement B'!I193","v":0},{"$f":"'Bordereau versement B'!J193","v":0},{"$f":"'Bordereau versement B'!K193","v":0},{"$f":"'Bordereau versement B'!L193","v":0},{"$f":"'Bordereau versement B'!M193","v":0},{"$f":"'Bordereau versement B'!N193","v":0}]
[{"$f":"'Bordereau versement B'!A194:D194","v":0},null,null,null,{"$f":"'Bordereau versement B'!E194","v":0},{"$f":"'Bordereau versement B'!F194:G194","v":0},null,{"$f":"'Bordereau versement B'!H194","v":0},{"$f":"'Bordereau versement B'!I194","v":0},{"$f":"'Bordereau versement B'!J194","v":0},{"$f":"'Bordereau versement B'!K194","v":0},{"$f":"'Bordereau versement B'!L194","v":0},{"$f":"'Bordereau versement B'!M194","v":0},{"$f":"'Bordereau versement B'!N194","v":0}]
[{"$f":"'Bordereau versement B'!A195:D195","v":0},null,null,null,{"$f":"'Bordereau versement B'!E195","v":0},{"$f":"'Bordereau versement B'!F195:G195","v":0},null,{"$f":"'Bordereau versement B'!H195","v":0},{"$f":"'Bordereau versement B'!I195","v":0},{"$f":"'Bordereau versement B'!J195","v":0},{"$f":"'Bordereau versement B'!K195","v":0},{"$f":"'Bordereau versement B'!L195","v":0},{"$f":"'Bordereau versement B'!M195","v":0},{"$f":"'Bordereau versement B'!N195","v":0}]
[{"$f":"'Bordereau versement B'!A196:D196","v":0},null,null,null,{"$f":"'Bordereau versement B'!E196","v":0},{"$f":"'Bordereau versement B'!F196:G196","v":0},null,{"$f":"'Bordereau versement B'!H196","v":0},{"$f":"'Bordereau versement B'!I196","v":0},{"$f":"'Bordereau versement B'!J196","v":0},{"$f":"'Bordereau versement B'!K196","v":0},{"$f":"'Bordereau versement B'!L196","v":0},{"$f":"'Bordereau versement B'!M196","v":0},{"$f":"'Bordereau versement B'!N196","v":0}]
[{"$f":"'Bordereau versement B'!A197:D197","v":0},null,null,null,{"$f":"'Bordereau versement B'!E197","v":0},{"$f":"'Bordereau versement B'!F197:G197","v":0},null,{"$f":"'Bordereau versement B'!H197","v":0},{"$f":"'Bordereau versement B'!I197","v":0},{"$f":"'Bordereau versement B'!J197","v":0},{"$f":"'Bordereau versement B'!K197","v":0},{"$f":"'Bordereau versement B'!L197","v":0},{"$f":"'Bordereau versement B'!M197","v":0},{"$f":"'Bordereau versement B'!N197","v":0}]
[{"$f":"'Bordereau versement B'!A198:D198","v":0},null,null,null,{"$f":"'Bordereau versement B'!E198","v":0},{"$f":"'Bordereau versement B'!F198:G198","v":0},null,{"$f":"'Bordereau versement B'!H198","v":0},{"$f":"'Bordereau versement B'!I198","v":0},{"$f":"'Bordereau versement B'!J198","v":0},{"$f":"'Bordereau versement B'!K198","v":0},{"$f":"'Bordereau versement B'!L198","v":0},{"$f":"'Bordereau versement B'!M198","v":0},{"$f":"'Bordereau versement B'!N198","v":0}]
[{"$f":"'Bordereau versement B'!A199:D199","v":0},null,null,null,{"$f":"'Bordereau versement B'!E199","v":0},{"$f":"'Bordereau versement B'!F199:G199","v":0},null,{"$f":"'Bordereau versement B'!H199","v":0},{"$f":"'Bordereau versement B'!I199","v":0},{"$f":"'Bordereau versement B'!J199","v":0},{"$f":"'Bordereau versement B'!K199","v":0},{"$f":"'Bordereau versement B'!L199","v":0},{"$f":"'Bordereau versement B'!M199","v":0},{"$f":"'Bordereau versement B'!N199","v":0}]
[{"$f":"'Bordereau versement B'!A200:D200","v":0},null,null,null,{"$f":"'Bordereau versement B'!E200","v":0},{"$f":"'Bordereau versement B'!F200:G200","v":0},null,{"$f":"'Bordereau versement B'!H200","v":0},{"$f":"'Bordereau versement B'!I200","v":0},{"$f":"'Bordereau versement B'!J200","v":0},{"$f":"'Bordereau versement B'!K200","v":0},{"$f":"'Bordereau versement B'!L200","v":0},{"$f":"'Bordereau versement B'!M200","v":0},{"$f":"'Bordereau versement B'!N200","v":0}]
[{"$f":"'Bordereau versement B'!A201:D201","v":0},null,null,null,{"$f":"'Bordereau versement B'!E201","v":0},{"$f":"'Bordereau versement B'!F201:G201","v":0},null,{"$f":"'Bordereau versement B'!H201","v":0},{"$f":"'Bordereau versement B'!I201","v":0},{"$f":"'Bordereau versement B'!J201","v":0},{"$f":"'Bordereau versement B'!K201","v":0},{"$f":"'Bordereau versement B'!L201","v":0},{"$f":"'Bordereau versement B'!M201","v":0},{"$f":"'Bordereau versement B'!N201","v":0}]
[{"$f":"'Bordereau versement B'!A202:D202","v":0},null,null,null,{"$f":"'Bordereau versement B'!E202","v":0},{"$f":"'Bordereau versement B'!F202:G202","v":0},null,{"$f":"'Bordereau versement B'!H202","v":0},{"$f":"'Bordereau versement B'!I202","v":0},{"$f":"'Bordereau versement B'!J202","v":0},{"$f":"'Bordereau versement B'!K202","v":0},{"$f":"'Bordereau versement B'!L202","v":0},{"$f":"'Bordereau versement B'!M202","v":0},{"$f":"'Bordereau versement B'!N202","v":0}]
[{"$f":"'Bordereau versement B'!A203:D203","v":0},null,null,null,{"$f":"'Bordereau versement B'!E203","v":0},{"$f":"'Bordereau versement B'!F203:G203","v":0},null,{"$f":"'Bordereau versement B'!H203","v":0},{"$f":"'Bordereau versement B'!I203","v":0},{"$f":"'Bordereau versement B'!J203","v":0},{"$f":"'Bordereau versement B'!K203","v":0},{"$f":"'Bordereau versement B'!L203","v":0},{"$f":"'Bordereau versement B'!M203","v":0},{"$f":"'Bordereau versement B'!N203","v":0}]
[{"$f":"'Bordereau versement B'!A204:D204","v":0},null,null,null,{"$f":"'Bordereau versement B'!E204","v":0},{"$f":"'Bordereau versement B'!F204:G204","v":0},null,{"$f":"'Bordereau versement B'!H204","v":0},{"$f":"'Bordereau versement B'!I204","v":0},{"$f":"'Bordereau versement B'!J204","v":0},{"$f":"'Bordereau versement B'!K204","v":0},{"$f":"'Bordereau versement B'!L204","v":0},{"$f":"'Bordereau versement B'!M204","v":0},{"$f":"'Bordereau versement B'!N204","v":0}]
[{"$f":"'Bordereau versement B'!A205:D205","v":0},null,null,null,{"$f":"'Bordereau versement B'!E205","v":0},{"$f":"'Bordereau versement B'!F205:G205","v":0},null,{"$f":"'Bordereau versement B'!H205","v":0},{"$f":"'Bordereau versement B'!I205","v":0},{"$f":"'Bordereau versement B'!J205","v":0},{"$f":"'Bordereau versement B'!K205","v":0},{"$f":"'Bordereau versement B'!L205","v":0},{"$f":"'Bordereau versement B'!M205","v":0},{"$f":"'Bordereau versement B'!N205","v":0}]
[{"$f":"'Bordereau versement B'!A206:D206","v":0},null,null,null,{"$f":"'Bordereau versement B'!E206","v":0},{"$f":"'Bordereau versement B'!F206:G206","v":0},null,{"$f":"'Bordereau versement B'!H206","v":0},{"$f":"'Bordereau versement B'!I206","v":0},{"$f":"'Bordereau versement B'!J206","v":0},{"$f":"'Bordereau versement B'!K206","v":0},{"$f":"'Bordereau versement B'!L206","v":0},{"$f":"'Bordereau versement B'!M206","v":0},{"$f":"'Bordereau versement B'!N206","v":0}]
[{"$f":"'Bordereau versement B'!A207:D207","v":0},null,null,null,{"$f":"'Bordereau versement B'!E207","v":0},{"$f":"'Bordereau versement B'!F207:G207","v":0},null,{"$f":"'Bordereau versement B'!H207","v":0},{"$f":"'Bordereau versement B'!I207","v":0},{"$f":"'Bordereau versement B'!J207","v":0},{"$f":"'Bordereau versement B'!K207","v":0},{"$f":"'Bordereau versement B'!L207","v":0},{"$f":"'Bordereau versement B'!M207","v":0},{"$f":"'Bordereau versement B'!N207","v":0}]
[{"$f":"'Bordereau versement B'!A208:D208","v":0},null,null,null,{"$f":"'Bordereau versement B'!E208","v":0},{"$f":"'Bordereau versement B'!F208:G208","v":0},null,{"$f":"'Bordereau versement B'!H208","v":0},{"$f":"'Bordereau versement B'!I208","v":0},{"$f":"'Bordereau versement B'!J208","v":0},{"$f":"'Bordereau versement B'!K208","v":0},{"$f":"'Bordereau versement B'!L208","v":0},{"$f":"'Bordereau versement B'!M208","v":0},{"$f":"'Bordereau versement B'!N208","v":0}]
[{"$f":"'Bordereau versement B'!A209:D209","v":0},null,null,null,{"$f":"'Bordereau versement B'!E209","v":0},{"$f":"'Bordereau versement B'!F209:G209","v":0},null,{"$f":"'Bordereau versement B'!H209","v":0},{"$f":"'Bordereau versement B'!I209","v":0},{"$f":"'Bordereau versement B'!J209","v":0},{"$f":"'Bordereau versement B'!K209","v":0},{"$f":"'Bordereau versement B'!L209","v":0},{"$f":"'Bordereau versement B'!M209","v":0},{"$f":"'Bordereau versement B'!N209","v":0}]
[{"$f":"'Bordereau versement B'!A210:D210","v":0},null,null,null,{"$f":"'Bordereau versement B'!E210","v":0},{"$f":"'Bordereau versement B'!F210:G210","v":0},null,{"$f":"'Bordereau versement B'!H210","v":0},{"$f":"'Bordereau versement B'!I210","v":0},{"$f":"'Bordereau versement B'!J210","v":0},{"$f":"'Bordereau versement B'!K210","v":0},{"$f":"'Bordereau versement B'!L210","v":0},{"$f":"'Bordereau versement B'!M210","v":0},{"$f":"'Bordereau versement B'!N210","v":0}]
[{"$f":"'Bordereau versement B'!A211:D211","v":0},null,null,null,{"$f":"'Bordereau versement B'!E211","v":0},{"$f":"'Bordereau versement B'!F211:G211","v":0},null,{"$f":"'Bordereau versement B'!H211","v":0},{"$f":"'Bordereau versement B'!I211","v":0},{"$f":"'Bordereau versement B'!J211","v":0},{"$f":"'Bordereau versement B'!K211","v":0},{"$f":"'Bordereau versement B'!L211","v":0},{"$f":"'Bordereau versement B'!M211","v":0},{"$f":"'Bordereau versement B'!N211","v":0}]
[{"$f":"'Bordereau versement B'!A212:D212","v":0},null,null,null,{"$f":"'Bordereau versement B'!E212","v":0},{"$f":"'Bordereau versement B'!F212:G212","v":0},null,{"$f":"'Bordereau versement B'!H212","v":0},{"$f":"'Bordereau versement B'!I212","v":0},{"$f":"'Bordereau versement B'!J212","v":0},{"$f":"'Bordereau versement B'!K212","v":0},{"$f":"'Bordereau versement B'!L212","v":0},{"$f":"'Bordereau versement B'!M212","v":0},{"$f":"'Bordereau versement B'!N212","v":0}]
[{"$f":"'Bordereau versement B'!A213:D213","v":0},null,null,null,{"$f":"'Bordereau versement B'!E213","v":0},{"$f":"'Bordereau versement B'!F213:G213","v":0},null,{"$f":"'Bordereau versement B'!H213","v":0},{"$f":"'Bordereau versement B'!I213","v":0},{"$f":"'Bordereau versement B'!J213","v":0},{"$f":"'Bordereau versement B'!K213","v":0},{"$f":"'Bordereau versement B'!L213","v":0},{"$f":"'Bordereau versement B'!M213","v":0},{"$f":"'Bordereau versement B'!N213","v":0}]
[{"$f":"'Bordereau versement B'!A214:D214","v":0},null,null,null,{"$f":"'Bordereau versement B'!E214","v":0},{"$f":"'Bordereau versement B'!F214:G214","v":0},null,{"$f":"'Bordereau versement B'!H214","v":0},{"$f":"'Bordereau versement B'!I214","v":0},{"$f":"'Bordereau versement B'!J214","v":0},{"$f":"'Bordereau versement B'!K214","v":0},{"$f":"'Bordereau versement B'!L214","v":0},{"$f":"'Bordereau versement B'!M214","v":0},{"$f":"'Bordereau versement B'!N214","v":0}]
[{"$f":"'Bordereau versement B'!A215:D215","v":0},null,null,null,{"$f":"'Bordereau versement B'!E215","v":0},{"$f":"'Bordereau versement B'!F215:G215","v":0},null,{"$f":"'Bordereau versement B'!H215","v":0},{"$f":"'Bordereau versement B'!I215","v":0},{"$f":"'Bordereau versement B'!J215","v":0},{"$f":"'Bordereau versement B'!K215","v":0},{"$f":"'Bordereau versement B'!L215","v":0},{"$f":"'Bordereau versement B'!M215","v":0},{"$f":"'Bordereau versement B'!N215","v":0}]
[{"$f":"'Bordereau versement B'!A216:D216","v":0},null,null,null,{"$f":"'Bordereau versement B'!E216","v":0},{"$f":"'Bordereau versement B'!F216:G216","v":0},null,{"$f":"'Bordereau versement B'!H216","v":0},{"$f":"'Bordereau versement B'!I216","v":0},{"$f":"'Bordereau versement B'!J216","v":0},{"$f":"'Bordereau versement B'!K216","v":0},{"$f":"'Bordereau versement B'!L216","v":0},{"$f":"'Bordereau versement B'!M216","v":0},{"$f":"'Bordereau versement B'!N216","v":0}]
[{"$f":"'Bordereau versement B'!A217:D217","v":0},null,null,null,{"$f":"'Bordereau versement B'!E217","v":0},{"$f":"'Bordereau versement B'!F217:G217","v":0},null,{"$f":"'Bordereau versement B'!H217","v":0},{"$f":"'Bordereau versement B'!I217","v":0},{"$f":"'Bordereau versement B'!J217","v":0},{"$f":"'Bordereau versement B'!K217","v":0},{"$f":"'Bordereau versement B'!L217","v":0},{"$f":"'Bordereau versement B'!M217","v":0},{"$f":"'Bordereau versement B'!N217","v":0}]
[{"$f":"'Bordereau versement B'!A218:D218","v":0},null,null,null,{"$f":"'Bordereau versement B'!E218","v":0},{"$f":"'Bordereau versement B'!F218:G218","v":0},null,{"$f":"'Bordereau versement B'!H218","v":0},{"$f":"'Bordereau versement B'!I218","v":0},{"$f":"'Bordereau versement B'!J218","v":0},{"$f":"'Bordereau versement B'!K218","v":0},{"$f":"'Bordereau versement B'!L218","v":0},{"$f":"'Bordereau versement B'!M218","v":0},{"$f":"'Bordereau versement B'!N218","v":0}]
[{"$f":"'Bordereau versement B'!A219:D219","v":0},null,null,null,{"$f":"'Bordereau versement B'!E219","v":0},{"$f":"'Bordereau versement B'!F219:G219","v":0},null,{"$f":"'Bordereau versement B'!H219","v":0},{"$f":"'Bordereau versement B'!I219","v":0},{"$f":"'Bordereau versement B'!J219","v":0},{"$f":"'Bordereau versement B'!K219","v":0},{"$f":"'Bordereau versement B'!L219","v":0},{"$f":"'Bordereau versement B'!M219","v":0},{"$f":"'Bordereau versement B'!N219","v":0}]
[{"$f":"'Bordereau versement B'!A220:D220","v":0},null,null,null,{"$f":"'Bordereau versement B'!E220","v":0},{"$f":"'Bordereau versement B'!F220:G220","v":0},null,{"$f":"'Bordereau versement B'!H220","v":0},{"$f":"'Bordereau versement B'!I220","v":0},{"$f":"'Bordereau versement B'!J220","v":0},{"$f":"'Bordereau versement B'!K220","v":0},{"$f":"'Bordereau versement B'!L220","v":0},{"$f":"'Bordereau versement B'!M220","v":0},{"$f":"'Bordereau versement B'!N220","v":0}]
[{"$f":"'Bordereau versement B'!A221:D221","v":0},null,null,null,{"$f":"'Bordereau versement B'!E221","v":0},{"$f":"'Bordereau versement B'!F221:G221","v":0},null,{"$f":"'Bordereau versement B'!H221","v":0},{"$f":"'Bordereau versement B'!I221","v":0},{"$f":"'Bordereau versement B'!J221","v":0},{"$f":"'Bordereau versement B'!K221","v":0},{"$f":"'Bordereau versement B'!L221","v":0},{"$f":"'Bordereau versement B'!M221","v":0},{"$f":"'Bordereau versement B'!N221","v":0}]
[{"$f":"'Bordereau versement B'!A222:D222","v":0},null,null,null,{"$f":"'Bordereau versement B'!E222","v":0},{"$f":"'Bordereau versement B'!F222:G222","v":0},null,{"$f":"'Bordereau versement B'!H222","v":0},{"$f":"'Bordereau versement B'!I222","v":0},{"$f":"'Bordereau versement B'!J222","v":0},{"$f":"'Bordereau versement B'!K222","v":0},{"$f":"'Bordereau versement B'!L222","v":0},{"$f":"'Bordereau versement B'!M222","v":0},{"$f":"'Bordereau versement B'!N222","v":0}]
[{"$f":"'Bordereau versement B'!A223:D223","v":0},null,null,null,{"$f":"'Bordereau versement B'!E223","v":0},{"$f":"'Bordereau versement B'!F223:G223","v":0},null,{"$f":"'Bordereau versement B'!H223","v":0},{"$f":"'Bordereau versement B'!I223","v":0},{"$f":"'Bordereau versement B'!J223","v":0},{"$f":"'Bordereau versement B'!K223","v":0},{"$f":"'Bordereau versement B'!L223","v":0},{"$f":"'Bordereau versement B'!M223","v":0},{"$f":"'Bordereau versement B'!N223","v":0}]
[{"$f":"'Bordereau versement B'!A224:D224","v":0},null,null,null,{"$f":"'Bordereau versement B'!E224","v":0},{"$f":"'Bordereau versement B'!F224:G224","v":0},null,{"$f":"'Bordereau versement B'!H224","v":0},{"$f":"'Bordereau versement B'!I224","v":0},{"$f":"'Bordereau versement B'!J224","v":0},{"$f":"'Bordereau versement B'!K224","v":0},{"$f":"'Bordereau versement B'!L224","v":0},{"$f":"'Bordereau versement B'!M224","v":0},{"$f":"'Bordereau versement B'!N224","v":0}]
[{"$f":"'Bordereau versement B'!A225:D225","v":0},null,null,null,{"$f":"'Bordereau versement B'!E225","v":0},{"$f":"'Bordereau versement B'!F225:G225","v":0},null,{"$f":"'Bordereau versement B'!H225","v":0},{"$f":"'Bordereau versement B'!I225","v":0},{"$f":"'Bordereau versement B'!J225","v":0},{"$f":"'Bordereau versement B'!K225","v":0},{"$f":"'Bordereau versement B'!L225","v":0},{"$f":"'Bordereau versement B'!M225","v":0},{"$f":"'Bordereau versement B'!N225","v":0}]
[{"$f":"'Bordereau versement B'!A226:D226","v":0},null,null,null,{"$f":"'Bordereau versement B'!E226","v":0},{"$f":"'Bordereau versement B'!F226:G226","v":0},null,{"$f":"'Bordereau versement B'!H226","v":0},{"$f":"'Bordereau versement B'!I226","v":0},{"$f":"'Bordereau versement B'!J226","v":0},{"$f":"'Bordereau versement B'!K226","v":0},{"$f":"'Bordereau versement B'!L226","v":0},{"$f":"'Bordereau versement B'!M226","v":0},{"$f":"'Bordereau versement B'!N226","v":0}]
[{"$f":"'Bordereau versement B'!A227:D227","v":0},null,null,null,{"$f":"'Bordereau versement B'!E227","v":0},{"$f":"'Bordereau versement B'!F227:G227","v":0},null,{"$f":"'Bordereau versement B'!H227","v":0},{"$f":"'Bordereau versement B'!I227","v":0},{"$f":"'Bordereau versement B'!J227","v":0},{"$f":"'Bordereau versement B'!K227","v":0},{"$f":"'Bordereau versement B'!L227","v":0},{"$f":"'Bordereau versement B'!M227","v":0},{"$f":"'Bordereau versement B'!N227","v":0}]
[{"$f":"'Bordereau versement B'!A228:D228","v":0},null,null,null,{"$f":"'Bordereau versement B'!E228","v":0},{"$f":"'Bordereau versement B'!F228:G228","v":0},null,{"$f":"'Bordereau versement B'!H228","v":0},{"$f":"'Bordereau versement B'!I228","v":0},{"$f":"'Bordereau versement B'!J228","v":0},{"$f":"'Bordereau versement B'!K228","v":0},{"$f":"'Bordereau versement B'!L228","v":0},{"$f":"'Bordereau versement B'!M228","v":0},{"$f":"'Bordereau versement B'!N228","v":0}]
[{"$f":"'Bordereau versement B'!A229:D229","v":0},null,null,null,{"$f":"'Bordereau versement B'!E229","v":0},{"$f":"'Bordereau versement B'!F229:G229","v":0},null,{"$f":"'Bordereau versement B'!H229","v":0},{"$f":"'Bordereau versement B'!I229","v":0},{"$f":"'Bordereau versement B'!J229","v":0},{"$f":"'Bordereau versement B'!K229","v":0},{"$f":"'Bordereau versement B'!L229","v":0},{"$f":"'Bordereau versement B'!M229","v":0},{"$f":"'Bordereau versement B'!N229","v":0}]
[{"$f":"'Bordereau versement B'!A230:D230","v":0},null,null,null,{"$f":"'Bordereau versement B'!E230","v":0},{"$f":"'Bordereau versement B'!F230:G230","v":0},null,{"$f":"'Bordereau versement B'!H230","v":0},{"$f":"'Bordereau versement B'!I230","v":0},{"$f":"'Bordereau versement B'!J230","v":0},{"$f":"'Bordereau versement B'!K230","v":0},{"$f":"'Bordereau versement B'!L230","v":0},{"$f":"'Bordereau versement B'!M230","v":0},{"$f":"'Bordereau versement B'!N230","v":0}]
[{"$f":"'Bordereau versement B'!A231:D231","v":0},null,null,null,{"$f":"'Bordereau versement B'!E231","v":0},{"$f":"'Bordereau versement B'!F231:G231","v":0},null,{"$f":"'Bordereau versement B'!H231","v":0},{"$f":"'Bordereau versement B'!I231","v":0},{"$f":"'Bordereau versement B'!J231","v":0},{"$f":"'Bordereau versement B'!K231","v":0},{"$f":"'Bordereau versement B'!L231","v":0},{"$f":"'Bordereau versement B'!M231","v":0},{"$f":"'Bordereau versement B'!N231","v":0}]
[{"$f":"'Bordereau versement B'!A232:D232","v":0},null,null,null,{"$f":"'Bordereau versement B'!E232","v":0},{"$f":"'Bordereau versement B'!F232:G232","v":0},null,{"$f":"'Bordereau versement B'!H232","v":0},{"$f":"'Bordereau versement B'!I232","v":0},{"$f":"'Bordereau versement B'!J232","v":0},{"$f":"'Bordereau versement B'!K232","v":0},{"$f":"'Bordereau versement B'!L232","v":0},{"$f":"'Bordereau versement B'!M232","v":0},{"$f":"'Bordereau versement B'!N232","v":0}]
[{"$f":"'Bordereau versement B'!A233:D233","v":0},null,null,null,{"$f":"'Bordereau versement B'!E233","v":0},{"$f":"'Bordereau versement B'!F233:G233","v":0},null,{"$f":"'Bordereau versement B'!H233","v":0},{"$f":"'Bordereau versement B'!I233","v":0},{"$f":"'Bordereau versement B'!J233","v":0},{"$f":"'Bordereau versement B'!K233","v":0},{"$f":"'Bordereau versement B'!L233","v":0},{"$f":"'Bordereau versement B'!M233","v":0},{"$f":"'Bordereau versement B'!N233","v":0}]
[{"$f":"'Bordereau versement B'!A234:D234","v":0},null,null,null,{"$f":"'Bordereau versement B'!E234","v":0},{"$f":"'Bordereau versement B'!F234:G234","v":0},null,{"$f":"'Bordereau versement B'!H234","v":0},{"$f":"'Bordereau versement B'!I234","v":0},{"$f":"'Bordereau versement B'!J234","v":0},{"$f":"'Bordereau versement B'!K234","v":0},{"$f":"'Bordereau versement B'!L234","v":0},{"$f":"'Bordereau versement B'!M234","v":0},{"$f":"'Bordereau versement B'!N234","v":0}]
[{"$f":"'Bordereau versement B'!A235:D235","v":0},null,null,null,{"$f":"'Bordereau versement B'!E235","v":0},{"$f":"'Bordereau versement B'!F235:G235","v":0},null,{"$f":"'Bordereau versement B'!H235","v":0},{"$f":"'Bordereau versement B'!I235","v":0},{"$f":"'Bordereau versement B'!J235","v":0},{"$f":"'Bordereau versement B'!K235","v":0},{"$f":"'Bordereau versement B'!L235","v":0},{"$f":"'Bordereau versement B'!M235","v":0},{"$f":"'Bordereau versement B'!N235","v":0}]
[{"$f":"'Bordereau versement B'!A236:D236","v":0},null,null,null,{"$f":"'Bordereau versement B'!E236","v":0},{"$f":"'Bordereau versement B'!F236:G236","v":0},null,{"$f":"'Bordereau versement B'!H236","v":0},{"$f":"'Bordereau versement B'!I236","v":0},{"$f":"'Bordereau versement B'!J236","v":0},{"$f":"'Bordereau versement B'!K236","v":0},{"$f":"'Bordereau versement B'!L236","v":0},{"$f":"'Bordereau versement B'!M236","v":0},{"$f":"'Bordereau versement B'!N236","v":0}]
[{"$f":"'Bordereau versement B'!A237:D237","v":0},null,null,null,{"$f":"'Bordereau versement B'!E237","v":0},{"$f":"'Bordereau versement B'!F237:G237","v":0},null,{"$f":"'Bordereau versement B'!H237","v":0},{"$f":"'Bordereau versement B'!I237","v":0},{"$f":"'Bordereau versement B'!J237","v":0},{"$f":"'Bordereau versement B'!K237","v":0},{"$f":"'Bordereau versement B'!L237","v":0},{"$f":"'Bordereau versement B'!M237","v":0},{"$f":"'Bordereau versement B'!N237","v":0}]
[{"$f":"'Bordereau versement B'!A238:D238","v":0},null,null,null,{"$f":"'Bordereau versement B'!E238","v":0},{"$f":"'Bordereau versement B'!F238:G238","v":0},null,{"$f":"'Bordereau versement B'!H238","v":0},{"$f":"'Bordereau versement B'!I238","v":0},{"$f":"'Bordereau versement B'!J238","v":0},{"$f":"'Bordereau versement B'!K238","v":0},{"$f":"'Bordereau versement B'!L238","v":0},{"$f":"'Bordereau versement B'!M238","v":0},{"$f":"'Bordereau versement B'!N238","v":0}]
[{"$f":"'Bordereau versement B'!A239:D239","v":0},null,null,null,{"$f":"'Bordereau versement B'!E239","v":0},{"$f":"'Bordereau versement B'!F239:G239","v":0},null,{"$f":"'Bordereau versement B'!H239","v":0},{"$f":"'Bordereau versement B'!I239","v":0},{"$f":"'Bordereau versement B'!J239","v":0},{"$f":"'Bordereau versement B'!K239","v":0},{"$f":"'Bordereau versement B'!L239","v":0},{"$f":"'Bordereau versement B'!M239","v":0},{"$f":"'Bordereau versement B'!N239","v":0}]
[{"$f":"'Bordereau versement B'!A240:D240","v":0},null,null,null,{"$f":"'Bordereau versement B'!E240","v":0},{"$f":"'Bordereau versement B'!F240:G240","v":0},null,{"$f":"'Bordereau versement B'!H240","v":0},{"$f":"'Bordereau versement B'!I240","v":0},{"$f":"'Bordereau versement B'!J240","v":0},{"$f":"'Bordereau versement B'!K240","v":0},{"$f":"'Bordereau versement B'!L240","v":0},{"$f":"'Bordereau versement B'!M240","v":0},{"$f":"'Bordereau versement B'!N240","v":0}]
[{"$f":"'Bordereau versement B'!A241:D241","v":0},null,null,null,{"$f":"'Bordereau versement B'!E241","v":0},{"$f":"'Bordereau versement B'!F241:G241","v":0},null,{"$f":"'Bordereau versement B'!H241","v":0},{"$f":"'Bordereau versement B'!I241","v":0},{"$f":"'Bordereau versement B'!J241","v":0},{"$f":"'Bordereau versement B'!K241","v":0},{"$f":"'Bordereau versement B'!L241","v":0},{"$f":"'Bordereau versement B'!M241","v":0},{"$f":"'Bordereau versement B'!N241","v":0}]
[{"$f":"'Bordereau versement B'!A242:D242","v":0},null,null,null,{"$f":"'Bordereau versement B'!E242","v":0},{"$f":"'Bordereau versement B'!F242:G242","v":0},null,{"$f":"'Bordereau versement B'!H242","v":0},{"$f":"'Bordereau versement B'!I242","v":0},{"$f":"'Bordereau versement B'!J242","v":0},{"$f":"'Bordereau versement B'!K242","v":0},{"$f":"'Bordereau versement B'!L242","v":0},{"$f":"'Bordereau versement B'!M242","v":0},{"$f":"'Bordereau versement B'!N242","v":0}]
[{"$f":"'Bordereau versement B'!A243:D243","v":0},null,null,null,{"$f":"'Bordereau versement B'!E243","v":0},{"$f":"'Bordereau versement B'!F243:G243","v":0},null,{"$f":"'Bordereau versement B'!H243","v":0},{"$f":"'Bordereau versement B'!I243","v":0},{"$f":"'Bordereau versement B'!J243","v":0},{"$f":"'Bordereau versement B'!K243","v":0},{"$f":"'Bordereau versement B'!L243","v":0},{"$f":"'Bordereau versement B'!M243","v":0},{"$f":"'Bordereau versement B'!N243","v":0}]
[{"$f":"'Bordereau versement B'!A244:D244","v":0},null,null,null,{"$f":"'Bordereau versement B'!E244","v":0},{"$f":"'Bordereau versement B'!F244:G244","v":0},null,{"$f":"'Bordereau versement B'!H244","v":0},{"$f":"'Bordereau versement B'!I244","v":0},{"$f":"'Bordereau versement B'!J244","v":0},{"$f":"'Bordereau versement B'!K244","v":0},{"$f":"'Bordereau versement B'!L244","v":0},{"$f":"'Bordereau versement B'!M244","v":0},{"$f":"'Bordereau versement B'!N244","v":0}]
[{"$f":"'Bordereau versement B'!A245:D245","v":0},null,null,null,{"$f":"'Bordereau versement B'!E245","v":0},{"$f":"'Bordereau versement B'!F245:G245","v":0},null,{"$f":"'Bordereau versement B'!H245","v":0},{"$f":"'Bordereau versement B'!I245","v":0},{"$f":"'Bordereau versement B'!J245","v":0},{"$f":"'Bordereau versement B'!K245","v":0},{"$f":"'Bordereau versement B'!L245","v":0},{"$f":"'Bordereau versement B'!M245","v":0},{"$f":"'Bordereau versement B'!N245","v":0}]
[{"$f":"'Bordereau versement B'!A246:D246","v":0},null,null,null,{"$f":"'Bordereau versement B'!E246","v":0},{"$f":"'Bordereau versement B'!F246:G246","v":0},null,{"$f":"'Bordereau versement B'!H246","v":0},{"$f":"'Bordereau versement B'!I246","v":0},{"$f":"'Bordereau versement B'!J246","v":0},{"$f":"'Bordereau versement B'!K246","v":0},{"$f":"'Bordereau versement B'!L246","v":0},{"$f":"'Bordereau versement B'!M246","v":0},{"$f":"'Bordereau versement B'!N246","v":0}]
[{"$f":"'Bordereau versement B'!A247:D247","v":0},null,null,null,{"$f":"'Bordereau versement B'!E247","v":0},{"$f":"'Bordereau versement B'!F247:G247","v":0},null,{"$f":"'Bordereau versement B'!H247","v":0},{"$f":"'Bordereau versement B'!I247","v":0},{"$f":"'Bordereau versement B'!J247","v":0},{"$f":"'Bordereau versement B'!K247","v":0},{"$f":"'Bordereau versement B'!L247","v":0},{"$f":"'Bordereau versement B'!M247","v":0},{"$f":"'Bordereau versement B'!N247","v":0}]
[{"$f":"'Bordereau versement B'!A248:D248","v":0},null,null,null,{"$f":"'Bordereau versement B'!E248","v":0},{"$f":"'Bordereau versement B'!F248:G248","v":0},null,{"$f":"'Bordereau versement B'!H248","v":0},{"$f":"'Bordereau versement B'!I248","v":0},{"$f":"'Bordereau versement B'!J248","v":0},{"$f":"'Bordereau versement B'!K248","v":0},{"$f":"'Bordereau versement B'!L248","v":0},{"$f":"'Bordereau versement B'!M248","v":0},{"$f":"'Bordereau versement B'!N248","v":0}]
[{"$f":"'Bordereau versement B'!A249:D249","v":0},null,null,null,{"$f":"'Bordereau versement B'!E249","v":0},{"$f":"'Bordereau versement B'!F249:G249","v":0},null,{"$f":"'Bordereau versement B'!H249","v":0},{"$f":"'Bordereau versement B'!I249","v":0},{"$f":"'Bordereau versement B'!J249","v":0},{"$f":"'Bordereau versement B'!K249","v":0},{"$f":"'Bordereau versement B'!L249","v":0},{"$f":"'Bordereau versement B'!M249","v":0},{"$f":"'Bordereau versement B'!N249","v":0}]
[{"$f":"'Bordereau versement B'!A250:D250","v":0},null,null,null,{"$f":"'Bordereau versement B'!E250","v":0},{"$f":"'Bordereau versement B'!F250:G250","v":0},null,{"$f":"'Bordereau versement B'!H250","v":0},{"$f":"'Bordereau versement B'!I250","v":0},{"$f":"'Bordereau versement B'!J250","v":0},{"$f":"'Bordereau versement B'!K250","v":0},{"$f":"'Bordereau versement B'!L250","v":0},{"$f":"'Bordereau versement B'!M250","v":0},{"$f":"'Bordereau versement B'!N250","v":0}]
[{"$f":"'Bordereau versement B'!A251:D251","v":0},null,null,null,{"$f":"'Bordereau versement B'!E251","v":0},{"$f":"'Bordereau versement B'!F251:G251","v":0},null,{"$f":"'Bordereau versement B'!H251","v":0},{"$f":"'Bordereau versement B'!I251","v":0},{"$f":"'Bordereau versement B'!J251","v":0},{"$f":"'Bordereau versement B'!K251","v":0},{"$f":"'Bordereau versement B'!L251","v":0},{"$f":"'Bordereau versement B'!M251","v":0},{"$f":"'Bordereau versement B'!N251","v":0}]
[{"$f":"'Bordereau versement B'!A252:D252","v":0},null,null,null,{"$f":"'Bordereau versement B'!E252","v":0},{"$f":"'Bordereau versement B'!F252:G252","v":0},null,{"$f":"'Bordereau versement B'!H252","v":0},{"$f":"'Bordereau versement B'!I252","v":0},{"$f":"'Bordereau versement B'!J252","v":0},{"$f":"'Bordereau versement B'!K252","v":0},{"$f":"'Bordereau versement B'!L252","v":0},{"$f":"'Bordereau versement B'!M252","v":0},{"$f":"'Bordereau versement B'!N252","v":0}]
[{"$f":"'Bordereau versement B'!A253:D253","v":0},null,null,null,{"$f":"'Bordereau versement B'!E253","v":0},{"$f":"'Bordereau versement B'!F253:G253","v":0},null,{"$f":"'Bordereau versement B'!H253","v":0},{"$f":"'Bordereau versement B'!I253","v":0},{"$f":"'Bordereau versement B'!J253","v":0},{"$f":"'Bordereau versement B'!K253","v":0},{"$f":"'Bordereau versement B'!L253","v":0},{"$f":"'Bordereau versement B'!M253","v":0},{"$f":"'Bordereau versement B'!N253","v":0}]
[{"$f":"'Bordereau versement B'!A254:D254","v":0},null,null,null,{"$f":"'Bordereau versement B'!E254","v":0},{"$f":"'Bordereau versement B'!F254:G254","v":0},null,{"$f":"'Bordereau versement B'!H254","v":0},{"$f":"'Bordereau versement B'!I254","v":0},{"$f":"'Bordereau versement B'!J254","v":0},{"$f":"'Bordereau versement B'!K254","v":0},{"$f":"'Bordereau versement B'!L254","v":0},{"$f":"'Bordereau versement B'!M254","v":0},{"$f":"'Bordereau versement B'!N254","v":0}]
[{"$f":"'Bordereau versement B'!A255:D255","v":0},null,null,null,{"$f":"'Bordereau versement B'!E255","v":0},{"$f":"'Bordereau versement B'!F255:G255","v":0},null,{"$f":"'Bordereau versement B'!H255","v":0},{"$f":"'Bordereau versement B'!I255","v":0},{"$f":"'Bordereau versement B'!J255","v":0},{"$f":"'Bordereau versement B'!K255","v":0},{"$f":"'Bordereau versement B'!L255","v":0},{"$f":"'Bordereau versement B'!M255","v":0},{"$f":"'Bordereau versement B'!N255","v":0}]
[{"$f":"'Bordereau versement B'!A256:D256","v":0},null,null,null,{"$f":"'Bordereau versement B'!E256","v":0},{"$f":"'Bordereau versement B'!F256:G256","v":0},null,{"$f":"'Bordereau versement B'!H256","v":0},{"$f":"'Bordereau versement B'!I256","v":0},{"$f":"'Bordereau versement B'!J256","v":0},{"$f":"'Bordereau versement B'!K256","v":0},{"$f":"'Bordereau versement B'!L256","v":0},{"$f":"'Bordereau versement B'!M256","v":0},{"$f":"'Bordereau versement B'!N256","v":0}]
[{"$f":"'Bordereau versement B'!A257:D257","v":0},null,null,null,{"$f":"'Bordereau versement B'!E257","v":0},{"$f":"'Bordereau versement B'!F257:G257","v":0},null,{"$f":"'Bordereau versement B'!H257","v":0},{"$f":"'Bordereau versement B'!I257","v":0},{"$f":"'Bordereau versement B'!J257","v":0},{"$f":"'Bordereau versement B'!K257","v":0},{"$f":"'Bordereau versement B'!L257","v":0},{"$f":"'Bordereau versement B'!M257","v":0},{"$f":"'Bordereau versement B'!N257","v":0}]
[{"$f":"'Bordereau versement B'!A258:D258","v":0},null,null,null,{"$f":"'Bordereau versement B'!E258","v":0},{"$f":"'Bordereau versement B'!F258:G258","v":0},null,{"$f":"'Bordereau versement B'!H258","v":0},{"$f":"'Bordereau versement B'!I258","v":0},{"$f":"'Bordereau versement B'!J258","v":0},{"$f":"'Bordereau versement B'!K258","v":0},{"$f":"'Bordereau versement B'!L258","v":0},{"$f":"'Bordereau versement B'!M258","v":0},{"$f":"'Bordereau versement B'!N258","v":0}]
[{"$f":"'Bordereau versement B'!A259:D259","v":0},null,null,null,{"$f":"'Bordereau versement B'!E259","v":0},{"$f":"'Bordereau versement B'!F259:G259","v":0},null,{"$f":"'Bordereau versement B'!H259","v":0},{"$f":"'Bordereau versement B'!I259","v":0},{"$f":"'Bordereau versement B'!J259","v":0},{"$f":"'Bordereau versement B'!K259","v":0},{"$f":"'Bordereau versement B'!L259","v":0},{"$f":"'Bordereau versement B'!M259","v":0},{"$f":"'Bordereau versement B'!N259","v":0}]
["Total B",null,null,null,null,null,null,null,null,{"$f":"SUM(J266:J515)","v":0},{"$f":"SUM(K266:K515)","v":0},{"$f":"SUM(L266:L515)","v":0},{"$f":"SUM(M266:M515)","v":0},{"$f":"SUM(N266:N515)","v":0}]
[]
[]
["C. Ajustements depuis le versement précédent"]
["                                                                                                          Nom, prénom de la RSG",null,null,null,"No d'identification","Raison de l'ajustement",null,"Nombre de places visées par l'ajustement","Nombre de mois pour lesquels les frais ont été ajustés","Frais additionnels/\nremboursés comprenant les taxes","TPS","TVQ"]
[{"$f":"'Bordereau versement C'!A10:D10","v":0},null,null,null,{"$f":"'Bordereau versement C'!E10","v":0},{"$f":"'Bordereau versement C'!F10:G10","v":0},null,{"$f":"'Bordereau versement C'!H10","v":0},{"$f":"'Bordereau versement C'!I10","v":0},{"$f":"'Bordereau versement C'!J10","v":0},{"$f":"'Bordereau versement C'!K10","v":0},{"$f":"'Bordereau versement C'!L10","v":0}]
[{"$f":"'Bordereau versement C'!A11:D11","v":0},null,null,null,{"$f":"'Bordereau versement C'!E11","v":0},{"$f":"'Bordereau versement C'!F11:G11","v":0},null,{"$f":"'Bordereau versement C'!H11","v":0},{"$f":"'Bordereau versement C'!I11","v":0},{"$f":"'Bordereau versement C'!J11","v":0},{"$f":"'Bordereau versement C'!K11","v":0},{"$f":"'Bordereau versement C'!L11","v":0}]
[{"$f":"'Bordereau versement C'!A12:D12","v":0},null,null,null,{"$f":"'Bordereau versement C'!E12","v":0},{"$f":"'Bordereau versement C'!F12:G12","v":0},null,{"$f":"'Bordereau versement C'!H12","v":0},{"$f":"'Bordereau versement C'!I12","v":0},{"$f":"'Bordereau versement C'!J12","v":0},{"$f":"'Bordereau versement C'!K12","v":0},{"$f":"'Bordereau versement C'!L12","v":0}]
[{"$f":"'Bordereau versement C'!A13:D13","v":0},null,null,null,{"$f":"'Bordereau versement C'!E13","v":0},{"$f":"'Bordereau versement C'!F13:G13","v":0},null,{"$f":"'Bordereau versement C'!H13","v":0},{"$f":"'Bordereau versement C'!I13","v":0},{"$f":"'Bordereau versement C'!J13","v":0},{"$f":"'Bordereau versement C'!K13","v":0},{"$f":"'Bordereau versement C'!L13","v":0}]
[{"$f":"'Bordereau versement C'!A14:D14","v":0},null,null,null,{"$f":"'Bordereau versement C'!E14","v":0},{"$f":"'Bordereau versement C'!F14:G14","v":0},null,{"$f":"'Bordereau versement C'!H14","v":0},{"$f":"'Bordereau versement C'!I14","v":0},{"$f":"'Bordereau versement C'!J14","v":0},{"$f":"'Bordereau versement C'!K14","v":0},{"$f":"'Bordereau versement C'!L14","v":0}]
[{"$f":"'Bordereau versement C'!A15:D15","v":0},null,null,null,{"$f":"'Bordereau versement C'!E15","v":0},{"$f":"'Bordereau versement C'!F15:G15","v":0},null,{"$f":"'Bordereau versement C'!H15","v":0},{"$f":"'Bordereau versement C'!I15","v":0},{"$f":"'Bordereau versement C'!J15","v":0},{"$f":"'Bordereau versement C'!K15","v":0},{"$f":"'Bordereau versement C'!L15","v":0}]
[{"$f":"'Bordereau versement C'!A16:D16","v":0},null,null,null,{"$f":"'Bordereau versement C'!E16","v":0},{"$f":"'Bordereau versement C'!F16:G16","v":0},null,{"$f":"'Bordereau versement C'!H16","v":0},{"$f":"'Bordereau versement C'!I16","v":0},{"$f":"'Bordereau versement C'!J16","v":0},{"$f":"'Bordereau versement C'!K16","v":0},{"$f":"'Bordereau versement C'!L16","v":0}]
[{"$f":"'Bordereau versement C'!A17:D17","v":0},null,null,null,{"$f":"'Bordereau versement C'!E17","v":0},{"$f":"'Bordereau versement C'!F17:G17","v":0},null,{"$f":"'Bordereau versement C'!H17","v":0},{"$f":"'Bordereau versement C'!I17","v":0},{"$f":"'Bordereau versement C'!J17","v":0},{"$f":"'Bordereau versement C'!K17","v":0},{"$f":"'Bordereau versement C'!L17","v":0}]
[{"$f":"'Bordereau versement C'!A18:D18","v":0},null,null,null,{"$f":"'Bordereau versement C'!E18","v":0},{"$f":"'Bordereau versement C'!F18:G18","v":0},null,{"$f":"'Bordereau versement C'!H18","v":0},{"$f":"'Bordereau versement C'!I18","v":0},{"$f":"'Bordereau versement C'!J18","v":0},{"$f":"'Bordereau versement C'!K18","v":0},{"$f":"'Bordereau versement C'!L18","v":0}]
[{"$f":"'Bordereau versement C'!A19:D19","v":0},null,null,null,{"$f":"'Bordereau versement C'!E19","v":0},{"$f":"'Bordereau versement C'!F19:G19","v":0},null,{"$f":"'Bordereau versement C'!H19","v":0},{"$f":"'Bordereau versement C'!I19","v":0},{"$f":"'Bordereau versement C'!J19","v":0},{"$f":"'Bordereau versement C'!K19","v":0},{"$f":"'Bordereau versement C'!L19","v":0}]
[{"$f":"'Bordereau versement C'!A20:D20","v":0},null,null,null,{"$f":"'Bordereau versement C'!E20","v":0},{"$f":"'Bordereau versement C'!F20:G20","v":0},null,{"$f":"'Bordereau versement C'!H20","v":0},{"$f":"'Bordereau versement C'!I20","v":0},{"$f":"'Bordereau versement C'!J20","v":0},{"$f":"'Bordereau versement C'!K20","v":0},{"$f":"'Bordereau versement C'!L20","v":0}]
[{"$f":"'Bordereau versement C'!A21:D21","v":0},null,null,null,{"$f":"'Bordereau versement C'!E21","v":0},{"$f":"'Bordereau versement C'!F21:G21","v":0},null,{"$f":"'Bordereau versement C'!H21","v":0},{"$f":"'Bordereau versement C'!I21","v":0},{"$f":"'Bordereau versement C'!J21","v":0},{"$f":"'Bordereau versement C'!K21","v":0},{"$f":"'Bordereau versement C'!L21","v":0}]
[{"$f":"'Bordereau versement C'!A22:D22","v":0},null,null,null,{"$f":"'Bordereau versement C'!E22","v":0},{"$f":"'Bordereau versement C'!F22:G22","v":0},null,{"$f":"'Bordereau versement C'!H22","v":0},{"$f":"'Bordereau versement C'!I22","v":0},{"$f":"'Bordereau versement C'!J22","v":0},{"$f":"'Bordereau versement C'!K22","v":0},{"$f":"'Bordereau versement C'!L22","v":0}]
[{"$f":"'Bordereau versement C'!A23:D23","v":0},null,null,null,{"$f":"'Bordereau versement C'!E23","v":0},{"$f":"'Bordereau versement C'!F23:G23","v":0},null,{"$f":"'Bordereau versement C'!H23","v":0},{"$f":"'Bordereau versement C'!I23","v":0},{"$f":"'Bordereau versement C'!J23","v":0},{"$f":"'Bordereau versement C'!K23","v":0},{"$f":"'Bordereau versement C'!L23","v":0}]
[{"$f":"'Bordereau versement C'!A24:D24","v":0},null,null,null,{"$f":"'Bordereau versement C'!E24","v":0},{"$f":"'Bordereau versement C'!F24:G24","v":0},null,{"$f":"'Bordereau versement C'!H24","v":0},{"$f":"'Bordereau versement C'!I24","v":0},{"$f":"'Bordereau versement C'!J24","v":0},{"$f":"'Bordereau versement C'!K24","v":0},{"$f":"'Bordereau versement C'!L24","v":0}]
[{"$f":"'Bordereau versement C'!A25:D25","v":0},null,null,null,{"$f":"'Bordereau versement C'!E25","v":0},{"$f":"'Bordereau versement C'!F25:G25","v":0},null,{"$f":"'Bordereau versement C'!H25","v":0},{"$f":"'Bordereau versement C'!I25","v":0},{"$f":"'Bordereau versement C'!J25","v":0},{"$f":"'Bordereau versement C'!K25","v":0},{"$f":"'Bordereau versement C'!L25","v":0}]
[{"$f":"'Bordereau versement C'!A26:D26","v":0},null,null,null,{"$f":"'Bordereau versement C'!E26","v":0},{"$f":"'Bordereau versement C'!F26:G26","v":0},null,{"$f":"'Bordereau versement C'!H26","v":0},{"$f":"'Bordereau versement C'!I26","v":0},{"$f":"'Bordereau versement C'!J26","v":0},{"$f":"'Bordereau versement C'!K26","v":0},{"$f":"'Bordereau versement C'!L26","v":0}]
[{"$f":"'Bordereau versement C'!A27:D27","v":0},null,null,null,{"$f":"'Bordereau versement C'!E27","v":0},{"$f":"'Bordereau versement C'!F27:G27","v":0},null,{"$f":"'Bordereau versement C'!H27","v":0},{"$f":"'Bordereau versement C'!I27","v":0},{"$f":"'Bordereau versement C'!J27","v":0},{"$f":"'Bordereau versement C'!K27","v":0},{"$f":"'Bordereau versement C'!L27","v":0}]
[{"$f":"'Bordereau versement C'!A28:D28","v":0},null,null,null,{"$f":"'Bordereau versement C'!E28","v":0},{"$f":"'Bordereau versement C'!F28:G28","v":0},null,{"$f":"'Bordereau versement C'!H28","v":0},{"$f":"'Bordereau versement C'!I28","v":0},{"$f":"'Bordereau versement C'!J28","v":0},{"$f":"'Bordereau versement C'!K28","v":0},{"$f":"'Bordereau versement C'!L28","v":0}]
[{"$f":"'Bordereau versement C'!A29:D29","v":0},null,null,null,{"$f":"'Bordereau versement C'!E29","v":0},{"$f":"'Bordereau versement C'!F29:G29","v":0},null,{"$f":"'Bordereau versement C'!H29","v":0},{"$f":"'Bordereau versement C'!I29","v":0},{"$f":"'Bordereau versement C'!J29","v":0},{"$f":"'Bordereau versement C'!K29","v":0},{"$f":"'Bordereau versement C'!L29","v":0}]
[{"$f":"'Bordereau versement C'!A30:D30","v":0},null,null,null,{"$f":"'Bordereau versement C'!E30","v":0},{"$f":"'Bordereau versement C'!F30:G30","v":0},null,{"$f":"'Bordereau versement C'!H30","v":0},{"$f":"'Bordereau versement C'!I30","v":0},{"$f":"'Bordereau versement C'!J30","v":0},{"$f":"'Bordereau versement C'!K30","v":0},{"$f":"'Bordereau versement C'!L30","v":0}]
[{"$f":"'Bordereau versement C'!A31:D31","v":0},null,null,null,{"$f":"'Bordereau versement C'!E31","v":0},{"$f":"'Bordereau versement C'!F31:G31","v":0},null,{"$f":"'Bordereau versement C'!H31","v":0},{"$f":"'Bordereau versement C'!I31","v":0},{"$f":"'Bordereau versement C'!J31","v":0},{"$f":"'Bordereau versement C'!K31","v":0},{"$f":"'Bordereau versement C'!L31","v":0}]
[{"$f":"'Bordereau versement C'!A32:D32","v":0},null,null,null,{"$f":"'Bordereau versement C'!E32","v":0},{"$f":"'Bordereau versement C'!F32:G32","v":0},null,{"$f":"'Bordereau versement C'!H32","v":0},{"$f":"'Bordereau versement C'!I32","v":0},{"$f":"'Bordereau versement C'!J32","v":0},{"$f":"'Bordereau versement C'!K32","v":0},{"$f":"'Bordereau versement C'!L32","v":0}]
[{"$f":"'Bordereau versement C'!A33:D33","v":0},null,null,null,{"$f":"'Bordereau versement C'!E33","v":0},{"$f":"'Bordereau versement C'!F33:G33","v":0},null,{"$f":"'Bordereau versement C'!H33","v":0},{"$f":"'Bordereau versement C'!I33","v":0},{"$f":"'Bordereau versement C'!J33","v":0},{"$f":"'Bordereau versement C'!K33","v":0},{"$f":"'Bordereau versement C'!L33","v":0}]
[{"$f":"'Bordereau versement C'!A34:D34","v":0},null,null,null,{"$f":"'Bordereau versement C'!E34","v":0},{"$f":"'Bordereau versement C'!F34:G34","v":0},null,{"$f":"'Bordereau versement C'!H34","v":0},{"$f":"'Bordereau versement C'!I34","v":0},{"$f":"'Bordereau versement C'!J34","v":0},{"$f":"'Bordereau versement C'!K34","v":0},{"$f":"'Bordereau versement C'!L34","v":0}]
[{"$f":"'Bordereau versement C'!A35:D35","v":0},null,null,null,{"$f":"'Bordereau versement C'!E35","v":0},{"$f":"'Bordereau versement C'!F35:G35","v":0},null,{"$f":"'Bordereau versement C'!H35","v":0},{"$f":"'Bordereau versement C'!I35","v":0},{"$f":"'Bordereau versement C'!J35","v":0},{"$f":"'Bordereau versement C'!K35","v":0},{"$f":"'Bordereau versement C'!L35","v":0}]
[{"$f":"'Bordereau versement C'!A36:D36","v":0},null,null,null,{"$f":"'Bordereau versement C'!E36","v":0},{"$f":"'Bordereau versement C'!F36:G36","v":0},null,{"$f":"'Bordereau versement C'!H36","v":0},{"$f":"'Bordereau versement C'!I36","v":0},{"$f":"'Bordereau versement C'!J36","v":0},{"$f":"'Bordereau versement C'!K36","v":0},{"$f":"'Bordereau versement C'!L36","v":0}]
[{"$f":"'Bordereau versement C'!A37:D37","v":0},null,null,null,{"$f":"'Bordereau versement C'!E37","v":0},{"$f":"'Bordereau versement C'!F37:G37","v":0},null,{"$f":"'Bordereau versement C'!H37","v":0},{"$f":"'Bordereau versement C'!I37","v":0},{"$f":"'Bordereau versement C'!J37","v":0},{"$f":"'Bordereau versement C'!K37","v":0},{"$f":"'Bordereau versement C'!L37","v":0}]
[{"$f":"'Bordereau versement C'!A38:D38","v":0},null,null,null,{"$f":"'Bordereau versement C'!E38","v":0},{"$f":"'Bordereau versement C'!F38:G38","v":0},null,{"$f":"'Bordereau versement C'!H38","v":0},{"$f":"'Bordereau versement C'!I38","v":0},{"$f":"'Bordereau versement C'!J38","v":0},{"$f":"'Bordereau versement C'!K38","v":0},{"$f":"'Bordereau versement C'!L38","v":0}]
[{"$f":"'Bordereau versement C'!A39:D39","v":0},null,null,null,{"$f":"'Bordereau versement C'!E39","v":0},{"$f":"'Bordereau versement C'!F39:G39","v":0},null,{"$f":"'Bordereau versement C'!H39","v":0},{"$f":"'Bordereau versement C'!I39","v":0},{"$f":"'Bordereau versement C'!J39","v":0},{"$f":"'Bordereau versement C'!K39","v":0},{"$f":"'Bordereau versement C'!L39","v":0}]
[{"$f":"'Bordereau versement C'!A40:D40","v":0},null,null,null,{"$f":"'Bordereau versement C'!E40","v":0},{"$f":"'Bordereau versement C'!F40:G40","v":0},null,{"$f":"'Bordereau versement C'!H40","v":0},{"$f":"'Bordereau versement C'!I40","v":0},{"$f":"'Bordereau versement C'!J40","v":0},{"$f":"'Bordereau versement C'!K40","v":0},{"$f":"'Bordereau versement C'!L40","v":0}]
[{"$f":"'Bordereau versement C'!A41:D41","v":0},null,null,null,{"$f":"'Bordereau versement C'!E41","v":0},{"$f":"'Bordereau versement C'!F41:G41","v":0},null,{"$f":"'Bordereau versement C'!H41","v":0},{"$f":"'Bordereau versement C'!I41","v":0},{"$f":"'Bordereau versement C'!J41","v":0},{"$f":"'Bordereau versement C'!K41","v":0},{"$f":"'Bordereau versement C'!L41","v":0}]
[{"$f":"'Bordereau versement C'!A42:D42","v":0},null,null,null,{"$f":"'Bordereau versement C'!E42","v":0},{"$f":"'Bordereau versement C'!F42:G42","v":0},null,{"$f":"'Bordereau versement C'!H42","v":0},{"$f":"'Bordereau versement C'!I42","v":0},{"$f":"'Bordereau versement C'!J42","v":0},{"$f":"'Bordereau versement C'!K42","v":0},{"$f":"'Bordereau versement C'!L42","v":0}]
[{"$f":"'Bordereau versement C'!A43:D43","v":0},null,null,null,{"$f":"'Bordereau versement C'!E43","v":0},{"$f":"'Bordereau versement C'!F43:G43","v":0},null,{"$f":"'Bordereau versement C'!H43","v":0},{"$f":"'Bordereau versement C'!I43","v":0},{"$f":"'Bordereau versement C'!J43","v":0},{"$f":"'Bordereau versement C'!K43","v":0},{"$f":"'Bordereau versement C'!L43","v":0}]
[{"$f":"'Bordereau versement C'!A44:D44","v":0},null,null,null,{"$f":"'Bordereau versement C'!E44","v":0},{"$f":"'Bordereau versement C'!F44:G44","v":0},null,{"$f":"'Bordereau versement C'!H44","v":0},{"$f":"'Bordereau versement C'!I44","v":0},{"$f":"'Bordereau versement C'!J44","v":0},{"$f":"'Bordereau versement C'!K44","v":0},{"$f":"'Bordereau versement C'!L44","v":0}]
[{"$f":"'Bordereau versement C'!A45:D45","v":0},null,null,null,{"$f":"'Bordereau versement C'!E45","v":0},{"$f":"'Bordereau versement C'!F45:G45","v":0},null,{"$f":"'Bordereau versement C'!H45","v":0},{"$f":"'Bordereau versement C'!I45","v":0},{"$f":"'Bordereau versement C'!J45","v":0},{"$f":"'Bordereau versement C'!K45","v":0},{"$f":"'Bordereau versement C'!L45","v":0}]
[{"$f":"'Bordereau versement C'!A46:D46","v":0},null,null,null,{"$f":"'Bordereau versement C'!E46","v":0},{"$f":"'Bordereau versement C'!F46:G46","v":0},null,{"$f":"'Bordereau versement C'!H46","v":0},{"$f":"'Bordereau versement C'!I46","v":0},{"$f":"'Bordereau versement C'!J46","v":0},{"$f":"'Bordereau versement C'!K46","v":0},{"$f":"'Bordereau versement C'!L46","v":0}]
[{"$f":"'Bordereau versement C'!A47:D47","v":0},null,null,null,{"$f":"'Bordereau versement C'!E47","v":0},{"$f":"'Bordereau versement C'!F47:G47","v":0},null,{"$f":"'Bordereau versement C'!H47","v":0},{"$f":"'Bordereau versement C'!I47","v":0},{"$f":"'Bordereau versement C'!J47","v":0},{"$f":"'Bordereau versement C'!K47","v":0},{"$f":"'Bordereau versement C'!L47","v":0}]
[{"$f":"'Bordereau versement C'!A48:D48","v":0},null,null,null,{"$f":"'Bordereau versement C'!E48","v":0},{"$f":"'Bordereau versement C'!F48:G48","v":0},null,{"$f":"'Bordereau versement C'!H48","v":0},{"$f":"'Bordereau versement C'!I48","v":0},{"$f":"'Bordereau versement C'!J48","v":0},{"$f":"'Bordereau versement C'!K48","v":0},{"$f":"'Bordereau versement C'!L48","v":0}]
[{"$f":"'Bordereau versement C'!A49:D49","v":0},null,null,null,{"$f":"'Bordereau versement C'!E49","v":0},{"$f":"'Bordereau versement C'!F49:G49","v":0},null,{"$f":"'Bordereau versement C'!H49","v":0},{"$f":"'Bordereau versement C'!I49","v":0},{"$f":"'Bordereau versement C'!J49","v":0},{"$f":"'Bordereau versement C'!K49","v":0},{"$f":"'Bordereau versement C'!L49","v":0}]
[{"$f":"'Bordereau versement C'!A50:D50","v":0},null,null,null,{"$f":"'Bordereau versement C'!E50","v":0},{"$f":"'Bordereau versement C'!F50:G50","v":0},null,{"$f":"'Bordereau versement C'!H50","v":0},{"$f":"'Bordereau versement C'!I50","v":0},{"$f":"'Bordereau versement C'!J50","v":0},{"$f":"'Bordereau versement C'!K50","v":0},{"$f":"'Bordereau versement C'!L50","v":0}]
[{"$f":"'Bordereau versement C'!A51:D51","v":0},null,null,null,{"$f":"'Bordereau versement C'!E51","v":0},{"$f":"'Bordereau versement C'!F51:G51","v":0},null,{"$f":"'Bordereau versement C'!H51","v":0},{"$f":"'Bordereau versement C'!I51","v":0},{"$f":"'Bordereau versement C'!J51","v":0},{"$f":"'Bordereau versement C'!K51","v":0},{"$f":"'Bordereau versement C'!L51","v":0}]
[{"$f":"'Bordereau versement C'!A52:D52","v":0},null,null,null,{"$f":"'Bordereau versement C'!E52","v":0},{"$f":"'Bordereau versement C'!F52:G52","v":0},null,{"$f":"'Bordereau versement C'!H52","v":0},{"$f":"'Bordereau versement C'!I52","v":0},{"$f":"'Bordereau versement C'!J52","v":0},{"$f":"'Bordereau versement C'!K52","v":0},{"$f":"'Bordereau versement C'!L52","v":0}]
[{"$f":"'Bordereau versement C'!A53:D53","v":0},null,null,null,{"$f":"'Bordereau versement C'!E53","v":0},{"$f":"'Bordereau versement C'!F53:G53","v":0},null,{"$f":"'Bordereau versement C'!H53","v":0},{"$f":"'Bordereau versement C'!I53","v":0},{"$f":"'Bordereau versement C'!J53","v":0},{"$f":"'Bordereau versement C'!K53","v":0},{"$f":"'Bordereau versement C'!L53","v":0}]
[{"$f":"'Bordereau versement C'!A54:D54","v":0},null,null,null,{"$f":"'Bordereau versement C'!E54","v":0},{"$f":"'Bordereau versement C'!F54:G54","v":0},null,{"$f":"'Bordereau versement C'!H54","v":0},{"$f":"'Bordereau versement C'!I54","v":0},{"$f":"'Bordereau versement C'!J54","v":0},{"$f":"'Bordereau versement C'!K54","v":0},{"$f":"'Bordereau versement C'!L54","v":0}]
[{"$f":"'Bordereau versement C'!A55:D55","v":0},null,null,null,{"$f":"'Bordereau versement C'!E55","v":0},{"$f":"'Bordereau versement C'!F55:G55","v":0},null,{"$f":"'Bordereau versement C'!H55","v":0},{"$f":"'Bordereau versement C'!I55","v":0},{"$f":"'Bordereau versement C'!J55","v":0},{"$f":"'Bordereau versement C'!K55","v":0},{"$f":"'Bordereau versement C'!L55","v":0}]
[{"$f":"'Bordereau versement C'!A56:D56","v":0},null,null,null,{"$f":"'Bordereau versement C'!E56","v":0},{"$f":"'Bordereau versement C'!F56:G56","v":0},null,{"$f":"'Bordereau versement C'!H56","v":0},{"$f":"'Bordereau versement C'!I56","v":0},{"$f":"'Bordereau versement C'!J56","v":0},{"$f":"'Bordereau versement C'!K56","v":0},{"$f":"'Bordereau versement C'!L56","v":0}]
[{"$f":"'Bordereau versement C'!A57:D57","v":0},null,null,null,{"$f":"'Bordereau versement C'!E57","v":0},{"$f":"'Bordereau versement C'!F57:G57","v":0},null,{"$f":"'Bordereau versement C'!H57","v":0},{"$f":"'Bordereau versement C'!I57","v":0},{"$f":"'Bordereau versement C'!J57","v":0},{"$f":"'Bordereau versement C'!K57","v":0},{"$f":"'Bordereau versement C'!L57","v":0}]
[{"$f":"'Bordereau versement C'!A58:D58","v":0},null,null,null,{"$f":"'Bordereau versement C'!E58","v":0},{"$f":"'Bordereau versement C'!F58:G58","v":0},null,{"$f":"'Bordereau versement C'!H58","v":0},{"$f":"'Bordereau versement C'!I58","v":0},{"$f":"'Bordereau versement C'!J58","v":0},{"$f":"'Bordereau versement C'!K58","v":0},{"$f":"'Bordereau versement C'!L58","v":0}]
[{"$f":"'Bordereau versement C'!A59:D59","v":0},null,null,null,{"$f":"'Bordereau versement C'!E59","v":0},{"$f":"'Bordereau versement C'!F59:G59","v":0},null,{"$f":"'Bordereau versement C'!H59","v":0},{"$f":"'Bordereau versement C'!I59","v":0},{"$f":"'Bordereau versement C'!J59","v":0},{"$f":"'Bordereau versement C'!K59","v":0},{"$f":"'Bordereau versement C'!L59","v":0}]
[{"$f":"'Bordereau versement C'!A60:D60","v":0},null,null,null,{"$f":"'Bordereau versement C'!E60","v":0},{"$f":"'Bordereau versement C'!F60:G60","v":0},null,{"$f":"'Bordereau versement C'!H60","v":0},{"$f":"'Bordereau versement C'!I60","v":0},{"$f":"'Bordereau versement C'!J60","v":0},{"$f":"'Bordereau versement C'!K60","v":0},{"$f":"'Bordereau versement C'!L60","v":0}]
[{"$f":"'Bordereau versement C'!A61:D61","v":0},null,null,null,{"$f":"'Bordereau versement C'!E61","v":0},{"$f":"'Bordereau versement C'!F61:G61","v":0},null,{"$f":"'Bordereau versement C'!H61","v":0},{"$f":"'Bordereau versement C'!I61","v":0},{"$f":"'Bordereau versement C'!J61","v":0},{"$f":"'Bordereau versement C'!K61","v":0},{"$f":"'Bordereau versement C'!L61","v":0}]
[{"$f":"'Bordereau versement C'!A62:D62","v":0},null,null,null,{"$f":"'Bordereau versement C'!E62","v":0},{"$f":"'Bordereau versement C'!F62:G62","v":0},null,{"$f":"'Bordereau versement C'!H62","v":0},{"$f":"'Bordereau versement C'!I62","v":0},{"$f":"'Bordereau versement C'!J62","v":0},{"$f":"'Bordereau versement C'!K62","v":0},{"$f":"'Bordereau versement C'!L62","v":0}]
[{"$f":"'Bordereau versement C'!A63:D63","v":0},null,null,null,{"$f":"'Bordereau versement C'!E63","v":0},{"$f":"'Bordereau versement C'!F63:G63","v":0},null,{"$f":"'Bordereau versement C'!H63","v":0},{"$f":"'Bordereau versement C'!I63","v":0},{"$f":"'Bordereau versement C'!J63","v":0},{"$f":"'Bordereau versement C'!K63","v":0},{"$f":"'Bordereau versement C'!L63","v":0}]
[{"$f":"'Bordereau versement C'!A64:D64","v":0},null,null,null,{"$f":"'Bordereau versement C'!E64","v":0},{"$f":"'Bordereau versement C'!F64:G64","v":0},null,{"$f":"'Bordereau versement C'!H64","v":0},{"$f":"'Bordereau versement C'!I64","v":0},{"$f":"'Bordereau versement C'!J64","v":0},{"$f":"'Bordereau versement C'!K64","v":0},{"$f":"'Bordereau versement C'!L64","v":0}]
[{"$f":"'Bordereau versement C'!A65:D65","v":0},null,null,null,{"$f":"'Bordereau versement C'!E65","v":0},{"$f":"'Bordereau versement C'!F65:G65","v":0},null,{"$f":"'Bordereau versement C'!H65","v":0},{"$f":"'Bordereau versement C'!I65","v":0},{"$f":"'Bordereau versement C'!J65","v":0},{"$f":"'Bordereau versement C'!K65","v":0},{"$f":"'Bordereau versement C'!L65","v":0}]
[{"$f":"'Bordereau versement C'!A66:D66","v":0},null,null,null,{"$f":"'Bordereau versement C'!E66","v":0},{"$f":"'Bordereau versement C'!F66:G66","v":0},null,{"$f":"'Bordereau versement C'!H66","v":0},{"$f":"'Bordereau versement C'!I66","v":0},{"$f":"'Bordereau versement C'!J66","v":0},{"$f":"'Bordereau versement C'!K66","v":0},{"$f":"'Bordereau versement C'!L66","v":0}]
[{"$f":"'Bordereau versement C'!A67:D67","v":0},null,null,null,{"$f":"'Bordereau versement C'!E67","v":0},{"$f":"'Bordereau versement C'!F67:G67","v":0},null,{"$f":"'Bordereau versement C'!H67","v":0},{"$f":"'Bordereau versement C'!I67","v":0},{"$f":"'Bordereau versement C'!J67","v":0},{"$f":"'Bordereau versement C'!K67","v":0},{"$f":"'Bordereau versement C'!L67","v":0}]
[{"$f":"'Bordereau versement C'!A68:D68","v":0},null,null,null,{"$f":"'Bordereau versement C'!E68","v":0},{"$f":"'Bordereau versement C'!F68:G68","v":0},null,{"$f":"'Bordereau versement C'!H68","v":0},{"$f":"'Bordereau versement C'!I68","v":0},{"$f":"'Bordereau versement C'!J68","v":0},{"$f":"'Bordereau versement C'!K68","v":0},{"$f":"'Bordereau versement C'!L68","v":0}]
[{"$f":"'Bordereau versement C'!A69:D69","v":0},null,null,null,{"$f":"'Bordereau versement C'!E69","v":0},{"$f":"'Bordereau versement C'!F69:G69","v":0},null,{"$f":"'Bordereau versement C'!H69","v":0},{"$f":"'Bordereau versement C'!I69","v":0},{"$f":"'Bordereau versement C'!J69","v":0},{"$f":"'Bordereau versement C'!K69","v":0},{"$f":"'Bordereau versement C'!L69","v":0}]
[{"$f":"'Bordereau versement C'!A70:D70","v":0},null,null,null,{"$f":"'Bordereau versement C'!E70","v":0},{"$f":"'Bordereau versement C'!F70:G70","v":0},null,{"$f":"'Bordereau versement C'!H70","v":0},{"$f":"'Bordereau versement C'!I70","v":0},{"$f":"'Bordereau versement C'!J70","v":0},{"$f":"'Bordereau versement C'!K70","v":0},{"$f":"'Bordereau versement C'!L70","v":0}]
[{"$f":"'Bordereau versement C'!A71:D71","v":0},null,null,null,{"$f":"'Bordereau versement C'!E71","v":0},{"$f":"'Bordereau versement C'!F71:G71","v":0},null,{"$f":"'Bordereau versement C'!H71","v":0},{"$f":"'Bordereau versement C'!I71","v":0},{"$f":"'Bordereau versement C'!J71","v":0},{"$f":"'Bordereau versement C'!K71","v":0},{"$f":"'Bordereau versement C'!L71","v":0}]
[{"$f":"'Bordereau versement C'!A72:D72","v":0},null,null,null,{"$f":"'Bordereau versement C'!E72","v":0},{"$f":"'Bordereau versement C'!F72:G72","v":0},null,{"$f":"'Bordereau versement C'!H72","v":0},{"$f":"'Bordereau versement C'!I72","v":0},{"$f":"'Bordereau versement C'!J72","v":0},{"$f":"'Bordereau versement C'!K72","v":0},{"$f":"'Bordereau versement C'!L72","v":0}]
[{"$f":"'Bordereau versement C'!A73:D73","v":0},null,null,null,{"$f":"'Bordereau versement C'!E73","v":0},{"$f":"'Bordereau versement C'!F73:G73","v":0},null,{"$f":"'Bordereau versement C'!H73","v":0},{"$f":"'Bordereau versement C'!I73","v":0},{"$f":"'Bordereau versement C'!J73","v":0},{"$f":"'Bordereau versement C'!K73","v":0},{"$f":"'Bordereau versement C'!L73","v":0}]
[{"$f":"'Bordereau versement C'!A74:D74","v":0},null,null,null,{"$f":"'Bordereau versement C'!E74","v":0},{"$f":"'Bordereau versement C'!F74:G74","v":0},null,{"$f":"'Bordereau versement C'!H74","v":0},{"$f":"'Bordereau versement C'!I74","v":0},{"$f":"'Bordereau versement C'!J74","v":0},{"$f":"'Bordereau versement C'!K74","v":0},{"$f":"'Bordereau versement C'!L74","v":0}]
[{"$f":"'Bordereau versement C'!A75:D75","v":0},null,null,null,{"$f":"'Bordereau versement C'!E75","v":0},{"$f":"'Bordereau versement C'!F75:G75","v":0},null,{"$f":"'Bordereau versement C'!H75","v":0},{"$f":"'Bordereau versement C'!I75","v":0},{"$f":"'Bordereau versement C'!J75","v":0},{"$f":"'Bordereau versement C'!K75","v":0},{"$f":"'Bordereau versement C'!L75","v":0}]
[{"$f":"'Bordereau versement C'!A76:D76","v":0},null,null,null,{"$f":"'Bordereau versement C'!E76","v":0},{"$f":"'Bordereau versement C'!F76:G76","v":0},null,{"$f":"'Bordereau versement C'!H76","v":0},{"$f":"'Bordereau versement C'!I76","v":0},{"$f":"'Bordereau versement C'!J76","v":0},{"$f":"'Bordereau versement C'!K76","v":0},{"$f":"'Bordereau versement C'!L76","v":0}]
[{"$f":"'Bordereau versement C'!A77:D77","v":0},null,null,null,{"$f":"'Bordereau versement C'!E77","v":0},{"$f":"'Bordereau versement C'!F77:G77","v":0},null,{"$f":"'Bordereau versement C'!H77","v":0},{"$f":"'Bordereau versement C'!I77","v":0},{"$f":"'Bordereau versement C'!J77","v":0},{"$f":"'Bordereau versement C'!K77","v":0},{"$f":"'Bordereau versement C'!L77","v":0}]
[{"$f":"'Bordereau versement C'!A78:D78","v":0},null,null,null,{"$f":"'Bordereau versement C'!E78","v":0},{"$f":"'Bordereau versement C'!F78:G78","v":0},null,{"$f":"'Bordereau versement C'!H78","v":0},{"$f":"'Bordereau versement C'!I78","v":0},{"$f":"'Bordereau versement C'!J78","v":0},{"$f":"'Bordereau versement C'!K78","v":0},{"$f":"'Bordereau versement C'!L78","v":0}]
[{"$f":"'Bordereau versement C'!A79:D79","v":0},null,null,null,{"$f":"'Bordereau versement C'!E79","v":0},{"$f":"'Bordereau versement C'!F79:G79","v":0},null,{"$f":"'Bordereau versement C'!H79","v":0},{"$f":"'Bordereau versement C'!I79","v":0},{"$f":"'Bordereau versement C'!J79","v":0},{"$f":"'Bordereau versement C'!K79","v":0},{"$f":"'Bordereau versement C'!L79","v":0}]
[{"$f":"'Bordereau versement C'!A80:D80","v":0},null,null,null,{"$f":"'Bordereau versement C'!E80","v":0},{"$f":"'Bordereau versement C'!F80:G80","v":0},null,{"$f":"'Bordereau versement C'!H80","v":0},{"$f":"'Bordereau versement C'!I80","v":0},{"$f":"'Bordereau versement C'!J80","v":0},{"$f":"'Bordereau versement C'!K80","v":0},{"$f":"'Bordereau versement C'!L80","v":0}]
[{"$f":"'Bordereau versement C'!A81:D81","v":0},null,null,null,{"$f":"'Bordereau versement C'!E81","v":0},{"$f":"'Bordereau versement C'!F81:G81","v":0},null,{"$f":"'Bordereau versement C'!H81","v":0},{"$f":"'Bordereau versement C'!I81","v":0},{"$f":"'Bordereau versement C'!J81","v":0},{"$f":"'Bordereau versement C'!K81","v":0},{"$f":"'Bordereau versement C'!L81","v":0}]
[{"$f":"'Bordereau versement C'!A82:D82","v":0},null,null,null,{"$f":"'Bordereau versement C'!E82","v":0},{"$f":"'Bordereau versement C'!F82:G82","v":0},null,{"$f":"'Bordereau versement C'!H82","v":0},{"$f":"'Bordereau versement C'!I82","v":0},{"$f":"'Bordereau versement C'!J82","v":0},{"$f":"'Bordereau versement C'!K82","v":0},{"$f":"'Bordereau versement C'!L82","v":0}]
[{"$f":"'Bordereau versement C'!A83:D83","v":0},null,null,null,{"$f":"'Bordereau versement C'!E83","v":0},{"$f":"'Bordereau versement C'!F83:G83","v":0},null,{"$f":"'Bordereau versement C'!H83","v":0},{"$f":"'Bordereau versement C'!I83","v":0},{"$f":"'Bordereau versement C'!J83","v":0},{"$f":"'Bordereau versement C'!K83","v":0},{"$f":"'Bordereau versement C'!L83","v":0}]
[{"$f":"'Bordereau versement C'!A84:D84","v":0},null,null,null,{"$f":"'Bordereau versement C'!E84","v":0},{"$f":"'Bordereau versement C'!F84:G84","v":0},null,{"$f":"'Bordereau versement C'!H84","v":0},{"$f":"'Bordereau versement C'!I84","v":0},{"$f":"'Bordereau versement C'!J84","v":0},{"$f":"'Bordereau versement C'!K84","v":0},{"$f":"'Bordereau versement C'!L84","v":0}]
[{"$f":"'Bordereau versement C'!A85:D85","v":0},null,null,null,{"$f":"'Bordereau versement C'!E85","v":0},{"$f":"'Bordereau versement C'!F85:G85","v":0},null,{"$f":"'Bordereau versement C'!H85","v":0},{"$f":"'Bordereau versement C'!I85","v":0},{"$f":"'Bordereau versement C'!J85","v":0},{"$f":"'Bordereau versement C'!K85","v":0},{"$f":"'Bordereau versement C'!L85","v":0}]
[{"$f":"'Bordereau versement C'!A86:D86","v":0},null,null,null,{"$f":"'Bordereau versement C'!E86","v":0},{"$f":"'Bordereau versement C'!F86:G86","v":0},null,{"$f":"'Bordereau versement C'!H86","v":0},{"$f":"'Bordereau versement C'!I86","v":0},{"$f":"'Bordereau versement C'!J86","v":0},{"$f":"'Bordereau versement C'!K86","v":0},{"$f":"'Bordereau versement C'!L86","v":0}]
[{"$f":"'Bordereau versement C'!A87:D87","v":0},null,null,null,{"$f":"'Bordereau versement C'!E87","v":0},{"$f":"'Bordereau versement C'!F87:G87","v":0},null,{"$f":"'Bordereau versement C'!H87","v":0},{"$f":"'Bordereau versement C'!I87","v":0},{"$f":"'Bordereau versement C'!J87","v":0},{"$f":"'Bordereau versement C'!K87","v":0},{"$f":"'Bordereau versement C'!L87","v":0}]
[{"$f":"'Bordereau versement C'!A88:D88","v":0},null,null,null,{"$f":"'Bordereau versement C'!E88","v":0},{"$f":"'Bordereau versement C'!F88:G88","v":0},null,{"$f":"'Bordereau versement C'!H88","v":0},{"$f":"'Bordereau versement C'!I88","v":0},{"$f":"'Bordereau versement C'!J88","v":0},{"$f":"'Bordereau versement C'!K88","v":0},{"$f":"'Bordereau versement C'!L88","v":0}]
[{"$f":"'Bordereau versement C'!A89:D89","v":0},null,null,null,{"$f":"'Bordereau versement C'!E89","v":0},{"$f":"'Bordereau versement C'!F89:G89","v":0},null,{"$f":"'Bordereau versement C'!H89","v":0},{"$f":"'Bordereau versement C'!I89","v":0},{"$f":"'Bordereau versement C'!J89","v":0},{"$f":"'Bordereau versement C'!K89","v":0},{"$f":"'Bordereau versement C'!L89","v":0}]
[{"$f":"'Bordereau versement C'!A90:D90","v":0},null,null,null,{"$f":"'Bordereau versement C'!E90","v":0},{"$f":"'Bordereau versement C'!F90:G90","v":0},null,{"$f":"'Bordereau versement C'!H90","v":0},{"$f":"'Bordereau versement C'!I90","v":0},{"$f":"'Bordereau versement C'!J90","v":0},{"$f":"'Bordereau versement C'!K90","v":0},{"$f":"'Bordereau versement C'!L90","v":0}]
[{"$f":"'Bordereau versement C'!A91:D91","v":0},null,null,null,{"$f":"'Bordereau versement C'!E91","v":0},{"$f":"'Bordereau versement C'!F91:G91","v":0},null,{"$f":"'Bordereau versement C'!H91","v":0},{"$f":"'Bordereau versement C'!I91","v":0},{"$f":"'Bordereau versement C'!J91","v":0},{"$f":"'Bordereau versement C'!K91","v":0},{"$f":"'Bordereau versement C'!L91","v":0}]
[{"$f":"'Bordereau versement C'!A92:D92","v":0},null,null,null,{"$f":"'Bordereau versement C'!E92","v":0},{"$f":"'Bordereau versement C'!F92:G92","v":0},null,{"$f":"'Bordereau versement C'!H92","v":0},{"$f":"'Bordereau versement C'!I92","v":0},{"$f":"'Bordereau versement C'!J92","v":0},{"$f":"'Bordereau versement C'!K92","v":0},{"$f":"'Bordereau versement C'!L92","v":0}]
[{"$f":"'Bordereau versement C'!A93:D93","v":0},null,null,null,{"$f":"'Bordereau versement C'!E93","v":0},{"$f":"'Bordereau versement C'!F93:G93","v":0},null,{"$f":"'Bordereau versement C'!H93","v":0},{"$f":"'Bordereau versement C'!I93","v":0},{"$f":"'Bordereau versement C'!J93","v":0},{"$f":"'Bordereau versement C'!K93","v":0},{"$f":"'Bordereau versement C'!L93","v":0}]
[{"$f":"'Bordereau versement C'!A94:D94","v":0},null,null,null,{"$f":"'Bordereau versement C'!E94","v":0},{"$f":"'Bordereau versement C'!F94:G94","v":0},null,{"$f":"'Bordereau versement C'!H94","v":0},{"$f":"'Bordereau versement C'!I94","v":0},{"$f":"'Bordereau versement C'!J94","v":0},{"$f":"'Bordereau versement C'!K94","v":0},{"$f":"'Bordereau versement C'!L94","v":0}]
[{"$f":"'Bordereau versement C'!A95:D95","v":0},null,null,null,{"$f":"'Bordereau versement C'!E95","v":0},{"$f":"'Bordereau versement C'!F95:G95","v":0},null,{"$f":"'Bordereau versement C'!H95","v":0},{"$f":"'Bordereau versement C'!I95","v":0},{"$f":"'Bordereau versement C'!J95","v":0},{"$f":"'Bordereau versement C'!K95","v":0},{"$f":"'Bordereau versement C'!L95","v":0}]
[{"$f":"'Bordereau versement C'!A96:D96","v":0},null,null,null,{"$f":"'Bordereau versement C'!E96","v":0},{"$f":"'Bordereau versement C'!F96:G96","v":0},null,{"$f":"'Bordereau versement C'!H96","v":0},{"$f":"'Bordereau versement C'!I96","v":0},{"$f":"'Bordereau versement C'!J96","v":0},{"$f":"'Bordereau versement C'!K96","v":0},{"$f":"'Bordereau versement C'!L96","v":0}]
[{"$f":"'Bordereau versement C'!A97:D97","v":0},null,null,null,{"$f":"'Bordereau versement C'!E97","v":0},{"$f":"'Bordereau versement C'!F97:G97","v":0},null,{"$f":"'Bordereau versement C'!H97","v":0},{"$f":"'Bordereau versement C'!I97","v":0},{"$f":"'Bordereau versement C'!J97","v":0},{"$f":"'Bordereau versement C'!K97","v":0},{"$f":"'Bordereau versement C'!L97","v":0}]
[{"$f":"'Bordereau versement C'!A98:D98","v":0},null,null,null,{"$f":"'Bordereau versement C'!E98","v":0},{"$f":"'Bordereau versement C'!F98:G98","v":0},null,{"$f":"'Bordereau versement C'!H98","v":0},{"$f":"'Bordereau versement C'!I98","v":0},{"$f":"'Bordereau versement C'!J98","v":0},{"$f":"'Bordereau versement C'!K98","v":0},{"$f":"'Bordereau versement C'!L98","v":0}]
[{"$f":"'Bordereau versement C'!A99:D99","v":0},null,null,null,{"$f":"'Bordereau versement C'!E99","v":0},{"$f":"'Bordereau versement C'!F99:G99","v":0},null,{"$f":"'Bordereau versement C'!H99","v":0},{"$f":"'Bordereau versement C'!I99","v":0},{"$f":"'Bordereau versement C'!J99","v":0},{"$f":"'Bordereau versement C'!K99","v":0},{"$f":"'Bordereau versement C'!L99","v":0}]
[{"$f":"'Bordereau versement C'!A100:D100","v":0},null,null,null,{"$f":"'Bordereau versement C'!E100","v":0},{"$f":"'Bordereau versement C'!F100:G100","v":0},null,{"$f":"'Bordereau versement C'!H100","v":0},{"$f":"'Bordereau versement C'!I100","v":0},{"$f":"'Bordereau versement C'!J100","v":0},{"$f":"'Bordereau versement C'!K100","v":0},{"$f":"'Bordereau versement C'!L100","v":0}]
[{"$f":"'Bordereau versement C'!A101:D101","v":0},null,null,null,{"$f":"'Bordereau versement C'!E101","v":0},{"$f":"'Bordereau versement C'!F101:G101","v":0},null,{"$f":"'Bordereau versement C'!H101","v":0},{"$f":"'Bordereau versement C'!I101","v":0},{"$f":"'Bordereau versement C'!J101","v":0},{"$f":"'Bordereau versement C'!K101","v":0},{"$f":"'Bordereau versement C'!L101","v":0}]
[{"$f":"'Bordereau versement C'!A102:D102","v":0},null,null,null,{"$f":"'Bordereau versement C'!E102","v":0},{"$f":"'Bordereau versement C'!F102:G102","v":0},null,{"$f":"'Bordereau versement C'!H102","v":0},{"$f":"'Bordereau versement C'!I102","v":0},{"$f":"'Bordereau versement C'!J102","v":0},{"$f":"'Bordereau versement C'!K102","v":0},{"$f":"'Bordereau versement C'!L102","v":0}]
[{"$f":"'Bordereau versement C'!A103:D103","v":0},null,null,null,{"$f":"'Bordereau versement C'!E103","v":0},{"$f":"'Bordereau versement C'!F103:G103","v":0},null,{"$f":"'Bordereau versement C'!H103","v":0},{"$f":"'Bordereau versement C'!I103","v":0},{"$f":"'Bordereau versement C'!J103","v":0},{"$f":"'Bordereau versement C'!K103","v":0},{"$f":"'Bordereau versement C'!L103","v":0}]
[{"$f":"'Bordereau versement C'!A104:D104","v":0},null,null,null,{"$f":"'Bordereau versement C'!E104","v":0},{"$f":"'Bordereau versement C'!F104:G104","v":0},null,{"$f":"'Bordereau versement C'!H104","v":0},{"$f":"'Bordereau versement C'!I104","v":0},{"$f":"'Bordereau versement C'!J104","v":0},{"$f":"'Bordereau versement C'!K104","v":0},{"$f":"'Bordereau versement C'!L104","v":0}]
[{"$f":"'Bordereau versement C'!A105:D105","v":0},null,null,null,{"$f":"'Bordereau versement C'!E105","v":0},{"$f":"'Bordereau versement C'!F105:G105","v":0},null,{"$f":"'Bordereau versement C'!H105","v":0},{"$f":"'Bordereau versement C'!I105","v":0},{"$f":"'Bordereau versement C'!J105","v":0},{"$f":"'Bordereau versement C'!K105","v":0},{"$f":"'Bordereau versement C'!L105","v":0}]
[{"$f":"'Bordereau versement C'!A106:D106","v":0},null,null,null,{"$f":"'Bordereau versement C'!E106","v":0},{"$f":"'Bordereau versement C'!F106:G106","v":0},null,{"$f":"'Bordereau versement C'!H106","v":0},{"$f":"'Bordereau versement C'!I106","v":0},{"$f":"'Bordereau versement C'!J106","v":0},{"$f":"'Bordereau versement C'!K106","v":0},{"$f":"'Bordereau versement C'!L106","v":0}]
[{"$f":"'Bordereau versement C'!A107:D107","v":0},null,null,null,{"$f":"'Bordereau versement C'!E107","v":0},{"$f":"'Bordereau versement C'!F107:G107","v":0},null,{"$f":"'Bordereau versement C'!H107","v":0},{"$f":"'Bordereau versement C'!I107","v":0},{"$f":"'Bordereau versement C'!J107","v":0},{"$f":"'Bordereau versement C'!K107","v":0},{"$f":"'Bordereau versement C'!L107","v":0}]
[{"$f":"'Bordereau versement C'!A108:D108","v":0},null,null,null,{"$f":"'Bordereau versement C'!E108","v":0},{"$f":"'Bordereau versement C'!F108:G108","v":0},null,{"$f":"'Bordereau versement C'!H108","v":0},{"$f":"'Bordereau versement C'!I108","v":0},{"$f":"'Bordereau versement C'!J108","v":0},{"$f":"'Bordereau versement C'!K108","v":0},{"$f":"'Bordereau versement C'!L108","v":0}]
[{"$f":"'Bordereau versement C'!A109:D109","v":0},null,null,null,{"$f":"'Bordereau versement C'!E109","v":0},{"$f":"'Bordereau versement C'!F109:G109","v":0},null,{"$f":"'Bordereau versement C'!H109","v":0},{"$f":"'Bordereau versement C'!I109","v":0},{"$f":"'Bordereau versement C'!J109","v":0},{"$f":"'Bordereau versement C'!K109","v":0},{"$f":"'Bordereau versement C'!L109","v":0}]
[{"$f":"'Bordereau versement C'!A110:D110","v":0},null,null,null,{"$f":"'Bordereau versement C'!E110","v":0},{"$f":"'Bordereau versement C'!F110:G110","v":0},null,{"$f":"'Bordereau versement C'!H110","v":0},{"$f":"'Bordereau versement C'!I110","v":0},{"$f":"'Bordereau versement C'!J110","v":0},{"$f":"'Bordereau versement C'!K110","v":0},{"$f":"'Bordereau versement C'!L110","v":0}]
[{"$f":"'Bordereau versement C'!A111:D111","v":0},null,null,null,{"$f":"'Bordereau versement C'!E111","v":0},{"$f":"'Bordereau versement C'!F111:G111","v":0},null,{"$f":"'Bordereau versement C'!H111","v":0},{"$f":"'Bordereau versement C'!I111","v":0},{"$f":"'Bordereau versement C'!J111","v":0},{"$f":"'Bordereau versement C'!K111","v":0},{"$f":"'Bordereau versement C'!L111","v":0}]
[{"$f":"'Bordereau versement C'!A112:D112","v":0},null,null,null,{"$f":"'Bordereau versement C'!E112","v":0},{"$f":"'Bordereau versement C'!F112:G112","v":0},null,{"$f":"'Bordereau versement C'!H112","v":0},{"$f":"'Bordereau versement C'!I112","v":0},{"$f":"'Bordereau versement C'!J112","v":0},{"$f":"'Bordereau versement C'!K112","v":0},{"$f":"'Bordereau versement C'!L112","v":0}]
[{"$f":"'Bordereau versement C'!A113:D113","v":0},null,null,null,{"$f":"'Bordereau versement C'!E113","v":0},{"$f":"'Bordereau versement C'!F113:G113","v":0},null,{"$f":"'Bordereau versement C'!H113","v":0},{"$f":"'Bordereau versement C'!I113","v":0},{"$f":"'Bordereau versement C'!J113","v":0},{"$f":"'Bordereau versement C'!K113","v":0},{"$f":"'Bordereau versement C'!L113","v":0}]
[{"$f":"'Bordereau versement C'!A114:D114","v":0},null,null,null,{"$f":"'Bordereau versement C'!E114","v":0},{"$f":"'Bordereau versement C'!F114:G114","v":0},null,{"$f":"'Bordereau versement C'!H114","v":0},{"$f":"'Bordereau versement C'!I114","v":0},{"$f":"'Bordereau versement C'!J114","v":0},{"$f":"'Bordereau versement C'!K114","v":0},{"$f":"'Bordereau versement C'!L114","v":0}]
[{"$f":"'Bordereau versement C'!A115:D115","v":0},null,null,null,{"$f":"'Bordereau versement C'!E115","v":0},{"$f":"'Bordereau versement C'!F115:G115","v":0},null,{"$f":"'Bordereau versement C'!H115","v":0},{"$f":"'Bordereau versement C'!I115","v":0},{"$f":"'Bordereau versement C'!J115","v":0},{"$f":"'Bordereau versement C'!K115","v":0},{"$f":"'Bordereau versement C'!L115","v":0}]
[{"$f":"'Bordereau versement C'!A116:D116","v":0},null,null,null,{"$f":"'Bordereau versement C'!E116","v":0},{"$f":"'Bordereau versement C'!F116:G116","v":0},null,{"$f":"'Bordereau versement C'!H116","v":0},{"$f":"'Bordereau versement C'!I116","v":0},{"$f":"'Bordereau versement C'!J116","v":0},{"$f":"'Bordereau versement C'!K116","v":0},{"$f":"'Bordereau versement C'!L116","v":0}]
[{"$f":"'Bordereau versement C'!A117:D117","v":0},null,null,null,{"$f":"'Bordereau versement C'!E117","v":0},{"$f":"'Bordereau versement C'!F117:G117","v":0},null,{"$f":"'Bordereau versement C'!H117","v":0},{"$f":"'Bordereau versement C'!I117","v":0},{"$f":"'Bordereau versement C'!J117","v":0},{"$f":"'Bordereau versement C'!K117","v":0},{"$f":"'Bordereau versement C'!L117","v":0}]
[{"$f":"'Bordereau versement C'!A118:D118","v":0},null,null,null,{"$f":"'Bordereau versement C'!E118","v":0},{"$f":"'Bordereau versement C'!F118:G118","v":0},null,{"$f":"'Bordereau versement C'!H118","v":0},{"$f":"'Bordereau versement C'!I118","v":0},{"$f":"'Bordereau versement C'!J118","v":0},{"$f":"'Bordereau versement C'!K118","v":0},{"$f":"'Bordereau versement C'!L118","v":0}]
[{"$f":"'Bordereau versement C'!A119:D119","v":0},null,null,null,{"$f":"'Bordereau versement C'!E119","v":0},{"$f":"'Bordereau versement C'!F119:G119","v":0},null,{"$f":"'Bordereau versement C'!H119","v":0},{"$f":"'Bordereau versement C'!I119","v":0},{"$f":"'Bordereau versement C'!J119","v":0},{"$f":"'Bordereau versement C'!K119","v":0},{"$f":"'Bordereau versement C'!L119","v":0}]
[{"$f":"'Bordereau versement C'!A120:D120","v":0},null,null,null,{"$f":"'Bordereau versement C'!E120","v":0},{"$f":"'Bordereau versement C'!F120:G120","v":0},null,{"$f":"'Bordereau versement C'!H120","v":0},{"$f":"'Bordereau versement C'!I120","v":0},{"$f":"'Bordereau versement C'!J120","v":0},{"$f":"'Bordereau versement C'!K120","v":0},{"$f":"'Bordereau versement C'!L120","v":0}]
[{"$f":"'Bordereau versement C'!A121:D121","v":0},null,null,null,{"$f":"'Bordereau versement C'!E121","v":0},{"$f":"'Bordereau versement C'!F121:G121","v":0},null,{"$f":"'Bordereau versement C'!H121","v":0},{"$f":"'Bordereau versement C'!I121","v":0},{"$f":"'Bordereau versement C'!J121","v":0},{"$f":"'Bordereau versement C'!K121","v":0},{"$f":"'Bordereau versement C'!L121","v":0}]
[{"$f":"'Bordereau versement C'!A122:D122","v":0},null,null,null,{"$f":"'Bordereau versement C'!E122","v":0},{"$f":"'Bordereau versement C'!F122:G122","v":0},null,{"$f":"'Bordereau versement C'!H122","v":0},{"$f":"'Bordereau versement C'!I122","v":0},{"$f":"'Bordereau versement C'!J122","v":0},{"$f":"'Bordereau versement C'!K122","v":0},{"$f":"'Bordereau versement C'!L122","v":0}]
[{"$f":"'Bordereau versement C'!A123:D123","v":0},null,null,null,{"$f":"'Bordereau versement C'!E123","v":0},{"$f":"'Bordereau versement C'!F123:G123","v":0},null,{"$f":"'Bordereau versement C'!H123","v":0},{"$f":"'Bordereau versement C'!I123","v":0},{"$f":"'Bordereau versement C'!J123","v":0},{"$f":"'Bordereau versement C'!K123","v":0},{"$f":"'Bordereau versement C'!L123","v":0}]
[{"$f":"'Bordereau versement C'!A124:D124","v":0},null,null,null,{"$f":"'Bordereau versement C'!E124","v":0},{"$f":"'Bordereau versement C'!F124:G124","v":0},null,{"$f":"'Bordereau versement C'!H124","v":0},{"$f":"'Bordereau versement C'!I124","v":0},{"$f":"'Bordereau versement C'!J124","v":0},{"$f":"'Bordereau versement C'!K124","v":0},{"$f":"'Bordereau versement C'!L124","v":0}]
[{"$f":"'Bordereau versement C'!A125:D125","v":0},null,null,null,{"$f":"'Bordereau versement C'!E125","v":0},{"$f":"'Bordereau versement C'!F125:G125","v":0},null,{"$f":"'Bordereau versement C'!H125","v":0},{"$f":"'Bordereau versement C'!I125","v":0},{"$f":"'Bordereau versement C'!J125","v":0},{"$f":"'Bordereau versement C'!K125","v":0},{"$f":"'Bordereau versement C'!L125","v":0}]
[{"$f":"'Bordereau versement C'!A126:D126","v":0},null,null,null,{"$f":"'Bordereau versement C'!E126","v":0},{"$f":"'Bordereau versement C'!F126:G126","v":0},null,{"$f":"'Bordereau versement C'!H126","v":0},{"$f":"'Bordereau versement C'!I126","v":0},{"$f":"'Bordereau versement C'!J126","v":0},{"$f":"'Bordereau versement C'!K126","v":0},{"$f":"'Bordereau versement C'!L126","v":0}]
[{"$f":"'Bordereau versement C'!A127:D127","v":0},null,null,null,{"$f":"'Bordereau versement C'!E127","v":0},{"$f":"'Bordereau versement C'!F127:G127","v":0},null,{"$f":"'Bordereau versement C'!H127","v":0},{"$f":"'Bordereau versement C'!I127","v":0},{"$f":"'Bordereau versement C'!J127","v":0},{"$f":"'Bordereau versement C'!K127","v":0},{"$f":"'Bordereau versement C'!L127","v":0}]
[{"$f":"'Bordereau versement C'!A128:D128","v":0},null,null,null,{"$f":"'Bordereau versement C'!E128","v":0},{"$f":"'Bordereau versement C'!F128:G128","v":0},null,{"$f":"'Bordereau versement C'!H128","v":0},{"$f":"'Bordereau versement C'!I128","v":0},{"$f":"'Bordereau versement C'!J128","v":0},{"$f":"'Bordereau versement C'!K128","v":0},{"$f":"'Bordereau versement C'!L128","v":0}]
[{"$f":"'Bordereau versement C'!A129:D129","v":0},null,null,null,{"$f":"'Bordereau versement C'!E129","v":0},{"$f":"'Bordereau versement C'!F129:G129","v":0},null,{"$f":"'Bordereau versement C'!H129","v":0},{"$f":"'Bordereau versement C'!I129","v":0},{"$f":"'Bordereau versement C'!J129","v":0},{"$f":"'Bordereau versement C'!K129","v":0},{"$f":"'Bordereau versement C'!L129","v":0}]
[{"$f":"'Bordereau versement C'!A130:D130","v":0},null,null,null,{"$f":"'Bordereau versement C'!E130","v":0},{"$f":"'Bordereau versement C'!F130:G130","v":0},null,{"$f":"'Bordereau versement C'!H130","v":0},{"$f":"'Bordereau versement C'!I130","v":0},{"$f":"'Bordereau versement C'!J130","v":0},{"$f":"'Bordereau versement C'!K130","v":0},{"$f":"'Bordereau versement C'!L130","v":0}]
[{"$f":"'Bordereau versement C'!A131:D131","v":0},null,null,null,{"$f":"'Bordereau versement C'!E131","v":0},{"$f":"'Bordereau versement C'!F131:G131","v":0},null,{"$f":"'Bordereau versement C'!H131","v":0},{"$f":"'Bordereau versement C'!I131","v":0},{"$f":"'Bordereau versement C'!J131","v":0},{"$f":"'Bordereau versement C'!K131","v":0},{"$f":"'Bordereau versement C'!L131","v":0}]
[{"$f":"'Bordereau versement C'!A132:D132","v":0},null,null,null,{"$f":"'Bordereau versement C'!E132","v":0},{"$f":"'Bordereau versement C'!F132:G132","v":0},null,{"$f":"'Bordereau versement C'!H132","v":0},{"$f":"'Bordereau versement C'!I132","v":0},{"$f":"'Bordereau versement C'!J132","v":0},{"$f":"'Bordereau versement C'!K132","v":0},{"$f":"'Bordereau versement C'!L132","v":0}]
[{"$f":"'Bordereau versement C'!A133:D133","v":0},null,null,null,{"$f":"'Bordereau versement C'!E133","v":0},{"$f":"'Bordereau versement C'!F133:G133","v":0},null,{"$f":"'Bordereau versement C'!H133","v":0},{"$f":"'Bordereau versement C'!I133","v":0},{"$f":"'Bordereau versement C'!J133","v":0},{"$f":"'Bordereau versement C'!K133","v":0},{"$f":"'Bordereau versement C'!L133","v":0}]
[{"$f":"'Bordereau versement C'!A134:D134","v":0},null,null,null,{"$f":"'Bordereau versement C'!E134","v":0},{"$f":"'Bordereau versement C'!F134:G134","v":0},null,{"$f":"'Bordereau versement C'!H134","v":0},{"$f":"'Bordereau versement C'!I134","v":0},{"$f":"'Bordereau versement C'!J134","v":0},{"$f":"'Bordereau versement C'!K134","v":0},{"$f":"'Bordereau versement C'!L134","v":0}]
[{"$f":"'Bordereau versement C'!A135:D135","v":0},null,null,null,{"$f":"'Bordereau versement C'!E135","v":0},{"$f":"'Bordereau versement C'!F135:G135","v":0},null,{"$f":"'Bordereau versement C'!H135","v":0},{"$f":"'Bordereau versement C'!I135","v":0},{"$f":"'Bordereau versement C'!J135","v":0},{"$f":"'Bordereau versement C'!K135","v":0},{"$f":"'Bordereau versement C'!L135","v":0}]
[{"$f":"'Bordereau versement C'!A136:D136","v":0},null,null,null,{"$f":"'Bordereau versement C'!E136","v":0},{"$f":"'Bordereau versement C'!F136:G136","v":0},null,{"$f":"'Bordereau versement C'!H136","v":0},{"$f":"'Bordereau versement C'!I136","v":0},{"$f":"'Bordereau versement C'!J136","v":0},{"$f":"'Bordereau versement C'!K136","v":0},{"$f":"'Bordereau versement C'!L136","v":0}]
[{"$f":"'Bordereau versement C'!A137:D137","v":0},null,null,null,{"$f":"'Bordereau versement C'!E137","v":0},{"$f":"'Bordereau versement C'!F137:G137","v":0},null,{"$f":"'Bordereau versement C'!H137","v":0},{"$f":"'Bordereau versement C'!I137","v":0},{"$f":"'Bordereau versement C'!J137","v":0},{"$f":"'Bordereau versement C'!K137","v":0},{"$f":"'Bordereau versement C'!L137","v":0}]
[{"$f":"'Bordereau versement C'!A138:D138","v":0},null,null,null,{"$f":"'Bordereau versement C'!E138","v":0},{"$f":"'Bordereau versement C'!F138:G138","v":0},null,{"$f":"'Bordereau versement C'!H138","v":0},{"$f":"'Bordereau versement C'!I138","v":0},{"$f":"'Bordereau versement C'!J138","v":0},{"$f":"'Bordereau versement C'!K138","v":0},{"$f":"'Bordereau versement C'!L138","v":0}]
[{"$f":"'Bordereau versement C'!A139:D139","v":0},null,null,null,{"$f":"'Bordereau versement C'!E139","v":0},{"$f":"'Bordereau versement C'!F139:G139","v":0},null,{"$f":"'Bordereau versement C'!H139","v":0},{"$f":"'Bordereau versement C'!I139","v":0},{"$f":"'Bordereau versement C'!J139","v":0},{"$f":"'Bordereau versement C'!K139","v":0},{"$f":"'Bordereau versement C'!L139","v":0}]
[{"$f":"'Bordereau versement C'!A140:D140","v":0},null,null,null,{"$f":"'Bordereau versement C'!E140","v":0},{"$f":"'Bordereau versement C'!F140:G140","v":0},null,{"$f":"'Bordereau versement C'!H140","v":0},{"$f":"'Bordereau versement C'!I140","v":0},{"$f":"'Bordereau versement C'!J140","v":0},{"$f":"'Bordereau versement C'!K140","v":0},{"$f":"'Bordereau versement C'!L140","v":0}]
[{"$f":"'Bordereau versement C'!A141:D141","v":0},null,null,null,{"$f":"'Bordereau versement C'!E141","v":0},{"$f":"'Bordereau versement C'!F141:G141","v":0},null,{"$f":"'Bordereau versement C'!H141","v":0},{"$f":"'Bordereau versement C'!I141","v":0},{"$f":"'Bordereau versement C'!J141","v":0},{"$f":"'Bordereau versement C'!K141","v":0},{"$f":"'Bordereau versement C'!L141","v":0}]
[{"$f":"'Bordereau versement C'!A142:D142","v":0},null,null,null,{"$f":"'Bordereau versement C'!E142","v":0},{"$f":"'Bordereau versement C'!F142:G142","v":0},null,{"$f":"'Bordereau versement C'!H142","v":0},{"$f":"'Bordereau versement C'!I142","v":0},{"$f":"'Bordereau versement C'!J142","v":0},{"$f":"'Bordereau versement C'!K142","v":0},{"$f":"'Bordereau versement C'!L142","v":0}]
[{"$f":"'Bordereau versement C'!A143:D143","v":0},null,null,null,{"$f":"'Bordereau versement C'!E143","v":0},{"$f":"'Bordereau versement C'!F143:G143","v":0},null,{"$f":"'Bordereau versement C'!H143","v":0},{"$f":"'Bordereau versement C'!I143","v":0},{"$f":"'Bordereau versement C'!J143","v":0},{"$f":"'Bordereau versement C'!K143","v":0},{"$f":"'Bordereau versement C'!L143","v":0}]
[{"$f":"'Bordereau versement C'!A144:D144","v":0},null,null,null,{"$f":"'Bordereau versement C'!E144","v":0},{"$f":"'Bordereau versement C'!F144:G144","v":0},null,{"$f":"'Bordereau versement C'!H144","v":0},{"$f":"'Bordereau versement C'!I144","v":0},{"$f":"'Bordereau versement C'!J144","v":0},{"$f":"'Bordereau versement C'!K144","v":0},{"$f":"'Bordereau versement C'!L144","v":0}]
[{"$f":"'Bordereau versement C'!A145:D145","v":0},null,null,null,{"$f":"'Bordereau versement C'!E145","v":0},{"$f":"'Bordereau versement C'!F145:G145","v":0},null,{"$f":"'Bordereau versement C'!H145","v":0},{"$f":"'Bordereau versement C'!I145","v":0},{"$f":"'Bordereau versement C'!J145","v":0},{"$f":"'Bordereau versement C'!K145","v":0},{"$f":"'Bordereau versement C'!L145","v":0}]
[{"$f":"'Bordereau versement C'!A146:D146","v":0},null,null,null,{"$f":"'Bordereau versement C'!E146","v":0},{"$f":"'Bordereau versement C'!F146:G146","v":0},null,{"$f":"'Bordereau versement C'!H146","v":0},{"$f":"'Bordereau versement C'!I146","v":0},{"$f":"'Bordereau versement C'!J146","v":0},{"$f":"'Bordereau versement C'!K146","v":0},{"$f":"'Bordereau versement C'!L146","v":0}]
[{"$f":"'Bordereau versement C'!A147:D147","v":0},null,null,null,{"$f":"'Bordereau versement C'!E147","v":0},{"$f":"'Bordereau versement C'!F147:G147","v":0},null,{"$f":"'Bordereau versement C'!H147","v":0},{"$f":"'Bordereau versement C'!I147","v":0},{"$f":"'Bordereau versement C'!J147","v":0},{"$f":"'Bordereau versement C'!K147","v":0},{"$f":"'Bordereau versement C'!L147","v":0}]
[{"$f":"'Bordereau versement C'!A148:D148","v":0},null,null,null,{"$f":"'Bordereau versement C'!E148","v":0},{"$f":"'Bordereau versement C'!F148:G148","v":0},null,{"$f":"'Bordereau versement C'!H148","v":0},{"$f":"'Bordereau versement C'!I148","v":0},{"$f":"'Bordereau versement C'!J148","v":0},{"$f":"'Bordereau versement C'!K148","v":0},{"$f":"'Bordereau versement C'!L148","v":0}]
[{"$f":"'Bordereau versement C'!A149:D149","v":0},null,null,null,{"$f":"'Bordereau versement C'!E149","v":0},{"$f":"'Bordereau versement C'!F149:G149","v":0},null,{"$f":"'Bordereau versement C'!H149","v":0},{"$f":"'Bordereau versement C'!I149","v":0},{"$f":"'Bordereau versement C'!J149","v":0},{"$f":"'Bordereau versement C'!K149","v":0},{"$f":"'Bordereau versement C'!L149","v":0}]
[{"$f":"'Bordereau versement C'!A150:D150","v":0},null,null,null,{"$f":"'Bordereau versement C'!E150","v":0},{"$f":"'Bordereau versement C'!F150:G150","v":0},null,{"$f":"'Bordereau versement C'!H150","v":0},{"$f":"'Bordereau versement C'!I150","v":0},{"$f":"'Bordereau versement C'!J150","v":0},{"$f":"'Bordereau versement C'!K150","v":0},{"$f":"'Bordereau versement C'!L150","v":0}]
[{"$f":"'Bordereau versement C'!A151:D151","v":0},null,null,null,{"$f":"'Bordereau versement C'!E151","v":0},{"$f":"'Bordereau versement C'!F151:G151","v":0},null,{"$f":"'Bordereau versement C'!H151","v":0},{"$f":"'Bordereau versement C'!I151","v":0},{"$f":"'Bordereau versement C'!J151","v":0},{"$f":"'Bordereau versement C'!K151","v":0},{"$f":"'Bordereau versement C'!L151","v":0}]
[{"$f":"'Bordereau versement C'!A152:D152","v":0},null,null,null,{"$f":"'Bordereau versement C'!E152","v":0},{"$f":"'Bordereau versement C'!F152:G152","v":0},null,{"$f":"'Bordereau versement C'!H152","v":0},{"$f":"'Bordereau versement C'!I152","v":0},{"$f":"'Bordereau versement C'!J152","v":0},{"$f":"'Bordereau versement C'!K152","v":0},{"$f":"'Bordereau versement C'!L152","v":0}]
[{"$f":"'Bordereau versement C'!A153:D153","v":0},null,null,null,{"$f":"'Bordereau versement C'!E153","v":0},{"$f":"'Bordereau versement C'!F153:G153","v":0},null,{"$f":"'Bordereau versement C'!H153","v":0},{"$f":"'Bordereau versement C'!I153","v":0},{"$f":"'Bordereau versement C'!J153","v":0},{"$f":"'Bordereau versement C'!K153","v":0},{"$f":"'Bordereau versement C'!L153","v":0}]
[{"$f":"'Bordereau versement C'!A154:D154","v":0},null,null,null,{"$f":"'Bordereau versement C'!E154","v":0},{"$f":"'Bordereau versement C'!F154:G154","v":0},null,{"$f":"'Bordereau versement C'!H154","v":0},{"$f":"'Bordereau versement C'!I154","v":0},{"$f":"'Bordereau versement C'!J154","v":0},{"$f":"'Bordereau versement C'!K154","v":0},{"$f":"'Bordereau versement C'!L154","v":0}]
[{"$f":"'Bordereau versement C'!A155:D155","v":0},null,null,null,{"$f":"'Bordereau versement C'!E155","v":0},{"$f":"'Bordereau versement C'!F155:G155","v":0},null,{"$f":"'Bordereau versement C'!H155","v":0},{"$f":"'Bordereau versement C'!I155","v":0},{"$f":"'Bordereau versement C'!J155","v":0},{"$f":"'Bordereau versement C'!K155","v":0},{"$f":"'Bordereau versement C'!L155","v":0}]
[{"$f":"'Bordereau versement C'!A156:D156","v":0},null,null,null,{"$f":"'Bordereau versement C'!E156","v":0},{"$f":"'Bordereau versement C'!F156:G156","v":0},null,{"$f":"'Bordereau versement C'!H156","v":0},{"$f":"'Bordereau versement C'!I156","v":0},{"$f":"'Bordereau versement C'!J156","v":0},{"$f":"'Bordereau versement C'!K156","v":0},{"$f":"'Bordereau versement C'!L156","v":0}]
[{"$f":"'Bordereau versement C'!A157:D157","v":0},null,null,null,{"$f":"'Bordereau versement C'!E157","v":0},{"$f":"'Bordereau versement C'!F157:G157","v":0},null,{"$f":"'Bordereau versement C'!H157","v":0},{"$f":"'Bordereau versement C'!I157","v":0},{"$f":"'Bordereau versement C'!J157","v":0},{"$f":"'Bordereau versement C'!K157","v":0},{"$f":"'Bordereau versement C'!L157","v":0}]
[{"$f":"'Bordereau versement C'!A158:D158","v":0},null,null,null,{"$f":"'Bordereau versement C'!E158","v":0},{"$f":"'Bordereau versement C'!F158:G158","v":0},null,{"$f":"'Bordereau versement C'!H158","v":0},{"$f":"'Bordereau versement C'!I158","v":0},{"$f":"'Bordereau versement C'!J158","v":0},{"$f":"'Bordereau versement C'!K158","v":0},{"$f":"'Bordereau versement C'!L158","v":0}]
[{"$f":"'Bordereau versement C'!A159:D159","v":0},null,null,null,{"$f":"'Bordereau versement C'!E159","v":0},{"$f":"'Bordereau versement C'!F159:G159","v":0},null,{"$f":"'Bordereau versement C'!H159","v":0},{"$f":"'Bordereau versement C'!I159","v":0},{"$f":"'Bordereau versement C'!J159","v":0},{"$f":"'Bordereau versement C'!K159","v":0},{"$f":"'Bordereau versement C'!L159","v":0}]
[{"$f":"'Bordereau versement C'!A160:D160","v":0},null,null,null,{"$f":"'Bordereau versement C'!E160","v":0},{"$f":"'Bordereau versement C'!F160:G160","v":0},null,{"$f":"'Bordereau versement C'!H160","v":0},{"$f":"'Bordereau versement C'!I160","v":0},{"$f":"'Bordereau versement C'!J160","v":0},{"$f":"'Bordereau versement C'!K160","v":0},{"$f":"'Bordereau versement C'!L160","v":0}]
[{"$f":"'Bordereau versement C'!A161:D161","v":0},null,null,null,{"$f":"'Bordereau versement C'!E161","v":0},{"$f":"'Bordereau versement C'!F161:G161","v":0},null,{"$f":"'Bordereau versement C'!H161","v":0},{"$f":"'Bordereau versement C'!I161","v":0},{"$f":"'Bordereau versement C'!J161","v":0},{"$f":"'Bordereau versement C'!K161","v":0},{"$f":"'Bordereau versement C'!L161","v":0}]
[{"$f":"'Bordereau versement C'!A162:D162","v":0},null,null,null,{"$f":"'Bordereau versement C'!E162","v":0},{"$f":"'Bordereau versement C'!F162:G162","v":0},null,{"$f":"'Bordereau versement C'!H162","v":0},{"$f":"'Bordereau versement C'!I162","v":0},{"$f":"'Bordereau versement C'!J162","v":0},{"$f":"'Bordereau versement C'!K162","v":0},{"$f":"'Bordereau versement C'!L162","v":0}]
[{"$f":"'Bordereau versement C'!A163:D163","v":0},null,null,null,{"$f":"'Bordereau versement C'!E163","v":0},{"$f":"'Bordereau versement C'!F163:G163","v":0},null,{"$f":"'Bordereau versement C'!H163","v":0},{"$f":"'Bordereau versement C'!I163","v":0},{"$f":"'Bordereau versement C'!J163","v":0},{"$f":"'Bordereau versement C'!K163","v":0},{"$f":"'Bordereau versement C'!L163","v":0}]
[{"$f":"'Bordereau versement C'!A164:D164","v":0},null,null,null,{"$f":"'Bordereau versement C'!E164","v":0},{"$f":"'Bordereau versement C'!F164:G164","v":0},null,{"$f":"'Bordereau versement C'!H164","v":0},{"$f":"'Bordereau versement C'!I164","v":0},{"$f":"'Bordereau versement C'!J164","v":0},{"$f":"'Bordereau versement C'!K164","v":0},{"$f":"'Bordereau versement C'!L164","v":0}]
[{"$f":"'Bordereau versement C'!A165:D165","v":0},null,null,null,{"$f":"'Bordereau versement C'!E165","v":0},{"$f":"'Bordereau versement C'!F165:G165","v":0},null,{"$f":"'Bordereau versement C'!H165","v":0},{"$f":"'Bordereau versement C'!I165","v":0},{"$f":"'Bordereau versement C'!J165","v":0},{"$f":"'Bordereau versement C'!K165","v":0},{"$f":"'Bordereau versement C'!L165","v":0}]
[{"$f":"'Bordereau versement C'!A166:D166","v":0},null,null,null,{"$f":"'Bordereau versement C'!E166","v":0},{"$f":"'Bordereau versement C'!F166:G166","v":0},null,{"$f":"'Bordereau versement C'!H166","v":0},{"$f":"'Bordereau versement C'!I166","v":0},{"$f":"'Bordereau versement C'!J166","v":0},{"$f":"'Bordereau versement C'!K166","v":0},{"$f":"'Bordereau versement C'!L166","v":0}]
[{"$f":"'Bordereau versement C'!A167:D167","v":0},null,null,null,{"$f":"'Bordereau versement C'!E167","v":0},{"$f":"'Bordereau versement C'!F167:G167","v":0},null,{"$f":"'Bordereau versement C'!H167","v":0},{"$f":"'Bordereau versement C'!I167","v":0},{"$f":"'Bordereau versement C'!J167","v":0},{"$f":"'Bordereau versement C'!K167","v":0},{"$f":"'Bordereau versement C'!L167","v":0}]
[{"$f":"'Bordereau versement C'!A168:D168","v":0},null,null,null,{"$f":"'Bordereau versement C'!E168","v":0},{"$f":"'Bordereau versement C'!F168:G168","v":0},null,{"$f":"'Bordereau versement C'!H168","v":0},{"$f":"'Bordereau versement C'!I168","v":0},{"$f":"'Bordereau versement C'!J168","v":0},{"$f":"'Bordereau versement C'!K168","v":0},{"$f":"'Bordereau versement C'!L168","v":0}]
[{"$f":"'Bordereau versement C'!A169:D169","v":0},null,null,null,{"$f":"'Bordereau versement C'!E169","v":0},{"$f":"'Bordereau versement C'!F169:G169","v":0},null,{"$f":"'Bordereau versement C'!H169","v":0},{"$f":"'Bordereau versement C'!I169","v":0},{"$f":"'Bordereau versement C'!J169","v":0},{"$f":"'Bordereau versement C'!K169","v":0},{"$f":"'Bordereau versement C'!L169","v":0}]
[{"$f":"'Bordereau versement C'!A170:D170","v":0},null,null,null,{"$f":"'Bordereau versement C'!E170","v":0},{"$f":"'Bordereau versement C'!F170:G170","v":0},null,{"$f":"'Bordereau versement C'!H170","v":0},{"$f":"'Bordereau versement C'!I170","v":0},{"$f":"'Bordereau versement C'!J170","v":0},{"$f":"'Bordereau versement C'!K170","v":0},{"$f":"'Bordereau versement C'!L170","v":0}]
[{"$f":"'Bordereau versement C'!A171:D171","v":0},null,null,null,{"$f":"'Bordereau versement C'!E171","v":0},{"$f":"'Bordereau versement C'!F171:G171","v":0},null,{"$f":"'Bordereau versement C'!H171","v":0},{"$f":"'Bordereau versement C'!I171","v":0},{"$f":"'Bordereau versement C'!J171","v":0},{"$f":"'Bordereau versement C'!K171","v":0},{"$f":"'Bordereau versement C'!L171","v":0}]
[{"$f":"'Bordereau versement C'!A172:D172","v":0},null,null,null,{"$f":"'Bordereau versement C'!E172","v":0},{"$f":"'Bordereau versement C'!F172:G172","v":0},null,{"$f":"'Bordereau versement C'!H172","v":0},{"$f":"'Bordereau versement C'!I172","v":0},{"$f":"'Bordereau versement C'!J172","v":0},{"$f":"'Bordereau versement C'!K172","v":0},{"$f":"'Bordereau versement C'!L172","v":0}]
[{"$f":"'Bordereau versement C'!A173:D173","v":0},null,null,null,{"$f":"'Bordereau versement C'!E173","v":0},{"$f":"'Bordereau versement C'!F173:G173","v":0},null,{"$f":"'Bordereau versement C'!H173","v":0},{"$f":"'Bordereau versement C'!I173","v":0},{"$f":"'Bordereau versement C'!J173","v":0},{"$f":"'Bordereau versement C'!K173","v":0},{"$f":"'Bordereau versement C'!L173","v":0}]
[{"$f":"'Bordereau versement C'!A174:D174","v":0},null,null,null,{"$f":"'Bordereau versement C'!E174","v":0},{"$f":"'Bordereau versement C'!F174:G174","v":0},null,{"$f":"'Bordereau versement C'!H174","v":0},{"$f":"'Bordereau versement C'!I174","v":0},{"$f":"'Bordereau versement C'!J174","v":0},{"$f":"'Bordereau versement C'!K174","v":0},{"$f":"'Bordereau versement C'!L174","v":0}]
[{"$f":"'Bordereau versement C'!A175:D175","v":0},null,null,null,{"$f":"'Bordereau versement C'!E175","v":0},{"$f":"'Bordereau versement C'!F175:G175","v":0},null,{"$f":"'Bordereau versement C'!H175","v":0},{"$f":"'Bordereau versement C'!I175","v":0},{"$f":"'Bordereau versement C'!J175","v":0},{"$f":"'Bordereau versement C'!K175","v":0},{"$f":"'Bordereau versement C'!L175","v":0}]
[{"$f":"'Bordereau versement C'!A176:D176","v":0},null,null,null,{"$f":"'Bordereau versement C'!E176","v":0},{"$f":"'Bordereau versement C'!F176:G176","v":0},null,{"$f":"'Bordereau versement C'!H176","v":0},{"$f":"'Bordereau versement C'!I176","v":0},{"$f":"'Bordereau versement C'!J176","v":0},{"$f":"'Bordereau versement C'!K176","v":0},{"$f":"'Bordereau versement C'!L176","v":0}]
[{"$f":"'Bordereau versement C'!A177:D177","v":0},null,null,null,{"$f":"'Bordereau versement C'!E177","v":0},{"$f":"'Bordereau versement C'!F177:G177","v":0},null,{"$f":"'Bordereau versement C'!H177","v":0},{"$f":"'Bordereau versement C'!I177","v":0},{"$f":"'Bordereau versement C'!J177","v":0},{"$f":"'Bordereau versement C'!K177","v":0},{"$f":"'Bordereau versement C'!L177","v":0}]
[{"$f":"'Bordereau versement C'!A178:D178","v":0},null,null,null,{"$f":"'Bordereau versement C'!E178","v":0},{"$f":"'Bordereau versement C'!F178:G178","v":0},null,{"$f":"'Bordereau versement C'!H178","v":0},{"$f":"'Bordereau versement C'!I178","v":0},{"$f":"'Bordereau versement C'!J178","v":0},{"$f":"'Bordereau versement C'!K178","v":0},{"$f":"'Bordereau versement C'!L178","v":0}]
[{"$f":"'Bordereau versement C'!A179:D179","v":0},null,null,null,{"$f":"'Bordereau versement C'!E179","v":0},{"$f":"'Bordereau versement C'!F179:G179","v":0},null,{"$f":"'Bordereau versement C'!H179","v":0},{"$f":"'Bordereau versement C'!I179","v":0},{"$f":"'Bordereau versement C'!J179","v":0},{"$f":"'Bordereau versement C'!K179","v":0},{"$f":"'Bordereau versement C'!L179","v":0}]
[{"$f":"'Bordereau versement C'!A180:D180","v":0},null,null,null,{"$f":"'Bordereau versement C'!E180","v":0},{"$f":"'Bordereau versement C'!F180:G180","v":0},null,{"$f":"'Bordereau versement C'!H180","v":0},{"$f":"'Bordereau versement C'!I180","v":0},{"$f":"'Bordereau versement C'!J180","v":0},{"$f":"'Bordereau versement C'!K180","v":0},{"$f":"'Bordereau versement C'!L180","v":0}]
[{"$f":"'Bordereau versement C'!A181:D181","v":0},null,null,null,{"$f":"'Bordereau versement C'!E181","v":0},{"$f":"'Bordereau versement C'!F181:G181","v":0},null,{"$f":"'Bordereau versement C'!H181","v":0},{"$f":"'Bordereau versement C'!I181","v":0},{"$f":"'Bordereau versement C'!J181","v":0},{"$f":"'Bordereau versement C'!K181","v":0},{"$f":"'Bordereau versement C'!L181","v":0}]
[{"$f":"'Bordereau versement C'!A182:D182","v":0},null,null,null,{"$f":"'Bordereau versement C'!E182","v":0},{"$f":"'Bordereau versement C'!F182:G182","v":0},null,{"$f":"'Bordereau versement C'!H182","v":0},{"$f":"'Bordereau versement C'!I182","v":0},{"$f":"'Bordereau versement C'!J182","v":0},{"$f":"'Bordereau versement C'!K182","v":0},{"$f":"'Bordereau versement C'!L182","v":0}]
[{"$f":"'Bordereau versement C'!A183:D183","v":0},null,null,null,{"$f":"'Bordereau versement C'!E183","v":0},{"$f":"'Bordereau versement C'!F183:G183","v":0},null,{"$f":"'Bordereau versement C'!H183","v":0},{"$f":"'Bordereau versement C'!I183","v":0},{"$f":"'Bordereau versement C'!J183","v":0},{"$f":"'Bordereau versement C'!K183","v":0},{"$f":"'Bordereau versement C'!L183","v":0}]
[{"$f":"'Bordereau versement C'!A184:D184","v":0},null,null,null,{"$f":"'Bordereau versement C'!E184","v":0},{"$f":"'Bordereau versement C'!F184:G184","v":0},null,{"$f":"'Bordereau versement C'!H184","v":0},{"$f":"'Bordereau versement C'!I184","v":0},{"$f":"'Bordereau versement C'!J184","v":0},{"$f":"'Bordereau versement C'!K184","v":0},{"$f":"'Bordereau versement C'!L184","v":0}]
[{"$f":"'Bordereau versement C'!A185:D185","v":0},null,null,null,{"$f":"'Bordereau versement C'!E185","v":0},{"$f":"'Bordereau versement C'!F185:G185","v":0},null,{"$f":"'Bordereau versement C'!H185","v":0},{"$f":"'Bordereau versement C'!I185","v":0},{"$f":"'Bordereau versement C'!J185","v":0},{"$f":"'Bordereau versement C'!K185","v":0},{"$f":"'Bordereau versement C'!L185","v":0}]
[{"$f":"'Bordereau versement C'!A186:D186","v":0},null,null,null,{"$f":"'Bordereau versement C'!E186","v":0},{"$f":"'Bordereau versement C'!F186:G186","v":0},null,{"$f":"'Bordereau versement C'!H186","v":0},{"$f":"'Bordereau versement C'!I186","v":0},{"$f":"'Bordereau versement C'!J186","v":0},{"$f":"'Bordereau versement C'!K186","v":0},{"$f":"'Bordereau versement C'!L186","v":0}]
[{"$f":"'Bordereau versement C'!A187:D187","v":0},null,null,null,{"$f":"'Bordereau versement C'!E187","v":0},{"$f":"'Bordereau versement C'!F187:G187","v":0},null,{"$f":"'Bordereau versement C'!H187","v":0},{"$f":"'Bordereau versement C'!I187","v":0},{"$f":"'Bordereau versement C'!J187","v":0},{"$f":"'Bordereau versement C'!K187","v":0},{"$f":"'Bordereau versement C'!L187","v":0}]
[{"$f":"'Bordereau versement C'!A188:D188","v":0},null,null,null,{"$f":"'Bordereau versement C'!E188","v":0},{"$f":"'Bordereau versement C'!F188:G188","v":0},null,{"$f":"'Bordereau versement C'!H188","v":0},{"$f":"'Bordereau versement C'!I188","v":0},{"$f":"'Bordereau versement C'!J188","v":0},{"$f":"'Bordereau versement C'!K188","v":0},{"$f":"'Bordereau versement C'!L188","v":0}]
[{"$f":"'Bordereau versement C'!A189:D189","v":0},null,null,null,{"$f":"'Bordereau versement C'!E189","v":0},{"$f":"'Bordereau versement C'!F189:G189","v":0},null,{"$f":"'Bordereau versement C'!H189","v":0},{"$f":"'Bordereau versement C'!I189","v":0},{"$f":"'Bordereau versement C'!J189","v":0},{"$f":"'Bordereau versement C'!K189","v":0},{"$f":"'Bordereau versement C'!L189","v":0}]
[{"$f":"'Bordereau versement C'!A190:D190","v":0},null,null,null,{"$f":"'Bordereau versement C'!E190","v":0},{"$f":"'Bordereau versement C'!F190:G190","v":0},null,{"$f":"'Bordereau versement C'!H190","v":0},{"$f":"'Bordereau versement C'!I190","v":0},{"$f":"'Bordereau versement C'!J190","v":0},{"$f":"'Bordereau versement C'!K190","v":0},{"$f":"'Bordereau versement C'!L190","v":0}]
[{"$f":"'Bordereau versement C'!A191:D191","v":0},null,null,null,{"$f":"'Bordereau versement C'!E191","v":0},{"$f":"'Bordereau versement C'!F191:G191","v":0},null,{"$f":"'Bordereau versement C'!H191","v":0},{"$f":"'Bordereau versement C'!I191","v":0},{"$f":"'Bordereau versement C'!J191","v":0},{"$f":"'Bordereau versement C'!K191","v":0},{"$f":"'Bordereau versement C'!L191","v":0}]
[{"$f":"'Bordereau versement C'!A192:D192","v":0},null,null,null,{"$f":"'Bordereau versement C'!E192","v":0},{"$f":"'Bordereau versement C'!F192:G192","v":0},null,{"$f":"'Bordereau versement C'!H192","v":0},{"$f":"'Bordereau versement C'!I192","v":0},{"$f":"'Bordereau versement C'!J192","v":0},{"$f":"'Bordereau versement C'!K192","v":0},{"$f":"'Bordereau versement C'!L192","v":0}]
[{"$f":"'Bordereau versement C'!A193:D193","v":0},null,null,null,{"$f":"'Bordereau versement C'!E193","v":0},{"$f":"'Bordereau versement C'!F193:G193","v":0},null,{"$f":"'Bordereau versement C'!H193","v":0},{"$f":"'Bordereau versement C'!I193","v":0},{"$f":"'Bordereau versement C'!J193","v":0},{"$f":"'Bordereau versement C'!K193","v":0},{"$f":"'Bordereau versement C'!L193","v":0}]
[{"$f":"'Bordereau versement C'!A194:D194","v":0},null,null,null,{"$f":"'Bordereau versement C'!E194","v":0},{"$f":"'Bordereau versement C'!F194:G194","v":0},null,{"$f":"'Bordereau versement C'!H194","v":0},{"$f":"'Bordereau versement C'!I194","v":0},{"$f":"'Bordereau versement C'!J194","v":0},{"$f":"'Bordereau versement C'!K194","v":0},{"$f":"'Bordereau versement C'!L194","v":0}]
[{"$f":"'Bordereau versement C'!A195:D195","v":0},null,null,null,{"$f":"'Bordereau versement C'!E195","v":0},{"$f":"'Bordereau versement C'!F195:G195","v":0},null,{"$f":"'Bordereau versement C'!H195","v":0},{"$f":"'Bordereau versement C'!I195","v":0},{"$f":"'Bordereau versement C'!J195","v":0},{"$f":"'Bordereau versement C'!K195","v":0},{"$f":"'Bordereau versement C'!L195","v":0}]
[{"$f":"'Bordereau versement C'!A196:D196","v":0},null,null,null,{"$f":"'Bordereau versement C'!E196","v":0},{"$f":"'Bordereau versement C'!F196:G196","v":0},null,{"$f":"'Bordereau versement C'!H196","v":0},{"$f":"'Bordereau versement C'!I196","v":0},{"$f":"'Bordereau versement C'!J196","v":0},{"$f":"'Bordereau versement C'!K196","v":0},{"$f":"'Bordereau versement C'!L196","v":0}]
[{"$f":"'Bordereau versement C'!A197:D197","v":0},null,null,null,{"$f":"'Bordereau versement C'!E197","v":0},{"$f":"'Bordereau versement C'!F197:G197","v":0},null,{"$f":"'Bordereau versement C'!H197","v":0},{"$f":"'Bordereau versement C'!I197","v":0},{"$f":"'Bordereau versement C'!J197","v":0},{"$f":"'Bordereau versement C'!K197","v":0},{"$f":"'Bordereau versement C'!L197","v":0}]
[{"$f":"'Bordereau versement C'!A198:D198","v":0},null,null,null,{"$f":"'Bordereau versement C'!E198","v":0},{"$f":"'Bordereau versement C'!F198:G198","v":0},null,{"$f":"'Bordereau versement C'!H198","v":0},{"$f":"'Bordereau versement C'!I198","v":0},{"$f":"'Bordereau versement C'!J198","v":0},{"$f":"'Bordereau versement C'!K198","v":0},{"$f":"'Bordereau versement C'!L198","v":0}]
[{"$f":"'Bordereau versement C'!A199:D199","v":0},null,null,null,{"$f":"'Bordereau versement C'!E199","v":0},{"$f":"'Bordereau versement C'!F199:G199","v":0},null,{"$f":"'Bordereau versement C'!H199","v":0},{"$f":"'Bordereau versement C'!I199","v":0},{"$f":"'Bordereau versement C'!J199","v":0},{"$f":"'Bordereau versement C'!K199","v":0},{"$f":"'Bordereau versement C'!L199","v":0}]
[{"$f":"'Bordereau versement C'!A200:D200","v":0},null,null,null,{"$f":"'Bordereau versement C'!E200","v":0},{"$f":"'Bordereau versement C'!F200:G200","v":0},null,{"$f":"'Bordereau versement C'!H200","v":0},{"$f":"'Bordereau versement C'!I200","v":0},{"$f":"'Bordereau versement C'!J200","v":0},{"$f":"'Bordereau versement C'!K200","v":0},{"$f":"'Bordereau versement C'!L200","v":0}]
[{"$f":"'Bordereau versement C'!A201:D201","v":0},null,null,null,{"$f":"'Bordereau versement C'!E201","v":0},{"$f":"'Bordereau versement C'!F201:G201","v":0},null,{"$f":"'Bordereau versement C'!H201","v":0},{"$f":"'Bordereau versement C'!I201","v":0},{"$f":"'Bordereau versement C'!J201","v":0},{"$f":"'Bordereau versement C'!K201","v":0},{"$f":"'Bordereau versement C'!L201","v":0}]
[{"$f":"'Bordereau versement C'!A202:D202","v":0},null,null,null,{"$f":"'Bordereau versement C'!E202","v":0},{"$f":"'Bordereau versement C'!F202:G202","v":0},null,{"$f":"'Bordereau versement C'!H202","v":0},{"$f":"'Bordereau versement C'!I202","v":0},{"$f":"'Bordereau versement C'!J202","v":0},{"$f":"'Bordereau versement C'!K202","v":0},{"$f":"'Bordereau versement C'!L202","v":0}]
[{"$f":"'Bordereau versement C'!A203:D203","v":0},null,null,null,{"$f":"'Bordereau versement C'!E203","v":0},{"$f":"'Bordereau versement C'!F203:G203","v":0},null,{"$f":"'Bordereau versement C'!H203","v":0},{"$f":"'Bordereau versement C'!I203","v":0},{"$f":"'Bordereau versement C'!J203","v":0},{"$f":"'Bordereau versement C'!K203","v":0},{"$f":"'Bordereau versement C'!L203","v":0}]
[{"$f":"'Bordereau versement C'!A204:D204","v":0},null,null,null,{"$f":"'Bordereau versement C'!E204","v":0},{"$f":"'Bordereau versement C'!F204:G204","v":0},null,{"$f":"'Bordereau versement C'!H204","v":0},{"$f":"'Bordereau versement C'!I204","v":0},{"$f":"'Bordereau versement C'!J204","v":0},{"$f":"'Bordereau versement C'!K204","v":0},{"$f":"'Bordereau versement C'!L204","v":0}]
[{"$f":"'Bordereau versement C'!A205:D205","v":0},null,null,null,{"$f":"'Bordereau versement C'!E205","v":0},{"$f":"'Bordereau versement C'!F205:G205","v":0},null,{"$f":"'Bordereau versement C'!H205","v":0},{"$f":"'Bordereau versement C'!I205","v":0},{"$f":"'Bordereau versement C'!J205","v":0},{"$f":"'Bordereau versement C'!K205","v":0},{"$f":"'Bordereau versement C'!L205","v":0}]
[{"$f":"'Bordereau versement C'!A206:D206","v":0},null,null,null,{"$f":"'Bordereau versement C'!E206","v":0},{"$f":"'Bordereau versement C'!F206:G206","v":0},null,{"$f":"'Bordereau versement C'!H206","v":0},{"$f":"'Bordereau versement C'!I206","v":0},{"$f":"'Bordereau versement C'!J206","v":0},{"$f":"'Bordereau versement C'!K206","v":0},{"$f":"'Bordereau versement C'!L206","v":0}]
[{"$f":"'Bordereau versement C'!A207:D207","v":0},null,null,null,{"$f":"'Bordereau versement C'!E207","v":0},{"$f":"'Bordereau versement C'!F207:G207","v":0},null,{"$f":"'Bordereau versement C'!H207","v":0},{"$f":"'Bordereau versement C'!I207","v":0},{"$f":"'Bordereau versement C'!J207","v":0},{"$f":"'Bordereau versement C'!K207","v":0},{"$f":"'Bordereau versement C'!L207","v":0}]
[{"$f":"'Bordereau versement C'!A208:D208","v":0},null,null,null,{"$f":"'Bordereau versement C'!E208","v":0},{"$f":"'Bordereau versement C'!F208:G208","v":0},null,{"$f":"'Bordereau versement C'!H208","v":0},{"$f":"'Bordereau versement C'!I208","v":0},{"$f":"'Bordereau versement C'!J208","v":0},{"$f":"'Bordereau versement C'!K208","v":0},{"$f":"'Bordereau versement C'!L208","v":0}]
[{"$f":"'Bordereau versement C'!A209:D209","v":0},null,null,null,{"$f":"'Bordereau versement C'!E209","v":0},{"$f":"'Bordereau versement C'!F209:G209","v":0},null,{"$f":"'Bordereau versement C'!H209","v":0},{"$f":"'Bordereau versement C'!I209","v":0},{"$f":"'Bordereau versement C'!J209","v":0},{"$f":"'Bordereau versement C'!K209","v":0},{"$f":"'Bordereau versement C'!L209","v":0}]
[{"$f":"'Bordereau versement C'!A210:D210","v":0},null,null,null,{"$f":"'Bordereau versement C'!E210","v":0},{"$f":"'Bordereau versement C'!F210:G210","v":0},null,{"$f":"'Bordereau versement C'!H210","v":0},{"$f":"'Bordereau versement C'!I210","v":0},{"$f":"'Bordereau versement C'!J210","v":0},{"$f":"'Bordereau versement C'!K210","v":0},{"$f":"'Bordereau versement C'!L210","v":0}]
[{"$f":"'Bordereau versement C'!A211:D211","v":0},null,null,null,{"$f":"'Bordereau versement C'!E211","v":0},{"$f":"'Bordereau versement C'!F211:G211","v":0},null,{"$f":"'Bordereau versement C'!H211","v":0},{"$f":"'Bordereau versement C'!I211","v":0},{"$f":"'Bordereau versement C'!J211","v":0},{"$f":"'Bordereau versement C'!K211","v":0},{"$f":"'Bordereau versement C'!L211","v":0}]
[{"$f":"'Bordereau versement C'!A212:D212","v":0},null,null,null,{"$f":"'Bordereau versement C'!E212","v":0},{"$f":"'Bordereau versement C'!F212:G212","v":0},null,{"$f":"'Bordereau versement C'!H212","v":0},{"$f":"'Bordereau versement C'!I212","v":0},{"$f":"'Bordereau versement C'!J212","v":0},{"$f":"'Bordereau versement C'!K212","v":0},{"$f":"'Bordereau versement C'!L212","v":0}]
[{"$f":"'Bordereau versement C'!A213:D213","v":0},null,null,null,{"$f":"'Bordereau versement C'!E213","v":0},{"$f":"'Bordereau versement C'!F213:G213","v":0},null,{"$f":"'Bordereau versement C'!H213","v":0},{"$f":"'Bordereau versement C'!I213","v":0},{"$f":"'Bordereau versement C'!J213","v":0},{"$f":"'Bordereau versement C'!K213","v":0},{"$f":"'Bordereau versement C'!L213","v":0}]
[{"$f":"'Bordereau versement C'!A214:D214","v":0},null,null,null,{"$f":"'Bordereau versement C'!E214","v":0},{"$f":"'Bordereau versement C'!F214:G214","v":0},null,{"$f":"'Bordereau versement C'!H214","v":0},{"$f":"'Bordereau versement C'!I214","v":0},{"$f":"'Bordereau versement C'!J214","v":0},{"$f":"'Bordereau versement C'!K214","v":0},{"$f":"'Bordereau versement C'!L214","v":0}]
[{"$f":"'Bordereau versement C'!A215:D215","v":0},null,null,null,{"$f":"'Bordereau versement C'!E215","v":0},{"$f":"'Bordereau versement C'!F215:G215","v":0},null,{"$f":"'Bordereau versement C'!H215","v":0},{"$f":"'Bordereau versement C'!I215","v":0},{"$f":"'Bordereau versement C'!J215","v":0},{"$f":"'Bordereau versement C'!K215","v":0},{"$f":"'Bordereau versement C'!L215","v":0}]
[{"$f":"'Bordereau versement C'!A216:D216","v":0},null,null,null,{"$f":"'Bordereau versement C'!E216","v":0},{"$f":"'Bordereau versement C'!F216:G216","v":0},null,{"$f":"'Bordereau versement C'!H216","v":0},{"$f":"'Bordereau versement C'!I216","v":0},{"$f":"'Bordereau versement C'!J216","v":0},{"$f":"'Bordereau versement C'!K216","v":0},{"$f":"'Bordereau versement C'!L216","v":0}]
[{"$f":"'Bordereau versement C'!A217:D217","v":0},null,null,null,{"$f":"'Bordereau versement C'!E217","v":0},{"$f":"'Bordereau versement C'!F217:G217","v":0},null,{"$f":"'Bordereau versement C'!H217","v":0},{"$f":"'Bordereau versement C'!I217","v":0},{"$f":"'Bordereau versement C'!J217","v":0},{"$f":"'Bordereau versement C'!K217","v":0},{"$f":"'Bordereau versement C'!L217","v":0}]
[{"$f":"'Bordereau versement C'!A218:D218","v":0},null,null,null,{"$f":"'Bordereau versement C'!E218","v":0},{"$f":"'Bordereau versement C'!F218:G218","v":0},null,{"$f":"'Bordereau versement C'!H218","v":0},{"$f":"'Bordereau versement C'!I218","v":0},{"$f":"'Bordereau versement C'!J218","v":0},{"$f":"'Bordereau versement C'!K218","v":0},{"$f":"'Bordereau versement C'!L218","v":0}]
[{"$f":"'Bordereau versement C'!A219:D219","v":0},null,null,null,{"$f":"'Bordereau versement C'!E219","v":0},{"$f":"'Bordereau versement C'!F219:G219","v":0},null,{"$f":"'Bordereau versement C'!H219","v":0},{"$f":"'Bordereau versement C'!I219","v":0},{"$f":"'Bordereau versement C'!J219","v":0},{"$f":"'Bordereau versement C'!K219","v":0},{"$f":"'Bordereau versement C'!L219","v":0}]
[{"$f":"'Bordereau versement C'!A220:D220","v":0},null,null,null,{"$f":"'Bordereau versement C'!E220","v":0},{"$f":"'Bordereau versement C'!F220:G220","v":0},null,{"$f":"'Bordereau versement C'!H220","v":0},{"$f":"'Bordereau versement C'!I220","v":0},{"$f":"'Bordereau versement C'!J220","v":0},{"$f":"'Bordereau versement C'!K220","v":0},{"$f":"'Bordereau versement C'!L220","v":0}]
[{"$f":"'Bordereau versement C'!A221:D221","v":0},null,null,null,{"$f":"'Bordereau versement C'!E221","v":0},{"$f":"'Bordereau versement C'!F221:G221","v":0},null,{"$f":"'Bordereau versement C'!H221","v":0},{"$f":"'Bordereau versement C'!I221","v":0},{"$f":"'Bordereau versement C'!J221","v":0},{"$f":"'Bordereau versement C'!K221","v":0},{"$f":"'Bordereau versement C'!L221","v":0}]
[{"$f":"'Bordereau versement C'!A222:D222","v":0},null,null,null,{"$f":"'Bordereau versement C'!E222","v":0},{"$f":"'Bordereau versement C'!F222:G222","v":0},null,{"$f":"'Bordereau versement C'!H222","v":0},{"$f":"'Bordereau versement C'!I222","v":0},{"$f":"'Bordereau versement C'!J222","v":0},{"$f":"'Bordereau versement C'!K222","v":0},{"$f":"'Bordereau versement C'!L222","v":0}]
[{"$f":"'Bordereau versement C'!A223:D223","v":0},null,null,null,{"$f":"'Bordereau versement C'!E223","v":0},{"$f":"'Bordereau versement C'!F223:G223","v":0},null,{"$f":"'Bordereau versement C'!H223","v":0},{"$f":"'Bordereau versement C'!I223","v":0},{"$f":"'Bordereau versement C'!J223","v":0},{"$f":"'Bordereau versement C'!K223","v":0},{"$f":"'Bordereau versement C'!L223","v":0}]
[{"$f":"'Bordereau versement C'!A224:D224","v":0},null,null,null,{"$f":"'Bordereau versement C'!E224","v":0},{"$f":"'Bordereau versement C'!F224:G224","v":0},null,{"$f":"'Bordereau versement C'!H224","v":0},{"$f":"'Bordereau versement C'!I224","v":0},{"$f":"'Bordereau versement C'!J224","v":0},{"$f":"'Bordereau versement C'!K224","v":0},{"$f":"'Bordereau versement C'!L224","v":0}]
[{"$f":"'Bordereau versement C'!A225:D225","v":0},null,null,null,{"$f":"'Bordereau versement C'!E225","v":0},{"$f":"'Bordereau versement C'!F225:G225","v":0},null,{"$f":"'Bordereau versement C'!H225","v":0},{"$f":"'Bordereau versement C'!I225","v":0},{"$f":"'Bordereau versement C'!J225","v":0},{"$f":"'Bordereau versement C'!K225","v":0},{"$f":"'Bordereau versement C'!L225","v":0}]
[{"$f":"'Bordereau versement C'!A226:D226","v":0},null,null,null,{"$f":"'Bordereau versement C'!E226","v":0},{"$f":"'Bordereau versement C'!F226:G226","v":0},null,{"$f":"'Bordereau versement C'!H226","v":0},{"$f":"'Bordereau versement C'!I226","v":0},{"$f":"'Bordereau versement C'!J226","v":0},{"$f":"'Bordereau versement C'!K226","v":0},{"$f":"'Bordereau versement C'!L226","v":0}]
[{"$f":"'Bordereau versement C'!A227:D227","v":0},null,null,null,{"$f":"'Bordereau versement C'!E227","v":0},{"$f":"'Bordereau versement C'!F227:G227","v":0},null,{"$f":"'Bordereau versement C'!H227","v":0},{"$f":"'Bordereau versement C'!I227","v":0},{"$f":"'Bordereau versement C'!J227","v":0},{"$f":"'Bordereau versement C'!K227","v":0},{"$f":"'Bordereau versement C'!L227","v":0}]
[{"$f":"'Bordereau versement C'!A228:D228","v":0},null,null,null,{"$f":"'Bordereau versement C'!E228","v":0},{"$f":"'Bordereau versement C'!F228:G228","v":0},null,{"$f":"'Bordereau versement C'!H228","v":0},{"$f":"'Bordereau versement C'!I228","v":0},{"$f":"'Bordereau versement C'!J228","v":0},{"$f":"'Bordereau versement C'!K228","v":0},{"$f":"'Bordereau versement C'!L228","v":0}]
[{"$f":"'Bordereau versement C'!A229:D229","v":0},null,null,null,{"$f":"'Bordereau versement C'!E229","v":0},{"$f":"'Bordereau versement C'!F229:G229","v":0},null,{"$f":"'Bordereau versement C'!H229","v":0},{"$f":"'Bordereau versement C'!I229","v":0},{"$f":"'Bordereau versement C'!J229","v":0},{"$f":"'Bordereau versement C'!K229","v":0},{"$f":"'Bordereau versement C'!L229","v":0}]
[{"$f":"'Bordereau versement C'!A230:D230","v":0},null,null,null,{"$f":"'Bordereau versement C'!E230","v":0},{"$f":"'Bordereau versement C'!F230:G230","v":0},null,{"$f":"'Bordereau versement C'!H230","v":0},{"$f":"'Bordereau versement C'!I230","v":0},{"$f":"'Bordereau versement C'!J230","v":0},{"$f":"'Bordereau versement C'!K230","v":0},{"$f":"'Bordereau versement C'!L230","v":0}]
[{"$f":"'Bordereau versement C'!A231:D231","v":0},null,null,null,{"$f":"'Bordereau versement C'!E231","v":0},{"$f":"'Bordereau versement C'!F231:G231","v":0},null,{"$f":"'Bordereau versement C'!H231","v":0},{"$f":"'Bordereau versement C'!I231","v":0},{"$f":"'Bordereau versement C'!J231","v":0},{"$f":"'Bordereau versement C'!K231","v":0},{"$f":"'Bordereau versement C'!L231","v":0}]
[{"$f":"'Bordereau versement C'!A232:D232","v":0},null,null,null,{"$f":"'Bordereau versement C'!E232","v":0},{"$f":"'Bordereau versement C'!F232:G232","v":0},null,{"$f":"'Bordereau versement C'!H232","v":0},{"$f":"'Bordereau versement C'!I232","v":0},{"$f":"'Bordereau versement C'!J232","v":0},{"$f":"'Bordereau versement C'!K232","v":0},{"$f":"'Bordereau versement C'!L232","v":0}]
[{"$f":"'Bordereau versement C'!A233:D233","v":0},null,null,null,{"$f":"'Bordereau versement C'!E233","v":0},{"$f":"'Bordereau versement C'!F233:G233","v":0},null,{"$f":"'Bordereau versement C'!H233","v":0},{"$f":"'Bordereau versement C'!I233","v":0},{"$f":"'Bordereau versement C'!J233","v":0},{"$f":"'Bordereau versement C'!K233","v":0},{"$f":"'Bordereau versement C'!L233","v":0}]
[{"$f":"'Bordereau versement C'!A234:D234","v":0},null,null,null,{"$f":"'Bordereau versement C'!E234","v":0},{"$f":"'Bordereau versement C'!F234:G234","v":0},null,{"$f":"'Bordereau versement C'!H234","v":0},{"$f":"'Bordereau versement C'!I234","v":0},{"$f":"'Bordereau versement C'!J234","v":0},{"$f":"'Bordereau versement C'!K234","v":0},{"$f":"'Bordereau versement C'!L234","v":0}]
[{"$f":"'Bordereau versement C'!A235:D235","v":0},null,null,null,{"$f":"'Bordereau versement C'!E235","v":0},{"$f":"'Bordereau versement C'!F235:G235","v":0},null,{"$f":"'Bordereau versement C'!H235","v":0},{"$f":"'Bordereau versement C'!I235","v":0},{"$f":"'Bordereau versement C'!J235","v":0},{"$f":"'Bordereau versement C'!K235","v":0},{"$f":"'Bordereau versement C'!L235","v":0}]
[{"$f":"'Bordereau versement C'!A236:D236","v":0},null,null,null,{"$f":"'Bordereau versement C'!E236","v":0},{"$f":"'Bordereau versement C'!F236:G236","v":0},null,{"$f":"'Bordereau versement C'!H236","v":0},{"$f":"'Bordereau versement C'!I236","v":0},{"$f":"'Bordereau versement C'!J236","v":0},{"$f":"'Bordereau versement C'!K236","v":0},{"$f":"'Bordereau versement C'!L236","v":0}]
[{"$f":"'Bordereau versement C'!A237:D237","v":0},null,null,null,{"$f":"'Bordereau versement C'!E237","v":0},{"$f":"'Bordereau versement C'!F237:G237","v":0},null,{"$f":"'Bordereau versement C'!H237","v":0},{"$f":"'Bordereau versement C'!I237","v":0},{"$f":"'Bordereau versement C'!J237","v":0},{"$f":"'Bordereau versement C'!K237","v":0},{"$f":"'Bordereau versement C'!L237","v":0}]
[{"$f":"'Bordereau versement C'!A238:D238","v":0},null,null,null,{"$f":"'Bordereau versement C'!E238","v":0},{"$f":"'Bordereau versement C'!F238:G238","v":0},null,{"$f":"'Bordereau versement C'!H238","v":0},{"$f":"'Bordereau versement C'!I238","v":0},{"$f":"'Bordereau versement C'!J238","v":0},{"$f":"'Bordereau versement C'!K238","v":0},{"$f":"'Bordereau versement C'!L238","v":0}]
[{"$f":"'Bordereau versement C'!A239:D239","v":0},null,null,null,{"$f":"'Bordereau versement C'!E239","v":0},{"$f":"'Bordereau versement C'!F239:G239","v":0},null,{"$f":"'Bordereau versement C'!H239","v":0},{"$f":"'Bordereau versement C'!I239","v":0},{"$f":"'Bordereau versement C'!J239","v":0},{"$f":"'Bordereau versement C'!K239","v":0},{"$f":"'Bordereau versement C'!L239","v":0}]
[{"$f":"'Bordereau versement C'!A240:D240","v":0},null,null,null,{"$f":"'Bordereau versement C'!E240","v":0},{"$f":"'Bordereau versement C'!F240:G240","v":0},null,{"$f":"'Bordereau versement C'!H240","v":0},{"$f":"'Bordereau versement C'!I240","v":0},{"$f":"'Bordereau versement C'!J240","v":0},{"$f":"'Bordereau versement C'!K240","v":0},{"$f":"'Bordereau versement C'!L240","v":0}]
[{"$f":"'Bordereau versement C'!A241:D241","v":0},null,null,null,{"$f":"'Bordereau versement C'!E241","v":0},{"$f":"'Bordereau versement C'!F241:G241","v":0},null,{"$f":"'Bordereau versement C'!H241","v":0},{"$f":"'Bordereau versement C'!I241","v":0},{"$f":"'Bordereau versement C'!J241","v":0},{"$f":"'Bordereau versement C'!K241","v":0},{"$f":"'Bordereau versement C'!L241","v":0}]
[{"$f":"'Bordereau versement C'!A242:D242","v":0},null,null,null,{"$f":"'Bordereau versement C'!E242","v":0},{"$f":"'Bordereau versement C'!F242:G242","v":0},null,{"$f":"'Bordereau versement C'!H242","v":0},{"$f":"'Bordereau versement C'!I242","v":0},{"$f":"'Bordereau versement C'!J242","v":0},{"$f":"'Bordereau versement C'!K242","v":0},{"$f":"'Bordereau versement C'!L242","v":0}]
[{"$f":"'Bordereau versement C'!A243:D243","v":0},null,null,null,{"$f":"'Bordereau versement C'!E243","v":0},{"$f":"'Bordereau versement C'!F243:G243","v":0},null,{"$f":"'Bordereau versement C'!H243","v":0},{"$f":"'Bordereau versement C'!I243","v":0},{"$f":"'Bordereau versement C'!J243","v":0},{"$f":"'Bordereau versement C'!K243","v":0},{"$f":"'Bordereau versement C'!L243","v":0}]
[{"$f":"'Bordereau versement C'!A244:D244","v":0},null,null,null,{"$f":"'Bordereau versement C'!E244","v":0},{"$f":"'Bordereau versement C'!F244:G244","v":0},null,{"$f":"'Bordereau versement C'!H244","v":0},{"$f":"'Bordereau versement C'!I244","v":0},{"$f":"'Bordereau versement C'!J244","v":0},{"$f":"'Bordereau versement C'!K244","v":0},{"$f":"'Bordereau versement C'!L244","v":0}]
[{"$f":"'Bordereau versement C'!A245:D245","v":0},null,null,null,{"$f":"'Bordereau versement C'!E245","v":0},{"$f":"'Bordereau versement C'!F245:G245","v":0},null,{"$f":"'Bordereau versement C'!H245","v":0},{"$f":"'Bordereau versement C'!I245","v":0},{"$f":"'Bordereau versement C'!J245","v":0},{"$f":"'Bordereau versement C'!K245","v":0},{"$f":"'Bordereau versement C'!L245","v":0}]
[{"$f":"'Bordereau versement C'!A246:D246","v":0},null,null,null,{"$f":"'Bordereau versement C'!E246","v":0},{"$f":"'Bordereau versement C'!F246:G246","v":0},null,{"$f":"'Bordereau versement C'!H246","v":0},{"$f":"'Bordereau versement C'!I246","v":0},{"$f":"'Bordereau versement C'!J246","v":0},{"$f":"'Bordereau versement C'!K246","v":0},{"$f":"'Bordereau versement C'!L246","v":0}]
[{"$f":"'Bordereau versement C'!A247:D247","v":0},null,null,null,{"$f":"'Bordereau versement C'!E247","v":0},{"$f":"'Bordereau versement C'!F247:G247","v":0},null,{"$f":"'Bordereau versement C'!H247","v":0},{"$f":"'Bordereau versement C'!I247","v":0},{"$f":"'Bordereau versement C'!J247","v":0},{"$f":"'Bordereau versement C'!K247","v":0},{"$f":"'Bordereau versement C'!L247","v":0}]
[{"$f":"'Bordereau versement C'!A248:D248","v":0},null,null,null,{"$f":"'Bordereau versement C'!E248","v":0},{"$f":"'Bordereau versement C'!F248:G248","v":0},null,{"$f":"'Bordereau versement C'!H248","v":0},{"$f":"'Bordereau versement C'!I248","v":0},{"$f":"'Bordereau versement C'!J248","v":0},{"$f":"'Bordereau versement C'!K248","v":0},{"$f":"'Bordereau versement C'!L248","v":0}]
[{"$f":"'Bordereau versement C'!A249:D249","v":0},null,null,null,{"$f":"'Bordereau versement C'!E249","v":0},{"$f":"'Bordereau versement C'!F249:G249","v":0},null,{"$f":"'Bordereau versement C'!H249","v":0},{"$f":"'Bordereau versement C'!I249","v":0},{"$f":"'Bordereau versement C'!J249","v":0},{"$f":"'Bordereau versement C'!K249","v":0},{"$f":"'Bordereau versement C'!L249","v":0}]
[{"$f":"'Bordereau versement C'!A250:D250","v":0},null,null,null,{"$f":"'Bordereau versement C'!E250","v":0},{"$f":"'Bordereau versement C'!F250:G250","v":0},null,{"$f":"'Bordereau versement C'!H250","v":0},{"$f":"'Bordereau versement C'!I250","v":0},{"$f":"'Bordereau versement C'!J250","v":0},{"$f":"'Bordereau versement C'!K250","v":0},{"$f":"'Bordereau versement C'!L250","v":0}]
[{"$f":"'Bordereau versement C'!A251:D251","v":0},null,null,null,{"$f":"'Bordereau versement C'!E251","v":0},{"$f":"'Bordereau versement C'!F251:G251","v":0},null,{"$f":"'Bordereau versement C'!H251","v":0},{"$f":"'Bordereau versement C'!I251","v":0},{"$f":"'Bordereau versement C'!J251","v":0},{"$f":"'Bordereau versement C'!K251","v":0},{"$f":"'Bordereau versement C'!L251","v":0}]
[{"$f":"'Bordereau versement C'!A252:D252","v":0},null,null,null,{"$f":"'Bordereau versement C'!E252","v":0},{"$f":"'Bordereau versement C'!F252:G252","v":0},null,{"$f":"'Bordereau versement C'!H252","v":0},{"$f":"'Bordereau versement C'!I252","v":0},{"$f":"'Bordereau versement C'!J252","v":0},{"$f":"'Bordereau versement C'!K252","v":0},{"$f":"'Bordereau versement C'!L252","v":0}]
[{"$f":"'Bordereau versement C'!A253:D253","v":0},null,null,null,{"$f":"'Bordereau versement C'!E253","v":0},{"$f":"'Bordereau versement C'!F253:G253","v":0},null,{"$f":"'Bordereau versement C'!H253","v":0},{"$f":"'Bordereau versement C'!I253","v":0},{"$f":"'Bordereau versement C'!J253","v":0},{"$f":"'Bordereau versement C'!K253","v":0},{"$f":"'Bordereau versement C'!L253","v":0}]
[{"$f":"'Bordereau versement C'!A254:D254","v":0},null,null,null,{"$f":"'Bordereau versement C'!E254","v":0},{"$f":"'Bordereau versement C'!F254:G254","v":0},null,{"$f":"'Bordereau versement C'!H254","v":0},{"$f":"'Bordereau versement C'!I254","v":0},{"$f":"'Bordereau versement C'!J254","v":0},{"$f":"'Bordereau versement C'!K254","v":0},{"$f":"'Bordereau versement C'!L254","v":0}]
[{"$f":"'Bordereau versement C'!A255:D255","v":0},null,null,null,{"$f":"'Bordereau versement C'!E255","v":0},{"$f":"'Bordereau versement C'!F255:G255","v":0},null,{"$f":"'Bordereau versement C'!H255","v":0},{"$f":"'Bordereau versement C'!I255","v":0},{"$f":"'Bordereau versement C'!J255","v":0},{"$f":"'Bordereau versement C'!K255","v":0},{"$f":"'Bordereau versement C'!L255","v":0}]
[{"$f":"'Bordereau versement C'!A256:D256","v":0},null,null,null,{"$f":"'Bordereau versement C'!E256","v":0},{"$f":"'Bordereau versement C'!F256:G256","v":0},null,{"$f":"'Bordereau versement C'!H256","v":0},{"$f":"'Bordereau versement C'!I256","v":0},{"$f":"'Bordereau versement C'!J256","v":0},{"$f":"'Bordereau versement C'!K256","v":0},{"$f":"'Bordereau versement C'!L256","v":0}]
[{"$f":"'Bordereau versement C'!A257:D257","v":0},null,null,null,{"$f":"'Bordereau versement C'!E257","v":0},{"$f":"'Bordereau versement C'!F257:G257","v":0},null,{"$f":"'Bordereau versement C'!H257","v":0},{"$f":"'Bordereau versement C'!I257","v":0},{"$f":"'Bordereau versement C'!J257","v":0},{"$f":"'Bordereau versement C'!K257","v":0},{"$f":"'Bordereau versement C'!L257","v":0}]
[{"$f":"'Bordereau versement C'!A258:D258","v":0},null,null,null,{"$f":"'Bordereau versement C'!E258","v":0},{"$f":"'Bordereau versement C'!F258:G258","v":0},null,{"$f":"'Bordereau versement C'!H258","v":0},{"$f":"'Bordereau versement C'!I258","v":0},{"$f":"'Bordereau versement C'!J258","v":0},{"$f":"'Bordereau versement C'!K258","v":0},{"$f":"'Bordereau versement C'!L258","v":0}]
[{"$f":"'Bordereau versement C'!A259:D259","v":0},null,null,null,{"$f":"'Bordereau versement C'!E259","v":0},{"$f":"'Bordereau versement C'!F259:G259","v":0},null,{"$f":"'Bordereau versement C'!H259","v":0},{"$f":"'Bordereau versement C'!I259","v":0},{"$f":"'Bordereau versement C'!J259","v":0},{"$f":"'Bordereau versement C'!K259","v":0},{"$f":"'Bordereau versement C'!L259","v":0}]
["Total C",null,null,null,null,null,null,null,null,{"$f":"SUM(J521:J770)","v":0},{"$f":"SUM(K521:K770)","v":0},{"$f":"SUM(L521:L770)","v":0}]
[]
[]
["D. Remboursements depuis le versement précédent, à l'exclusion des ajustements de la partie C"]
["                                                                                                          Nom, prénom de la RSG",null,null,null,"No d'identification","Raison du remboursement",null,"Nombre de mois pour lesquels les frais ont été remboursés","Frais remboursés comprenant les taxes","TPS","TVQ"]
[{"$f":"'Bordereau versement D'!A10:D10","v":0},null,null,null,{"$f":"'Bordereau versement D'!E10","v":0},{"$f":"'Bordereau versement D'!F10:G10","v":0},null,{"$f":"'Bordereau versement D'!H10","v":0},{"$f":"'Bordereau versement D'!I10","v":0},{"$f":"'Bordereau versement D'!J10","v":0},{"$f":"'Bordereau versement D'!K10","v":0}]
[{"$f":"'Bordereau versement D'!A11:D11","v":0},null,null,null,{"$f":"'Bordereau versement D'!E11","v":0},{"$f":"'Bordereau versement D'!F11:G11","v":0},null,{"$f":"'Bordereau versement D'!H11","v":0},{"$f":"'Bordereau versement D'!I11","v":0},{"$f":"'Bordereau versement D'!J11","v":0},{"$f":"'Bordereau versement D'!K11","v":0}]
[{"$f":"'Bordereau versement D'!A12:D12","v":0},null,null,null,{"$f":"'Bordereau versement D'!E12","v":0},{"$f":"'Bordereau versement D'!F12:G12","v":0},null,{"$f":"'Bordereau versement D'!H12","v":0},{"$f":"'Bordereau versement D'!I12","v":0},{"$f":"'Bordereau versement D'!J12","v":0},{"$f":"'Bordereau versement D'!K12","v":0}]
[{"$f":"'Bordereau versement D'!A13:D13","v":0},null,null,null,{"$f":"'Bordereau versement D'!E13","v":0},{"$f":"'Bordereau versement D'!F13:G13","v":0},null,{"$f":"'Bordereau versement D'!H13","v":0},{"$f":"'Bordereau versement D'!I13","v":0},{"$f":"'Bordereau versement D'!J13","v":0},{"$f":"'Bordereau versement D'!K13","v":0}]
[{"$f":"'Bordereau versement D'!A14:D14","v":0},null,null,null,{"$f":"'Bordereau versement D'!E14","v":0},{"$f":"'Bordereau versement D'!F14:G14","v":0},null,{"$f":"'Bordereau versement D'!H14","v":0},{"$f":"'Bordereau versement D'!I14","v":0},{"$f":"'Bordereau versement D'!J14","v":0},{"$f":"'Bordereau versement D'!K14","v":0}]
[{"$f":"'Bordereau versement D'!A15:D15","v":0},null,null,null,{"$f":"'Bordereau versement D'!E15","v":0},{"$f":"'Bordereau versement D'!F15:G15","v":0},null,{"$f":"'Bordereau versement D'!H15","v":0},{"$f":"'Bordereau versement D'!I15","v":0},{"$f":"'Bordereau versement D'!J15","v":0},{"$f":"'Bordereau versement D'!K15","v":0}]
[{"$f":"'Bordereau versement D'!A16:D16","v":0},null,null,null,{"$f":"'Bordereau versement D'!E16","v":0},{"$f":"'Bordereau versement D'!F16:G16","v":0},null,{"$f":"'Bordereau versement D'!H16","v":0},{"$f":"'Bordereau versement D'!I16","v":0},{"$f":"'Bordereau versement D'!J16","v":0},{"$f":"'Bordereau versement D'!K16","v":0}]
[{"$f":"'Bordereau versement D'!A17:D17","v":0},null,null,null,{"$f":"'Bordereau versement D'!E17","v":0},{"$f":"'Bordereau versement D'!F17:G17","v":0},null,{"$f":"'Bordereau versement D'!H17","v":0},{"$f":"'Bordereau versement D'!I17","v":0},{"$f":"'Bordereau versement D'!J17","v":0},{"$f":"'Bordereau versement D'!K17","v":0}]
[{"$f":"'Bordereau versement D'!A18:D18","v":0},null,null,null,{"$f":"'Bordereau versement D'!E18","v":0},{"$f":"'Bordereau versement D'!F18:G18","v":0},null,{"$f":"'Bordereau versement D'!H18","v":0},{"$f":"'Bordereau versement D'!I18","v":0},{"$f":"'Bordereau versement D'!J18","v":0},{"$f":"'Bordereau versement D'!K18","v":0}]
[{"$f":"'Bordereau versement D'!A19:D19","v":0},null,null,null,{"$f":"'Bordereau versement D'!E19","v":0},{"$f":"'Bordereau versement D'!F19:G19","v":0},null,{"$f":"'Bordereau versement D'!H19","v":0},{"$f":"'Bordereau versement D'!I19","v":0},{"$f":"'Bordereau versement D'!J19","v":0},{"$f":"'Bordereau versement D'!K19","v":0}]
[{"$f":"'Bordereau versement D'!A20:D20","v":0},null,null,null,{"$f":"'Bordereau versement D'!E20","v":0},{"$f":"'Bordereau versement D'!F20:G20","v":0},null,{"$f":"'Bordereau versement D'!H20","v":0},{"$f":"'Bordereau versement D'!I20","v":0},{"$f":"'Bordereau versement D'!J20","v":0},{"$f":"'Bordereau versement D'!K20","v":0}]
[{"$f":"'Bordereau versement D'!A21:D21","v":0},null,null,null,{"$f":"'Bordereau versement D'!E21","v":0},{"$f":"'Bordereau versement D'!F21:G21","v":0},null,{"$f":"'Bordereau versement D'!H21","v":0},{"$f":"'Bordereau versement D'!I21","v":0},{"$f":"'Bordereau versement D'!J21","v":0},{"$f":"'Bordereau versement D'!K21","v":0}]
[{"$f":"'Bordereau versement D'!A22:D22","v":0},null,null,null,{"$f":"'Bordereau versement D'!E22","v":0},{"$f":"'Bordereau versement D'!F22:G22","v":0},null,{"$f":"'Bordereau versement D'!H22","v":0},{"$f":"'Bordereau versement D'!I22","v":0},{"$f":"'Bordereau versement D'!J22","v":0},{"$f":"'Bordereau versement D'!K22","v":0}]
[{"$f":"'Bordereau versement D'!A23:D23","v":0},null,null,null,{"$f":"'Bordereau versement D'!E23","v":0},{"$f":"'Bordereau versement D'!F23:G23","v":0},null,{"$f":"'Bordereau versement D'!H23","v":0},{"$f":"'Bordereau versement D'!I23","v":0},{"$f":"'Bordereau versement D'!J23","v":0},{"$f":"'Bordereau versement D'!K23","v":0}]
[{"$f":"'Bordereau versement D'!A24:D24","v":0},null,null,null,{"$f":"'Bordereau versement D'!E24","v":0},{"$f":"'Bordereau versement D'!F24:G24","v":0},null,{"$f":"'Bordereau versement D'!H24","v":0},{"$f":"'Bordereau versement D'!I24","v":0},{"$f":"'Bordereau versement D'!J24","v":0},{"$f":"'Bordereau versement D'!K24","v":0}]
[{"$f":"'Bordereau versement D'!A25:D25","v":0},null,null,null,{"$f":"'Bordereau versement D'!E25","v":0},{"$f":"'Bordereau versement D'!F25:G25","v":0},null,{"$f":"'Bordereau versement D'!H25","v":0},{"$f":"'Bordereau versement D'!I25","v":0},{"$f":"'Bordereau versement D'!J25","v":0},{"$f":"'Bordereau versement D'!K25","v":0}]
[{"$f":"'Bordereau versement D'!A26:D26","v":0},null,null,null,{"$f":"'Bordereau versement D'!E26","v":0},{"$f":"'Bordereau versement D'!F26:G26","v":0},null,{"$f":"'Bordereau versement D'!H26","v":0},{"$f":"'Bordereau versement D'!I26","v":0},{"$f":"'Bordereau versement D'!J26","v":0},{"$f":"'Bordereau versement D'!K26","v":0}]
[{"$f":"'Bordereau versement D'!A27:D27","v":0},null,null,null,{"$f":"'Bordereau versement D'!E27","v":0},{"$f":"'Bordereau versement D'!F27:G27","v":0},null,{"$f":"'Bordereau versement D'!H27","v":0},{"$f":"'Bordereau versement D'!I27","v":0},{"$f":"'Bordereau versement D'!J27","v":0},{"$f":"'Bordereau versement D'!K27","v":0}]
[{"$f":"'Bordereau versement D'!A28:D28","v":0},null,null,null,{"$f":"'Bordereau versement D'!E28","v":0},{"$f":"'Bordereau versement D'!F28:G28","v":0},null,{"$f":"'Bordereau versement D'!H28","v":0},{"$f":"'Bordereau versement D'!I28","v":0},{"$f":"'Bordereau versement D'!J28","v":0},{"$f":"'Bordereau versement D'!K28","v":0}]
[{"$f":"'Bordereau versement D'!A29:D29","v":0},null,null,null,{"$f":"'Bordereau versement D'!E29","v":0},{"$f":"'Bordereau versement D'!F29:G29","v":0},null,{"$f":"'Bordereau versement D'!H29","v":0},{"$f":"'Bordereau versement D'!I29","v":0},{"$f":"'Bordereau versement D'!J29","v":0},{"$f":"'Bordereau versement D'!K29","v":0}]
[{"$f":"'Bordereau versement D'!A30:D30","v":0},null,null,null,{"$f":"'Bordereau versement D'!E30","v":0},{"$f":"'Bordereau versement D'!F30:G30","v":0},null,{"$f":"'Bordereau versement D'!H30","v":0},{"$f":"'Bordereau versement D'!I30","v":0},{"$f":"'Bordereau versement D'!J30","v":0},{"$f":"'Bordereau versement D'!K30","v":0}]
[{"$f":"'Bordereau versement D'!A31:D31","v":0},null,null,null,{"$f":"'Bordereau versement D'!E31","v":0},{"$f":"'Bordereau versement D'!F31:G31","v":0},null,{"$f":"'Bordereau versement D'!H31","v":0},{"$f":"'Bordereau versement D'!I31","v":0},{"$f":"'Bordereau versement D'!J31","v":0},{"$f":"'Bordereau versement D'!K31","v":0}]
[{"$f":"'Bordereau versement D'!A32:D32","v":0},null,null,null,{"$f":"'Bordereau versement D'!E32","v":0},{"$f":"'Bordereau versement D'!F32:G32","v":0},null,{"$f":"'Bordereau versement D'!H32","v":0},{"$f":"'Bordereau versement D'!I32","v":0},{"$f":"'Bordereau versement D'!J32","v":0},{"$f":"'Bordereau versement D'!K32","v":0}]
[{"$f":"'Bordereau versement D'!A33:D33","v":0},null,null,null,{"$f":"'Bordereau versement D'!E33","v":0},{"$f":"'Bordereau versement D'!F33:G33","v":0},null,{"$f":"'Bordereau versement D'!H33","v":0},{"$f":"'Bordereau versement D'!I33","v":0},{"$f":"'Bordereau versement D'!J33","v":0},{"$f":"'Bordereau versement D'!K33","v":0}]
[{"$f":"'Bordereau versement D'!A34:D34","v":0},null,null,null,{"$f":"'Bordereau versement D'!E34","v":0},{"$f":"'Bordereau versement D'!F34:G34","v":0},null,{"$f":"'Bordereau versement D'!H34","v":0},{"$f":"'Bordereau versement D'!I34","v":0},{"$f":"'Bordereau versement D'!J34","v":0},{"$f":"'Bordereau versement D'!K34","v":0}]
[{"$f":"'Bordereau versement D'!A35:D35","v":0},null,null,null,{"$f":"'Bordereau versement D'!E35","v":0},{"$f":"'Bordereau versement D'!F35:G35","v":0},null,{"$f":"'Bordereau versement D'!H35","v":0},{"$f":"'Bordereau versement D'!I35","v":0},{"$f":"'Bordereau versement D'!J35","v":0},{"$f":"'Bordereau versement D'!K35","v":0}]
[{"$f":"'Bordereau versement D'!A36:D36","v":0},null,null,null,{"$f":"'Bordereau versement D'!E36","v":0},{"$f":"'Bordereau versement D'!F36:G36","v":0},null,{"$f":"'Bordereau versement D'!H36","v":0},{"$f":"'Bordereau versement D'!I36","v":0},{"$f":"'Bordereau versement D'!J36","v":0},{"$f":"'Bordereau versement D'!K36","v":0}]
[{"$f":"'Bordereau versement D'!A37:D37","v":0},null,null,null,{"$f":"'Bordereau versement D'!E37","v":0},{"$f":"'Bordereau versement D'!F37:G37","v":0},null,{"$f":"'Bordereau versement D'!H37","v":0},{"$f":"'Bordereau versement D'!I37","v":0},{"$f":"'Bordereau versement D'!J37","v":0},{"$f":"'Bordereau versement D'!K37","v":0}]
[{"$f":"'Bordereau versement D'!A38:D38","v":0},null,null,null,{"$f":"'Bordereau versement D'!E38","v":0},{"$f":"'Bordereau versement D'!F38:G38","v":0},null,{"$f":"'Bordereau versement D'!H38","v":0},{"$f":"'Bordereau versement D'!I38","v":0},{"$f":"'Bordereau versement D'!J38","v":0},{"$f":"'Bordereau versement D'!K38","v":0}]
[{"$f":"'Bordereau versement D'!A39:D39","v":0},null,null,null,{"$f":"'Bordereau versement D'!E39","v":0},{"$f":"'Bordereau versement D'!F39:G39","v":0},null,{"$f":"'Bordereau versement D'!H39","v":0},{"$f":"'Bordereau versement D'!I39","v":0},{"$f":"'Bordereau versement D'!J39","v":0},{"$f":"'Bordereau versement D'!K39","v":0}]
[{"$f":"'Bordereau versement D'!A40:D40","v":0},null,null,null,{"$f":"'Bordereau versement D'!E40","v":0},{"$f":"'Bordereau versement D'!F40:G40","v":0},null,{"$f":"'Bordereau versement D'!H40","v":0},{"$f":"'Bordereau versement D'!I40","v":0},{"$f":"'Bordereau versement D'!J40","v":0},{"$f":"'Bordereau versement D'!K40","v":0}]
[{"$f":"'Bordereau versement D'!A41:D41","v":0},null,null,null,{"$f":"'Bordereau versement D'!E41","v":0},{"$f":"'Bordereau versement D'!F41:G41","v":0},null,{"$f":"'Bordereau versement D'!H41","v":0},{"$f":"'Bordereau versement D'!I41","v":0},{"$f":"'Bordereau versement D'!J41","v":0},{"$f":"'Bordereau versement D'!K41","v":0}]
[{"$f":"'Bordereau versement D'!A42:D42","v":0},null,null,null,{"$f":"'Bordereau versement D'!E42","v":0},{"$f":"'Bordereau versement D'!F42:G42","v":0},null,{"$f":"'Bordereau versement D'!H42","v":0},{"$f":"'Bordereau versement D'!I42","v":0},{"$f":"'Bordereau versement D'!J42","v":0},{"$f":"'Bordereau versement D'!K42","v":0}]
[{"$f":"'Bordereau versement D'!A43:D43","v":0},null,null,null,{"$f":"'Bordereau versement D'!E43","v":0},{"$f":"'Bordereau versement D'!F43:G43","v":0},null,{"$f":"'Bordereau versement D'!H43","v":0},{"$f":"'Bordereau versement D'!I43","v":0},{"$f":"'Bordereau versement D'!J43","v":0},{"$f":"'Bordereau versement D'!K43","v":0}]
[{"$f":"'Bordereau versement D'!A44:D44","v":0},null,null,null,{"$f":"'Bordereau versement D'!E44","v":0},{"$f":"'Bordereau versement D'!F44:G44","v":0},null,{"$f":"'Bordereau versement D'!H44","v":0},{"$f":"'Bordereau versement D'!I44","v":0},{"$f":"'Bordereau versement D'!J44","v":0},{"$f":"'Bordereau versement D'!K44","v":0}]
[{"$f":"'Bordereau versement D'!A45:D45","v":0},null,null,null,{"$f":"'Bordereau versement D'!E45","v":0},{"$f":"'Bordereau versement D'!F45:G45","v":0},null,{"$f":"'Bordereau versement D'!H45","v":0},{"$f":"'Bordereau versement D'!I45","v":0},{"$f":"'Bordereau versement D'!J45","v":0},{"$f":"'Bordereau versement D'!K45","v":0}]
[{"$f":"'Bordereau versement D'!A46:D46","v":0},null,null,null,{"$f":"'Bordereau versement D'!E46","v":0},{"$f":"'Bordereau versement D'!F46:G46","v":0},null,{"$f":"'Bordereau versement D'!H46","v":0},{"$f":"'Bordereau versement D'!I46","v":0},{"$f":"'Bordereau versement D'!J46","v":0},{"$f":"'Bordereau versement D'!K46","v":0}]
[{"$f":"'Bordereau versement D'!A47:D47","v":0},null,null,null,{"$f":"'Bordereau versement D'!E47","v":0},{"$f":"'Bordereau versement D'!F47:G47","v":0},null,{"$f":"'Bordereau versement D'!H47","v":0},{"$f":"'Bordereau versement D'!I47","v":0},{"$f":"'Bordereau versement D'!J47","v":0},{"$f":"'Bordereau versement D'!K47","v":0}]
[{"$f":"'Bordereau versement D'!A48:D48","v":0},null,null,null,{"$f":"'Bordereau versement D'!E48","v":0},{"$f":"'Bordereau versement D'!F48:G48","v":0},null,{"$f":"'Bordereau versement D'!H48","v":0},{"$f":"'Bordereau versement D'!I48","v":0},{"$f":"'Bordereau versement D'!J48","v":0},{"$f":"'Bordereau versement D'!K48","v":0}]
[{"$f":"'Bordereau versement D'!A49:D49","v":0},null,null,null,{"$f":"'Bordereau versement D'!E49","v":0},{"$f":"'Bordereau versement D'!F49:G49","v":0},null,{"$f":"'Bordereau versement D'!H49","v":0},{"$f":"'Bordereau versement D'!I49","v":0},{"$f":"'Bordereau versement D'!J49","v":0},{"$f":"'Bordereau versement D'!K49","v":0}]
[{"$f":"'Bordereau versement D'!A50:D50","v":0},null,null,null,{"$f":"'Bordereau versement D'!E50","v":0},{"$f":"'Bordereau versement D'!F50:G50","v":0},null,{"$f":"'Bordereau versement D'!H50","v":0},{"$f":"'Bordereau versement D'!I50","v":0},{"$f":"'Bordereau versement D'!J50","v":0},{"$f":"'Bordereau versement D'!K50","v":0}]
[{"$f":"'Bordereau versement D'!A51:D51","v":0},null,null,null,{"$f":"'Bordereau versement D'!E51","v":0},{"$f":"'Bordereau versement D'!F51:G51","v":0},null,{"$f":"'Bordereau versement D'!H51","v":0},{"$f":"'Bordereau versement D'!I51","v":0},{"$f":"'Bordereau versement D'!J51","v":0},{"$f":"'Bordereau versement D'!K51","v":0}]
[{"$f":"'Bordereau versement D'!A52:D52","v":0},null,null,null,{"$f":"'Bordereau versement D'!E52","v":0},{"$f":"'Bordereau versement D'!F52:G52","v":0},null,{"$f":"'Bordereau versement D'!H52","v":0},{"$f":"'Bordereau versement D'!I52","v":0},{"$f":"'Bordereau versement D'!J52","v":0},{"$f":"'Bordereau versement D'!K52","v":0}]
[{"$f":"'Bordereau versement D'!A53:D53","v":0},null,null,null,{"$f":"'Bordereau versement D'!E53","v":0},{"$f":"'Bordereau versement D'!F53:G53","v":0},null,{"$f":"'Bordereau versement D'!H53","v":0},{"$f":"'Bordereau versement D'!I53","v":0},{"$f":"'Bordereau versement D'!J53","v":0},{"$f":"'Bordereau versement D'!K53","v":0}]
[{"$f":"'Bordereau versement D'!A54:D54","v":0},null,null,null,{"$f":"'Bordereau versement D'!E54","v":0},{"$f":"'Bordereau versement D'!F54:G54","v":0},null,{"$f":"'Bordereau versement D'!H54","v":0},{"$f":"'Bordereau versement D'!I54","v":0},{"$f":"'Bordereau versement D'!J54","v":0},{"$f":"'Bordereau versement D'!K54","v":0}]
[{"$f":"'Bordereau versement D'!A55:D55","v":0},null,null,null,{"$f":"'Bordereau versement D'!E55","v":0},{"$f":"'Bordereau versement D'!F55:G55","v":0},null,{"$f":"'Bordereau versement D'!H55","v":0},{"$f":"'Bordereau versement D'!I55","v":0},{"$f":"'Bordereau versement D'!J55","v":0},{"$f":"'Bordereau versement D'!K55","v":0}]
[{"$f":"'Bordereau versement D'!A56:D56","v":0},null,null,null,{"$f":"'Bordereau versement D'!E56","v":0},{"$f":"'Bordereau versement D'!F56:G56","v":0},null,{"$f":"'Bordereau versement D'!H56","v":0},{"$f":"'Bordereau versement D'!I56","v":0},{"$f":"'Bordereau versement D'!J56","v":0},{"$f":"'Bordereau versement D'!K56","v":0}]
[{"$f":"'Bordereau versement D'!A57:D57","v":0},null,null,null,{"$f":"'Bordereau versement D'!E57","v":0},{"$f":"'Bordereau versement D'!F57:G57","v":0},null,{"$f":"'Bordereau versement D'!H57","v":0},{"$f":"'Bordereau versement D'!I57","v":0},{"$f":"'Bordereau versement D'!J57","v":0},{"$f":"'Bordereau versement D'!K57","v":0}]
[{"$f":"'Bordereau versement D'!A58:D58","v":0},null,null,null,{"$f":"'Bordereau versement D'!E58","v":0},{"$f":"'Bordereau versement D'!F58:G58","v":0},null,{"$f":"'Bordereau versement D'!H58","v":0},{"$f":"'Bordereau versement D'!I58","v":0},{"$f":"'Bordereau versement D'!J58","v":0},{"$f":"'Bordereau versement D'!K58","v":0}]
[{"$f":"'Bordereau versement D'!A59:D59","v":0},null,null,null,{"$f":"'Bordereau versement D'!E59","v":0},{"$f":"'Bordereau versement D'!F59:G59","v":0},null,{"$f":"'Bordereau versement D'!H59","v":0},{"$f":"'Bordereau versement D'!I59","v":0},{"$f":"'Bordereau versement D'!J59","v":0},{"$f":"'Bordereau versement D'!K59","v":0}]
[{"$f":"'Bordereau versement D'!A60:D60","v":0},null,null,null,{"$f":"'Bordereau versement D'!E60","v":0},{"$f":"'Bordereau versement D'!F60:G60","v":0},null,{"$f":"'Bordereau versement D'!H60","v":0},{"$f":"'Bordereau versement D'!I60","v":0},{"$f":"'Bordereau versement D'!J60","v":0},{"$f":"'Bordereau versement D'!K60","v":0}]
[{"$f":"'Bordereau versement D'!A61:D61","v":0},null,null,null,{"$f":"'Bordereau versement D'!E61","v":0},{"$f":"'Bordereau versement D'!F61:G61","v":0},null,{"$f":"'Bordereau versement D'!H61","v":0},{"$f":"'Bordereau versement D'!I61","v":0},{"$f":"'Bordereau versement D'!J61","v":0},{"$f":"'Bordereau versement D'!K61","v":0}]
[{"$f":"'Bordereau versement D'!A62:D62","v":0},null,null,null,{"$f":"'Bordereau versement D'!E62","v":0},{"$f":"'Bordereau versement D'!F62:G62","v":0},null,{"$f":"'Bordereau versement D'!H62","v":0},{"$f":"'Bordereau versement D'!I62","v":0},{"$f":"'Bordereau versement D'!J62","v":0},{"$f":"'Bordereau versement D'!K62","v":0}]
[{"$f":"'Bordereau versement D'!A63:D63","v":0},null,null,null,{"$f":"'Bordereau versement D'!E63","v":0},{"$f":"'Bordereau versement D'!F63:G63","v":0},null,{"$f":"'Bordereau versement D'!H63","v":0},{"$f":"'Bordereau versement D'!I63","v":0},{"$f":"'Bordereau versement D'!J63","v":0},{"$f":"'Bordereau versement D'!K63","v":0}]
[{"$f":"'Bordereau versement D'!A64:D64","v":0},null,null,null,{"$f":"'Bordereau versement D'!E64","v":0},{"$f":"'Bordereau versement D'!F64:G64","v":0},null,{"$f":"'Bordereau versement D'!H64","v":0},{"$f":"'Bordereau versement D'!I64","v":0},{"$f":"'Bordereau versement D'!J64","v":0},{"$f":"'Bordereau versement D'!K64","v":0}]
[{"$f":"'Bordereau versement D'!A65:D65","v":0},null,null,null,{"$f":"'Bordereau versement D'!E65","v":0},{"$f":"'Bordereau versement D'!F65:G65","v":0},null,{"$f":"'Bordereau versement D'!H65","v":0},{"$f":"'Bordereau versement D'!I65","v":0},{"$f":"'Bordereau versement D'!J65","v":0},{"$f":"'Bordereau versement D'!K65","v":0}]
[{"$f":"'Bordereau versement D'!A66:D66","v":0},null,null,null,{"$f":"'Bordereau versement D'!E66","v":0},{"$f":"'Bordereau versement D'!F66:G66","v":0},null,{"$f":"'Bordereau versement D'!H66","v":0},{"$f":"'Bordereau versement D'!I66","v":0},{"$f":"'Bordereau versement D'!J66","v":0},{"$f":"'Bordereau versement D'!K66","v":0}]
[{"$f":"'Bordereau versement D'!A67:D67","v":0},null,null,null,{"$f":"'Bordereau versement D'!E67","v":0},{"$f":"'Bordereau versement D'!F67:G67","v":0},null,{"$f":"'Bordereau versement D'!H67","v":0},{"$f":"'Bordereau versement D'!I67","v":0},{"$f":"'Bordereau versement D'!J67","v":0},{"$f":"'Bordereau versement D'!K67","v":0}]
[{"$f":"'Bordereau versement D'!A68:D68","v":0},null,null,null,{"$f":"'Bordereau versement D'!E68","v":0},{"$f":"'Bordereau versement D'!F68:G68","v":0},null,{"$f":"'Bordereau versement D'!H68","v":0},{"$f":"'Bordereau versement D'!I68","v":0},{"$f":"'Bordereau versement D'!J68","v":0},{"$f":"'Bordereau versement D'!K68","v":0}]
[{"$f":"'Bordereau versement D'!A69:D69","v":0},null,null,null,{"$f":"'Bordereau versement D'!E69","v":0},{"$f":"'Bordereau versement D'!F69:G69","v":0},null,{"$f":"'Bordereau versement D'!H69","v":0},{"$f":"'Bordereau versement D'!I69","v":0},{"$f":"'Bordereau versement D'!J69","v":0},{"$f":"'Bordereau versement D'!K69","v":0}]
[{"$f":"'Bordereau versement D'!A70:D70","v":0},null,null,null,{"$f":"'Bordereau versement D'!E70","v":0},{"$f":"'Bordereau versement D'!F70:G70","v":0},null,{"$f":"'Bordereau versement D'!H70","v":0},{"$f":"'Bordereau versement D'!I70","v":0},{"$f":"'Bordereau versement D'!J70","v":0},{"$f":"'Bordereau versement D'!K70","v":0}]
[{"$f":"'Bordereau versement D'!A71:D71","v":0},null,null,null,{"$f":"'Bordereau versement D'!E71","v":0},{"$f":"'Bordereau versement D'!F71:G71","v":0},null,{"$f":"'Bordereau versement D'!H71","v":0},{"$f":"'Bordereau versement D'!I71","v":0},{"$f":"'Bordereau versement D'!J71","v":0},{"$f":"'Bordereau versement D'!K71","v":0}]
[{"$f":"'Bordereau versement D'!A72:D72","v":0},null,null,null,{"$f":"'Bordereau versement D'!E72","v":0},{"$f":"'Bordereau versement D'!F72:G72","v":0},null,{"$f":"'Bordereau versement D'!H72","v":0},{"$f":"'Bordereau versement D'!I72","v":0},{"$f":"'Bordereau versement D'!J72","v":0},{"$f":"'Bordereau versement D'!K72","v":0}]
[{"$f":"'Bordereau versement D'!A73:D73","v":0},null,null,null,{"$f":"'Bordereau versement D'!E73","v":0},{"$f":"'Bordereau versement D'!F73:G73","v":0},null,{"$f":"'Bordereau versement D'!H73","v":0},{"$f":"'Bordereau versement D'!I73","v":0},{"$f":"'Bordereau versement D'!J73","v":0},{"$f":"'Bordereau versement D'!K73","v":0}]
[{"$f":"'Bordereau versement D'!A74:D74","v":0},null,null,null,{"$f":"'Bordereau versement D'!E74","v":0},{"$f":"'Bordereau versement D'!F74:G74","v":0},null,{"$f":"'Bordereau versement D'!H74","v":0},{"$f":"'Bordereau versement D'!I74","v":0},{"$f":"'Bordereau versement D'!J74","v":0},{"$f":"'Bordereau versement D'!K74","v":0}]
[{"$f":"'Bordereau versement D'!A75:D75","v":0},null,null,null,{"$f":"'Bordereau versement D'!E75","v":0},{"$f":"'Bordereau versement D'!F75:G75","v":0},null,{"$f":"'Bordereau versement D'!H75","v":0},{"$f":"'Bordereau versement D'!I75","v":0},{"$f":"'Bordereau versement D'!J75","v":0},{"$f":"'Bordereau versement D'!K75","v":0}]
[{"$f":"'Bordereau versement D'!A76:D76","v":0},null,null,null,{"$f":"'Bordereau versement D'!E76","v":0},{"$f":"'Bordereau versement D'!F76:G76","v":0},null,{"$f":"'Bordereau versement D'!H76","v":0},{"$f":"'Bordereau versement D'!I76","v":0},{"$f":"'Bordereau versement D'!J76","v":0},{"$f":"'Bordereau versement D'!K76","v":0}]
[{"$f":"'Bordereau versement D'!A77:D77","v":0},null,null,null,{"$f":"'Bordereau versement D'!E77","v":0},{"$f":"'Bordereau versement D'!F77:G77","v":0},null,{"$f":"'Bordereau versement D'!H77","v":0},{"$f":"'Bordereau versement D'!I77","v":0},{"$f":"'Bordereau versement D'!J77","v":0},{"$f":"'Bordereau versement D'!K77","v":0}]
[{"$f":"'Bordereau versement D'!A78:D78","v":0},null,null,null,{"$f":"'Bordereau versement D'!E78","v":0},{"$f":"'Bordereau versement D'!F78:G78","v":0},null,{"$f":"'Bordereau versement D'!H78","v":0},{"$f":"'Bordereau versement D'!I78","v":0},{"$f":"'Bordereau versement D'!J78","v":0},{"$f":"'Bordereau versement D'!K78","v":0}]
[{"$f":"'Bordereau versement D'!A79:D79","v":0},null,null,null,{"$f":"'Bordereau versement D'!E79","v":0},{"$f":"'Bordereau versement D'!F79:G79","v":0},null,{"$f":"'Bordereau versement D'!H79","v":0},{"$f":"'Bordereau versement D'!I79","v":0},{"$f":"'Bordereau versement D'!J79","v":0},{"$f":"'Bordereau versement D'!K79","v":0}]
[{"$f":"'Bordereau versement D'!A80:D80","v":0},null,null,null,{"$f":"'Bordereau versement D'!E80","v":0},{"$f":"'Bordereau versement D'!F80:G80","v":0},null,{"$f":"'Bordereau versement D'!H80","v":0},{"$f":"'Bordereau versement D'!I80","v":0},{"$f":"'Bordereau versement D'!J80","v":0},{"$f":"'Bordereau versement D'!K80","v":0}]
[{"$f":"'Bordereau versement D'!A81:D81","v":0},null,null,null,{"$f":"'Bordereau versement D'!E81","v":0},{"$f":"'Bordereau versement D'!F81:G81","v":0},null,{"$f":"'Bordereau versement D'!H81","v":0},{"$f":"'Bordereau versement D'!I81","v":0},{"$f":"'Bordereau versement D'!J81","v":0},{"$f":"'Bordereau versement D'!K81","v":0}]
[{"$f":"'Bordereau versement D'!A82:D82","v":0},null,null,null,{"$f":"'Bordereau versement D'!E82","v":0},{"$f":"'Bordereau versement D'!F82:G82","v":0},null,{"$f":"'Bordereau versement D'!H82","v":0},{"$f":"'Bordereau versement D'!I82","v":0},{"$f":"'Bordereau versement D'!J82","v":0},{"$f":"'Bordereau versement D'!K82","v":0}]
[{"$f":"'Bordereau versement D'!A83:D83","v":0},null,null,null,{"$f":"'Bordereau versement D'!E83","v":0},{"$f":"'Bordereau versement D'!F83:G83","v":0},null,{"$f":"'Bordereau versement D'!H83","v":0},{"$f":"'Bordereau versement D'!I83","v":0},{"$f":"'Bordereau versement D'!J83","v":0},{"$f":"'Bordereau versement D'!K83","v":0}]
[{"$f":"'Bordereau versement D'!A84:D84","v":0},null,null,null,{"$f":"'Bordereau versement D'!E84","v":0},{"$f":"'Bordereau versement D'!F84:G84","v":0},null,{"$f":"'Bordereau versement D'!H84","v":0},{"$f":"'Bordereau versement D'!I84","v":0},{"$f":"'Bordereau versement D'!J84","v":0},{"$f":"'Bordereau versement D'!K84","v":0}]
[{"$f":"'Bordereau versement D'!A85:D85","v":0},null,null,null,{"$f":"'Bordereau versement D'!E85","v":0},{"$f":"'Bordereau versement D'!F85:G85","v":0},null,{"$f":"'Bordereau versement D'!H85","v":0},{"$f":"'Bordereau versement D'!I85","v":0},{"$f":"'Bordereau versement D'!J85","v":0},{"$f":"'Bordereau versement D'!K85","v":0}]
[{"$f":"'Bordereau versement D'!A86:D86","v":0},null,null,null,{"$f":"'Bordereau versement D'!E86","v":0},{"$f":"'Bordereau versement D'!F86:G86","v":0},null,{"$f":"'Bordereau versement D'!H86","v":0},{"$f":"'Bordereau versement D'!I86","v":0},{"$f":"'Bordereau versement D'!J86","v":0},{"$f":"'Bordereau versement D'!K86","v":0}]
[{"$f":"'Bordereau versement D'!A87:D87","v":0},null,null,null,{"$f":"'Bordereau versement D'!E87","v":0},{"$f":"'Bordereau versement D'!F87:G87","v":0},null,{"$f":"'Bordereau versement D'!H87","v":0},{"$f":"'Bordereau versement D'!I87","v":0},{"$f":"'Bordereau versement D'!J87","v":0},{"$f":"'Bordereau versement D'!K87","v":0}]
[{"$f":"'Bordereau versement D'!A88:D88","v":0},null,null,null,{"$f":"'Bordereau versement D'!E88","v":0},{"$f":"'Bordereau versement D'!F88:G88","v":0},null,{"$f":"'Bordereau versement D'!H88","v":0},{"$f":"'Bordereau versement D'!I88","v":0},{"$f":"'Bordereau versement D'!J88","v":0},{"$f":"'Bordereau versement D'!K88","v":0}]
[{"$f":"'Bordereau versement D'!A89:D89","v":0},null,null,null,{"$f":"'Bordereau versement D'!E89","v":0},{"$f":"'Bordereau versement D'!F89:G89","v":0},null,{"$f":"'Bordereau versement D'!H89","v":0},{"$f":"'Bordereau versement D'!I89","v":0},{"$f":"'Bordereau versement D'!J89","v":0},{"$f":"'Bordereau versement D'!K89","v":0}]
[{"$f":"'Bordereau versement D'!A90:D90","v":0},null,null,null,{"$f":"'Bordereau versement D'!E90","v":0},{"$f":"'Bordereau versement D'!F90:G90","v":0},null,{"$f":"'Bordereau versement D'!H90","v":0},{"$f":"'Bordereau versement D'!I90","v":0},{"$f":"'Bordereau versement D'!J90","v":0},{"$f":"'Bordereau versement D'!K90","v":0}]
[{"$f":"'Bordereau versement D'!A91:D91","v":0},null,null,null,{"$f":"'Bordereau versement D'!E91","v":0},{"$f":"'Bordereau versement D'!F91:G91","v":0},null,{"$f":"'Bordereau versement D'!H91","v":0},{"$f":"'Bordereau versement D'!I91","v":0},{"$f":"'Bordereau versement D'!J91","v":0},{"$f":"'Bordereau versement D'!K91","v":0}]
[{"$f":"'Bordereau versement D'!A92:D92","v":0},null,null,null,{"$f":"'Bordereau versement D'!E92","v":0},{"$f":"'Bordereau versement D'!F92:G92","v":0},null,{"$f":"'Bordereau versement D'!H92","v":0},{"$f":"'Bordereau versement D'!I92","v":0},{"$f":"'Bordereau versement D'!J92","v":0},{"$f":"'Bordereau versement D'!K92","v":0}]
[{"$f":"'Bordereau versement D'!A93:D93","v":0},null,null,null,{"$f":"'Bordereau versement D'!E93","v":0},{"$f":"'Bordereau versement D'!F93:G93","v":0},null,{"$f":"'Bordereau versement D'!H93","v":0},{"$f":"'Bordereau versement D'!I93","v":0},{"$f":"'Bordereau versement D'!J93","v":0},{"$f":"'Bordereau versement D'!K93","v":0}]
[{"$f":"'Bordereau versement D'!A94:D94","v":0},null,null,null,{"$f":"'Bordereau versement D'!E94","v":0},{"$f":"'Bordereau versement D'!F94:G94","v":0},null,{"$f":"'Bordereau versement D'!H94","v":0},{"$f":"'Bordereau versement D'!I94","v":0},{"$f":"'Bordereau versement D'!J94","v":0},{"$f":"'Bordereau versement D'!K94","v":0}]
[{"$f":"'Bordereau versement D'!A95:D95","v":0},null,null,null,{"$f":"'Bordereau versement D'!E95","v":0},{"$f":"'Bordereau versement D'!F95:G95","v":0},null,{"$f":"'Bordereau versement D'!H95","v":0},{"$f":"'Bordereau versement D'!I95","v":0},{"$f":"'Bordereau versement D'!J95","v":0},{"$f":"'Bordereau versement D'!K95","v":0}]
[{"$f":"'Bordereau versement D'!A96:D96","v":0},null,null,null,{"$f":"'Bordereau versement D'!E96","v":0},{"$f":"'Bordereau versement D'!F96:G96","v":0},null,{"$f":"'Bordereau versement D'!H96","v":0},{"$f":"'Bordereau versement D'!I96","v":0},{"$f":"'Bordereau versement D'!J96","v":0},{"$f":"'Bordereau versement D'!K96","v":0}]
[{"$f":"'Bordereau versement D'!A97:D97","v":0},null,null,null,{"$f":"'Bordereau versement D'!E97","v":0},{"$f":"'Bordereau versement D'!F97:G97","v":0},null,{"$f":"'Bordereau versement D'!H97","v":0},{"$f":"'Bordereau versement D'!I97","v":0},{"$f":"'Bordereau versement D'!J97","v":0},{"$f":"'Bordereau versement D'!K97","v":0}]
[{"$f":"'Bordereau versement D'!A98:D98","v":0},null,null,null,{"$f":"'Bordereau versement D'!E98","v":0},{"$f":"'Bordereau versement D'!F98:G98","v":0},null,{"$f":"'Bordereau versement D'!H98","v":0},{"$f":"'Bordereau versement D'!I98","v":0},{"$f":"'Bordereau versement D'!J98","v":0},{"$f":"'Bordereau versement D'!K98","v":0}]
[{"$f":"'Bordereau versement D'!A99:D99","v":0},null,null,null,{"$f":"'Bordereau versement D'!E99","v":0},{"$f":"'Bordereau versement D'!F99:G99","v":0},null,{"$f":"'Bordereau versement D'!H99","v":0},{"$f":"'Bordereau versement D'!I99","v":0},{"$f":"'Bordereau versement D'!J99","v":0},{"$f":"'Bordereau versement D'!K99","v":0}]
[{"$f":"'Bordereau versement D'!A100:D100","v":0},null,null,null,{"$f":"'Bordereau versement D'!E100","v":0},{"$f":"'Bordereau versement D'!F100:G100","v":0},null,{"$f":"'Bordereau versement D'!H100","v":0},{"$f":"'Bordereau versement D'!I100","v":0},{"$f":"'Bordereau versement D'!J100","v":0},{"$f":"'Bordereau versement D'!K100","v":0}]
[{"$f":"'Bordereau versement D'!A101:D101","v":0},null,null,null,{"$f":"'Bordereau versement D'!E101","v":0},{"$f":"'Bordereau versement D'!F101:G101","v":0},null,{"$f":"'Bordereau versement D'!H101","v":0},{"$f":"'Bordereau versement D'!I101","v":0},{"$f":"'Bordereau versement D'!J101","v":0},{"$f":"'Bordereau versement D'!K101","v":0}]
[{"$f":"'Bordereau versement D'!A102:D102","v":0},null,null,null,{"$f":"'Bordereau versement D'!E102","v":0},{"$f":"'Bordereau versement D'!F102:G102","v":0},null,{"$f":"'Bordereau versement D'!H102","v":0},{"$f":"'Bordereau versement D'!I102","v":0},{"$f":"'Bordereau versement D'!J102","v":0},{"$f":"'Bordereau versement D'!K102","v":0}]
[{"$f":"'Bordereau versement D'!A103:D103","v":0},null,null,null,{"$f":"'Bordereau versement D'!E103","v":0},{"$f":"'Bordereau versement D'!F103:G103","v":0},null,{"$f":"'Bordereau versement D'!H103","v":0},{"$f":"'Bordereau versement D'!I103","v":0},{"$f":"'Bordereau versement D'!J103","v":0},{"$f":"'Bordereau versement D'!K103","v":0}]
[{"$f":"'Bordereau versement D'!A104:D104","v":0},null,null,null,{"$f":"'Bordereau versement D'!E104","v":0},{"$f":"'Bordereau versement D'!F104:G104","v":0},null,{"$f":"'Bordereau versement D'!H104","v":0},{"$f":"'Bordereau versement D'!I104","v":0},{"$f":"'Bordereau versement D'!J104","v":0},{"$f":"'Bordereau versement D'!K104","v":0}]
[{"$f":"'Bordereau versement D'!A105:D105","v":0},null,null,null,{"$f":"'Bordereau versement D'!E105","v":0},{"$f":"'Bordereau versement D'!F105:G105","v":0},null,{"$f":"'Bordereau versement D'!H105","v":0},{"$f":"'Bordereau versement D'!I105","v":0},{"$f":"'Bordereau versement D'!J105","v":0},{"$f":"'Bordereau versement D'!K105","v":0}]
[{"$f":"'Bordereau versement D'!A106:D106","v":0},null,null,null,{"$f":"'Bordereau versement D'!E106","v":0},{"$f":"'Bordereau versement D'!F106:G106","v":0},null,{"$f":"'Bordereau versement D'!H106","v":0},{"$f":"'Bordereau versement D'!I106","v":0},{"$f":"'Bordereau versement D'!J106","v":0},{"$f":"'Bordereau versement D'!K106","v":0}]
[{"$f":"'Bordereau versement D'!A107:D107","v":0},null,null,null,{"$f":"'Bordereau versement D'!E107","v":0},{"$f":"'Bordereau versement D'!F107:G107","v":0},null,{"$f":"'Bordereau versement D'!H107","v":0},{"$f":"'Bordereau versement D'!I107","v":0},{"$f":"'Bordereau versement D'!J107","v":0},{"$f":"'Bordereau versement D'!K107","v":0}]
[{"$f":"'Bordereau versement D'!A108:D108","v":0},null,null,null,{"$f":"'Bordereau versement D'!E108","v":0},{"$f":"'Bordereau versement D'!F108:G108","v":0},null,{"$f":"'Bordereau versement D'!H108","v":0},{"$f":"'Bordereau versement D'!I108","v":0},{"$f":"'Bordereau versement D'!J108","v":0},{"$f":"'Bordereau versement D'!K108","v":0}]
[{"$f":"'Bordereau versement D'!A109:D109","v":0},null,null,null,{"$f":"'Bordereau versement D'!E109","v":0},{"$f":"'Bordereau versement D'!F109:G109","v":0},null,{"$f":"'Bordereau versement D'!H109","v":0},{"$f":"'Bordereau versement D'!I109","v":0},{"$f":"'Bordereau versement D'!J109","v":0},{"$f":"'Bordereau versement D'!K109","v":0}]
[{"$f":"'Bordereau versement D'!A110:D110","v":0},null,null,null,{"$f":"'Bordereau versement D'!E110","v":0},{"$f":"'Bordereau versement D'!F110:G110","v":0},null,{"$f":"'Bordereau versement D'!H110","v":0},{"$f":"'Bordereau versement D'!I110","v":0},{"$f":"'Bordereau versement D'!J110","v":0},{"$f":"'Bordereau versement D'!K110","v":0}]
[{"$f":"'Bordereau versement D'!A111:D111","v":0},null,null,null,{"$f":"'Bordereau versement D'!E111","v":0},{"$f":"'Bordereau versement D'!F111:G111","v":0},null,{"$f":"'Bordereau versement D'!H111","v":0},{"$f":"'Bordereau versement D'!I111","v":0},{"$f":"'Bordereau versement D'!J111","v":0},{"$f":"'Bordereau versement D'!K111","v":0}]
[{"$f":"'Bordereau versement D'!A112:D112","v":0},null,null,null,{"$f":"'Bordereau versement D'!E112","v":0},{"$f":"'Bordereau versement D'!F112:G112","v":0},null,{"$f":"'Bordereau versement D'!H112","v":0},{"$f":"'Bordereau versement D'!I112","v":0},{"$f":"'Bordereau versement D'!J112","v":0},{"$f":"'Bordereau versement D'!K112","v":0}]
[{"$f":"'Bordereau versement D'!A113:D113","v":0},null,null,null,{"$f":"'Bordereau versement D'!E113","v":0},{"$f":"'Bordereau versement D'!F113:G113","v":0},null,{"$f":"'Bordereau versement D'!H113","v":0},{"$f":"'Bordereau versement D'!I113","v":0},{"$f":"'Bordereau versement D'!J113","v":0},{"$f":"'Bordereau versement D'!K113","v":0}]
[{"$f":"'Bordereau versement D'!A114:D114","v":0},null,null,null,{"$f":"'Bordereau versement D'!E114","v":0},{"$f":"'Bordereau versement D'!F114:G114","v":0},null,{"$f":"'Bordereau versement D'!H114","v":0},{"$f":"'Bordereau versement D'!I114","v":0},{"$f":"'Bordereau versement D'!J114","v":0},{"$f":"'Bordereau versement D'!K114","v":0}]
[{"$f":"'Bordereau versement D'!A115:D115","v":0},null,null,null,{"$f":"'Bordereau versement D'!E115","v":0},{"$f":"'Bordereau versement D'!F115:G115","v":0},null,{"$f":"'Bordereau versement D'!H115","v":0},{"$f":"'Bordereau versement D'!I115","v":0},{"$f":"'Bordereau versement D'!J115","v":0},{"$f":"'Bordereau versement D'!K115","v":0}]
[{"$f":"'Bordereau versement D'!A116:D116","v":0},null,null,null,{"$f":"'Bordereau versement D'!E116","v":0},{"$f":"'Bordereau versement D'!F116:G116","v":0},null,{"$f":"'Bordereau versement D'!H116","v":0},{"$f":"'Bordereau versement D'!I116","v":0},{"$f":"'Bordereau versement D'!J116","v":0},{"$f":"'Bordereau versement D'!K116","v":0}]
[{"$f":"'Bordereau versement D'!A117:D117","v":0},null,null,null,{"$f":"'Bordereau versement D'!E117","v":0},{"$f":"'Bordereau versement D'!F117:G117","v":0},null,{"$f":"'Bordereau versement D'!H117","v":0},{"$f":"'Bordereau versement D'!I117","v":0},{"$f":"'Bordereau versement D'!J117","v":0},{"$f":"'Bordereau versement D'!K117","v":0}]
[{"$f":"'Bordereau versement D'!A118:D118","v":0},null,null,null,{"$f":"'Bordereau versement D'!E118","v":0},{"$f":"'Bordereau versement D'!F118:G118","v":0},null,{"$f":"'Bordereau versement D'!H118","v":0},{"$f":"'Bordereau versement D'!I118","v":0},{"$f":"'Bordereau versement D'!J118","v":0},{"$f":"'Bordereau versement D'!K118","v":0}]
[{"$f":"'Bordereau versement D'!A119:D119","v":0},null,null,null,{"$f":"'Bordereau versement D'!E119","v":0},{"$f":"'Bordereau versement D'!F119:G119","v":0},null,{"$f":"'Bordereau versement D'!H119","v":0},{"$f":"'Bordereau versement D'!I119","v":0},{"$f":"'Bordereau versement D'!J119","v":0},{"$f":"'Bordereau versement D'!K119","v":0}]
[{"$f":"'Bordereau versement D'!A120:D120","v":0},null,null,null,{"$f":"'Bordereau versement D'!E120","v":0},{"$f":"'Bordereau versement D'!F120:G120","v":0},null,{"$f":"'Bordereau versement D'!H120","v":0},{"$f":"'Bordereau versement D'!I120","v":0},{"$f":"'Bordereau versement D'!J120","v":0},{"$f":"'Bordereau versement D'!K120","v":0}]
[{"$f":"'Bordereau versement D'!A121:D121","v":0},null,null,null,{"$f":"'Bordereau versement D'!E121","v":0},{"$f":"'Bordereau versement D'!F121:G121","v":0},null,{"$f":"'Bordereau versement D'!H121","v":0},{"$f":"'Bordereau versement D'!I121","v":0},{"$f":"'Bordereau versement D'!J121","v":0},{"$f":"'Bordereau versement D'!K121","v":0}]
[{"$f":"'Bordereau versement D'!A122:D122","v":0},null,null,null,{"$f":"'Bordereau versement D'!E122","v":0},{"$f":"'Bordereau versement D'!F122:G122","v":0},null,{"$f":"'Bordereau versement D'!H122","v":0},{"$f":"'Bordereau versement D'!I122","v":0},{"$f":"'Bordereau versement D'!J122","v":0},{"$f":"'Bordereau versement D'!K122","v":0}]
[{"$f":"'Bordereau versement D'!A123:D123","v":0},null,null,null,{"$f":"'Bordereau versement D'!E123","v":0},{"$f":"'Bordereau versement D'!F123:G123","v":0},null,{"$f":"'Bordereau versement D'!H123","v":0},{"$f":"'Bordereau versement D'!I123","v":0},{"$f":"'Bordereau versement D'!J123","v":0},{"$f":"'Bordereau versement D'!K123","v":0}]
[{"$f":"'Bordereau versement D'!A124:D124","v":0},null,null,null,{"$f":"'Bordereau versement D'!E124","v":0},{"$f":"'Bordereau versement D'!F124:G124","v":0},null,{"$f":"'Bordereau versement D'!H124","v":0},{"$f":"'Bordereau versement D'!I124","v":0},{"$f":"'Bordereau versement D'!J124","v":0},{"$f":"'Bordereau versement D'!K124","v":0}]
[{"$f":"'Bordereau versement D'!A125:D125","v":0},null,null,null,{"$f":"'Bordereau versement D'!E125","v":0},{"$f":"'Bordereau versement D'!F125:G125","v":0},null,{"$f":"'Bordereau versement D'!H125","v":0},{"$f":"'Bordereau versement D'!I125","v":0},{"$f":"'Bordereau versement D'!J125","v":0},{"$f":"'Bordereau versement D'!K125","v":0}]
[{"$f":"'Bordereau versement D'!A126:D126","v":0},null,null,null,{"$f":"'Bordereau versement D'!E126","v":0},{"$f":"'Bordereau versement D'!F126:G126","v":0},null,{"$f":"'Bordereau versement D'!H126","v":0},{"$f":"'Bordereau versement D'!I126","v":0},{"$f":"'Bordereau versement D'!J126","v":0},{"$f":"'Bordereau versement D'!K126","v":0}]
[{"$f":"'Bordereau versement D'!A127:D127","v":0},null,null,null,{"$f":"'Bordereau versement D'!E127","v":0},{"$f":"'Bordereau versement D'!F127:G127","v":0},null,{"$f":"'Bordereau versement D'!H127","v":0},{"$f":"'Bordereau versement D'!I127","v":0},{"$f":"'Bordereau versement D'!J127","v":0},{"$f":"'Bordereau versement D'!K127","v":0}]
[{"$f":"'Bordereau versement D'!A128:D128","v":0},null,null,null,{"$f":"'Bordereau versement D'!E128","v":0},{"$f":"'Bordereau versement D'!F128:G128","v":0},null,{"$f":"'Bordereau versement D'!H128","v":0},{"$f":"'Bordereau versement D'!I128","v":0},{"$f":"'Bordereau versement D'!J128","v":0},{"$f":"'Bordereau versement D'!K128","v":0}]
[{"$f":"'Bordereau versement D'!A129:D129","v":0},null,null,null,{"$f":"'Bordereau versement D'!E129","v":0},{"$f":"'Bordereau versement D'!F129:G129","v":0},null,{"$f":"'Bordereau versement D'!H129","v":0},{"$f":"'Bordereau versement D'!I129","v":0},{"$f":"'Bordereau versement D'!J129","v":0},{"$f":"'Bordereau versement D'!K129","v":0}]
[{"$f":"'Bordereau versement D'!A130:D130","v":0},null,null,null,{"$f":"'Bordereau versement D'!E130","v":0},{"$f":"'Bordereau versement D'!F130:G130","v":0},null,{"$f":"'Bordereau versement D'!H130","v":0},{"$f":"'Bordereau versement D'!I130","v":0},{"$f":"'Bordereau versement D'!J130","v":0},{"$f":"'Bordereau versement D'!K130","v":0}]
[{"$f":"'Bordereau versement D'!A131:D131","v":0},null,null,null,{"$f":"'Bordereau versement D'!E131","v":0},{"$f":"'Bordereau versement D'!F131:G131","v":0},null,{"$f":"'Bordereau versement D'!H131","v":0},{"$f":"'Bordereau versement D'!I131","v":0},{"$f":"'Bordereau versement D'!J131","v":0},{"$f":"'Bordereau versement D'!K131","v":0}]
[{"$f":"'Bordereau versement D'!A132:D132","v":0},null,null,null,{"$f":"'Bordereau versement D'!E132","v":0},{"$f":"'Bordereau versement D'!F132:G132","v":0},null,{"$f":"'Bordereau versement D'!H132","v":0},{"$f":"'Bordereau versement D'!I132","v":0},{"$f":"'Bordereau versement D'!J132","v":0},{"$f":"'Bordereau versement D'!K132","v":0}]
[{"$f":"'Bordereau versement D'!A133:D133","v":0},null,null,null,{"$f":"'Bordereau versement D'!E133","v":0},{"$f":"'Bordereau versement D'!F133:G133","v":0},null,{"$f":"'Bordereau versement D'!H133","v":0},{"$f":"'Bordereau versement D'!I133","v":0},{"$f":"'Bordereau versement D'!J133","v":0},{"$f":"'Bordereau versement D'!K133","v":0}]
[{"$f":"'Bordereau versement D'!A134:D134","v":0},null,null,null,{"$f":"'Bordereau versement D'!E134","v":0},{"$f":"'Bordereau versement D'!F134:G134","v":0},null,{"$f":"'Bordereau versement D'!H134","v":0},{"$f":"'Bordereau versement D'!I134","v":0},{"$f":"'Bordereau versement D'!J134","v":0},{"$f":"'Bordereau versement D'!K134","v":0}]
[{"$f":"'Bordereau versement D'!A135:D135","v":0},null,null,null,{"$f":"'Bordereau versement D'!E135","v":0},{"$f":"'Bordereau versement D'!F135:G135","v":0},null,{"$f":"'Bordereau versement D'!H135","v":0},{"$f":"'Bordereau versement D'!I135","v":0},{"$f":"'Bordereau versement D'!J135","v":0},{"$f":"'Bordereau versement D'!K135","v":0}]
[{"$f":"'Bordereau versement D'!A136:D136","v":0},null,null,null,{"$f":"'Bordereau versement D'!E136","v":0},{"$f":"'Bordereau versement D'!F136:G136","v":0},null,{"$f":"'Bordereau versement D'!H136","v":0},{"$f":"'Bordereau versement D'!I136","v":0},{"$f":"'Bordereau versement D'!J136","v":0},{"$f":"'Bordereau versement D'!K136","v":0}]
[{"$f":"'Bordereau versement D'!A137:D137","v":0},null,null,null,{"$f":"'Bordereau versement D'!E137","v":0},{"$f":"'Bordereau versement D'!F137:G137","v":0},null,{"$f":"'Bordereau versement D'!H137","v":0},{"$f":"'Bordereau versement D'!I137","v":0},{"$f":"'Bordereau versement D'!J137","v":0},{"$f":"'Bordereau versement D'!K137","v":0}]
[{"$f":"'Bordereau versement D'!A138:D138","v":0},null,null,null,{"$f":"'Bordereau versement D'!E138","v":0},{"$f":"'Bordereau versement D'!F138:G138","v":0},null,{"$f":"'Bordereau versement D'!H138","v":0},{"$f":"'Bordereau versement D'!I138","v":0},{"$f":"'Bordereau versement D'!J138","v":0},{"$f":"'Bordereau versement D'!K138","v":0}]
[{"$f":"'Bordereau versement D'!A139:D139","v":0},null,null,null,{"$f":"'Bordereau versement D'!E139","v":0},{"$f":"'Bordereau versement D'!F139:G139","v":0},null,{"$f":"'Bordereau versement D'!H139","v":0},{"$f":"'Bordereau versement D'!I139","v":0},{"$f":"'Bordereau versement D'!J139","v":0},{"$f":"'Bordereau versement D'!K139","v":0}]
[{"$f":"'Bordereau versement D'!A140:D140","v":0},null,null,null,{"$f":"'Bordereau versement D'!E140","v":0},{"$f":"'Bordereau versement D'!F140:G140","v":0},null,{"$f":"'Bordereau versement D'!H140","v":0},{"$f":"'Bordereau versement D'!I140","v":0},{"$f":"'Bordereau versement D'!J140","v":0},{"$f":"'Bordereau versement D'!K140","v":0}]
[{"$f":"'Bordereau versement D'!A141:D141","v":0},null,null,null,{"$f":"'Bordereau versement D'!E141","v":0},{"$f":"'Bordereau versement D'!F141:G141","v":0},null,{"$f":"'Bordereau versement D'!H141","v":0},{"$f":"'Bordereau versement D'!I141","v":0},{"$f":"'Bordereau versement D'!J141","v":0},{"$f":"'Bordereau versement D'!K141","v":0}]
[{"$f":"'Bordereau versement D'!A142:D142","v":0},null,null,null,{"$f":"'Bordereau versement D'!E142","v":0},{"$f":"'Bordereau versement D'!F142:G142","v":0},null,{"$f":"'Bordereau versement D'!H142","v":0},{"$f":"'Bordereau versement D'!I142","v":0},{"$f":"'Bordereau versement D'!J142","v":0},{"$f":"'Bordereau versement D'!K142","v":0}]
[{"$f":"'Bordereau versement D'!A143:D143","v":0},null,null,null,{"$f":"'Bordereau versement D'!E143","v":0},{"$f":"'Bordereau versement D'!F143:G143","v":0},null,{"$f":"'Bordereau versement D'!H143","v":0},{"$f":"'Bordereau versement D'!I143","v":0},{"$f":"'Bordereau versement D'!J143","v":0},{"$f":"'Bordereau versement D'!K143","v":0}]
[{"$f":"'Bordereau versement D'!A144:D144","v":0},null,null,null,{"$f":"'Bordereau versement D'!E144","v":0},{"$f":"'Bordereau versement D'!F144:G144","v":0},null,{"$f":"'Bordereau versement D'!H144","v":0},{"$f":"'Bordereau versement D'!I144","v":0},{"$f":"'Bordereau versement D'!J144","v":0},{"$f":"'Bordereau versement D'!K144","v":0}]
[{"$f":"'Bordereau versement D'!A145:D145","v":0},null,null,null,{"$f":"'Bordereau versement D'!E145","v":0},{"$f":"'Bordereau versement D'!F145:G145","v":0},null,{"$f":"'Bordereau versement D'!H145","v":0},{"$f":"'Bordereau versement D'!I145","v":0},{"$f":"'Bordereau versement D'!J145","v":0},{"$f":"'Bordereau versement D'!K145","v":0}]
[{"$f":"'Bordereau versement D'!A146:D146","v":0},null,null,null,{"$f":"'Bordereau versement D'!E146","v":0},{"$f":"'Bordereau versement D'!F146:G146","v":0},null,{"$f":"'Bordereau versement D'!H146","v":0},{"$f":"'Bordereau versement D'!I146","v":0},{"$f":"'Bordereau versement D'!J146","v":0},{"$f":"'Bordereau versement D'!K146","v":0}]
[{"$f":"'Bordereau versement D'!A147:D147","v":0},null,null,null,{"$f":"'Bordereau versement D'!E147","v":0},{"$f":"'Bordereau versement D'!F147:G147","v":0},null,{"$f":"'Bordereau versement D'!H147","v":0},{"$f":"'Bordereau versement D'!I147","v":0},{"$f":"'Bordereau versement D'!J147","v":0},{"$f":"'Bordereau versement D'!K147","v":0}]
[{"$f":"'Bordereau versement D'!A148:D148","v":0},null,null,null,{"$f":"'Bordereau versement D'!E148","v":0},{"$f":"'Bordereau versement D'!F148:G148","v":0},null,{"$f":"'Bordereau versement D'!H148","v":0},{"$f":"'Bordereau versement D'!I148","v":0},{"$f":"'Bordereau versement D'!J148","v":0},{"$f":"'Bordereau versement D'!K148","v":0}]
[{"$f":"'Bordereau versement D'!A149:D149","v":0},null,null,null,{"$f":"'Bordereau versement D'!E149","v":0},{"$f":"'Bordereau versement D'!F149:G149","v":0},null,{"$f":"'Bordereau versement D'!H149","v":0},{"$f":"'Bordereau versement D'!I149","v":0},{"$f":"'Bordereau versement D'!J149","v":0},{"$f":"'Bordereau versement D'!K149","v":0}]
[{"$f":"'Bordereau versement D'!A150:D150","v":0},null,null,null,{"$f":"'Bordereau versement D'!E150","v":0},{"$f":"'Bordereau versement D'!F150:G150","v":0},null,{"$f":"'Bordereau versement D'!H150","v":0},{"$f":"'Bordereau versement D'!I150","v":0},{"$f":"'Bordereau versement D'!J150","v":0},{"$f":"'Bordereau versement D'!K150","v":0}]
[{"$f":"'Bordereau versement D'!A151:D151","v":0},null,null,null,{"$f":"'Bordereau versement D'!E151","v":0},{"$f":"'Bordereau versement D'!F151:G151","v":0},null,{"$f":"'Bordereau versement D'!H151","v":0},{"$f":"'Bordereau versement D'!I151","v":0},{"$f":"'Bordereau versement D'!J151","v":0},{"$f":"'Bordereau versement D'!K151","v":0}]
[{"$f":"'Bordereau versement D'!A152:D152","v":0},null,null,null,{"$f":"'Bordereau versement D'!E152","v":0},{"$f":"'Bordereau versement D'!F152:G152","v":0},null,{"$f":"'Bordereau versement D'!H152","v":0},{"$f":"'Bordereau versement D'!I152","v":0},{"$f":"'Bordereau versement D'!J152","v":0},{"$f":"'Bordereau versement D'!K152","v":0}]
[{"$f":"'Bordereau versement D'!A153:D153","v":0},null,null,null,{"$f":"'Bordereau versement D'!E153","v":0},{"$f":"'Bordereau versement D'!F153:G153","v":0},null,{"$f":"'Bordereau versement D'!H153","v":0},{"$f":"'Bordereau versement D'!I153","v":0},{"$f":"'Bordereau versement D'!J153","v":0},{"$f":"'Bordereau versement D'!K153","v":0}]
[{"$f":"'Bordereau versement D'!A154:D154","v":0},null,null,null,{"$f":"'Bordereau versement D'!E154","v":0},{"$f":"'Bordereau versement D'!F154:G154","v":0},null,{"$f":"'Bordereau versement D'!H154","v":0},{"$f":"'Bordereau versement D'!I154","v":0},{"$f":"'Bordereau versement D'!J154","v":0},{"$f":"'Bordereau versement D'!K154","v":0}]
[{"$f":"'Bordereau versement D'!A155:D155","v":0},null,null,null,{"$f":"'Bordereau versement D'!E155","v":0},{"$f":"'Bordereau versement D'!F155:G155","v":0},null,{"$f":"'Bordereau versement D'!H155","v":0},{"$f":"'Bordereau versement D'!I155","v":0},{"$f":"'Bordereau versement D'!J155","v":0},{"$f":"'Bordereau versement D'!K155","v":0}]
[{"$f":"'Bordereau versement D'!A156:D156","v":0},null,null,null,{"$f":"'Bordereau versement D'!E156","v":0},{"$f":"'Bordereau versement D'!F156:G156","v":0},null,{"$f":"'Bordereau versement D'!H156","v":0},{"$f":"'Bordereau versement D'!I156","v":0},{"$f":"'Bordereau versement D'!J156","v":0},{"$f":"'Bordereau versement D'!K156","v":0}]
[{"$f":"'Bordereau versement D'!A157:D157","v":0},null,null,null,{"$f":"'Bordereau versement D'!E157","v":0},{"$f":"'Bordereau versement D'!F157:G157","v":0},null,{"$f":"'Bordereau versement D'!H157","v":0},{"$f":"'Bordereau versement D'!I157","v":0},{"$f":"'Bordereau versement D'!J157","v":0},{"$f":"'Bordereau versement D'!K157","v":0}]
[{"$f":"'Bordereau versement D'!A158:D158","v":0},null,null,null,{"$f":"'Bordereau versement D'!E158","v":0},{"$f":"'Bordereau versement D'!F158:G158","v":0},null,{"$f":"'Bordereau versement D'!H158","v":0},{"$f":"'Bordereau versement D'!I158","v":0},{"$f":"'Bordereau versement D'!J158","v":0},{"$f":"'Bordereau versement D'!K158","v":0}]
[{"$f":"'Bordereau versement D'!A159:D159","v":0},null,null,null,{"$f":"'Bordereau versement D'!E159","v":0},{"$f":"'Bordereau versement D'!F159:G159","v":0},null,{"$f":"'Bordereau versement D'!H159","v":0},{"$f":"'Bordereau versement D'!I159","v":0},{"$f":"'Bordereau versement D'!J159","v":0},{"$f":"'Bordereau versement D'!K159","v":0}]
[{"$f":"'Bordereau versement D'!A160:D160","v":0},null,null,null,{"$f":"'Bordereau versement D'!E160","v":0},{"$f":"'Bordereau versement D'!F160:G160","v":0},null,{"$f":"'Bordereau versement D'!H160","v":0},{"$f":"'Bordereau versement D'!I160","v":0},{"$f":"'Bordereau versement D'!J160","v":0},{"$f":"'Bordereau versement D'!K160","v":0}]
[{"$f":"'Bordereau versement D'!A161:D161","v":0},null,null,null,{"$f":"'Bordereau versement D'!E161","v":0},{"$f":"'Bordereau versement D'!F161:G161","v":0},null,{"$f":"'Bordereau versement D'!H161","v":0},{"$f":"'Bordereau versement D'!I161","v":0},{"$f":"'Bordereau versement D'!J161","v":0},{"$f":"'Bordereau versement D'!K161","v":0}]
[{"$f":"'Bordereau versement D'!A162:D162","v":0},null,null,null,{"$f":"'Bordereau versement D'!E162","v":0},{"$f":"'Bordereau versement D'!F162:G162","v":0},null,{"$f":"'Bordereau versement D'!H162","v":0},{"$f":"'Bordereau versement D'!I162","v":0},{"$f":"'Bordereau versement D'!J162","v":0},{"$f":"'Bordereau versement D'!K162","v":0}]
[{"$f":"'Bordereau versement D'!A163:D163","v":0},null,null,null,{"$f":"'Bordereau versement D'!E163","v":0},{"$f":"'Bordereau versement D'!F163:G163","v":0},null,{"$f":"'Bordereau versement D'!H163","v":0},{"$f":"'Bordereau versement D'!I163","v":0},{"$f":"'Bordereau versement D'!J163","v":0},{"$f":"'Bordereau versement D'!K163","v":0}]
[{"$f":"'Bordereau versement D'!A164:D164","v":0},null,null,null,{"$f":"'Bordereau versement D'!E164","v":0},{"$f":"'Bordereau versement D'!F164:G164","v":0},null,{"$f":"'Bordereau versement D'!H164","v":0},{"$f":"'Bordereau versement D'!I164","v":0},{"$f":"'Bordereau versement D'!J164","v":0},{"$f":"'Bordereau versement D'!K164","v":0}]
[{"$f":"'Bordereau versement D'!A165:D165","v":0},null,null,null,{"$f":"'Bordereau versement D'!E165","v":0},{"$f":"'Bordereau versement D'!F165:G165","v":0},null,{"$f":"'Bordereau versement D'!H165","v":0},{"$f":"'Bordereau versement D'!I165","v":0},{"$f":"'Bordereau versement D'!J165","v":0},{"$f":"'Bordereau versement D'!K165","v":0}]
[{"$f":"'Bordereau versement D'!A166:D166","v":0},null,null,null,{"$f":"'Bordereau versement D'!E166","v":0},{"$f":"'Bordereau versement D'!F166:G166","v":0},null,{"$f":"'Bordereau versement D'!H166","v":0},{"$f":"'Bordereau versement D'!I166","v":0},{"$f":"'Bordereau versement D'!J166","v":0},{"$f":"'Bordereau versement D'!K166","v":0}]
[{"$f":"'Bordereau versement D'!A167:D167","v":0},null,null,null,{"$f":"'Bordereau versement D'!E167","v":0},{"$f":"'Bordereau versement D'!F167:G167","v":0},null,{"$f":"'Bordereau versement D'!H167","v":0},{"$f":"'Bordereau versement D'!I167","v":0},{"$f":"'Bordereau versement D'!J167","v":0},{"$f":"'Bordereau versement D'!K167","v":0}]
[{"$f":"'Bordereau versement D'!A168:D168","v":0},null,null,null,{"$f":"'Bordereau versement D'!E168","v":0},{"$f":"'Bordereau versement D'!F168:G168","v":0},null,{"$f":"'Bordereau versement D'!H168","v":0},{"$f":"'Bordereau versement D'!I168","v":0},{"$f":"'Bordereau versement D'!J168","v":0},{"$f":"'Bordereau versement D'!K168","v":0}]
[{"$f":"'Bordereau versement D'!A169:D169","v":0},null,null,null,{"$f":"'Bordereau versement D'!E169","v":0},{"$f":"'Bordereau versement D'!F169:G169","v":0},null,{"$f":"'Bordereau versement D'!H169","v":0},{"$f":"'Bordereau versement D'!I169","v":0},{"$f":"'Bordereau versement D'!J169","v":0},{"$f":"'Bordereau versement D'!K169","v":0}]
[{"$f":"'Bordereau versement D'!A170:D170","v":0},null,null,null,{"$f":"'Bordereau versement D'!E170","v":0},{"$f":"'Bordereau versement D'!F170:G170","v":0},null,{"$f":"'Bordereau versement D'!H170","v":0},{"$f":"'Bordereau versement D'!I170","v":0},{"$f":"'Bordereau versement D'!J170","v":0},{"$f":"'Bordereau versement D'!K170","v":0}]
[{"$f":"'Bordereau versement D'!A171:D171","v":0},null,null,null,{"$f":"'Bordereau versement D'!E171","v":0},{"$f":"'Bordereau versement D'!F171:G171","v":0},null,{"$f":"'Bordereau versement D'!H171","v":0},{"$f":"'Bordereau versement D'!I171","v":0},{"$f":"'Bordereau versement D'!J171","v":0},{"$f":"'Bordereau versement D'!K171","v":0}]
[{"$f":"'Bordereau versement D'!A172:D172","v":0},null,null,null,{"$f":"'Bordereau versement D'!E172","v":0},{"$f":"'Bordereau versement D'!F172:G172","v":0},null,{"$f":"'Bordereau versement D'!H172","v":0},{"$f":"'Bordereau versement D'!I172","v":0},{"$f":"'Bordereau versement D'!J172","v":0},{"$f":"'Bordereau versement D'!K172","v":0}]
[{"$f":"'Bordereau versement D'!A173:D173","v":0},null,null,null,{"$f":"'Bordereau versement D'!E173","v":0},{"$f":"'Bordereau versement D'!F173:G173","v":0},null,{"$f":"'Bordereau versement D'!H173","v":0},{"$f":"'Bordereau versement D'!I173","v":0},{"$f":"'Bordereau versement D'!J173","v":0},{"$f":"'Bordereau versement D'!K173","v":0}]
[{"$f":"'Bordereau versement D'!A174:D174","v":0},null,null,null,{"$f":"'Bordereau versement D'!E174","v":0},{"$f":"'Bordereau versement D'!F174:G174","v":0},null,{"$f":"'Bordereau versement D'!H174","v":0},{"$f":"'Bordereau versement D'!I174","v":0},{"$f":"'Bordereau versement D'!J174","v":0},{"$f":"'Bordereau versement D'!K174","v":0}]
[{"$f":"'Bordereau versement D'!A175:D175","v":0},null,null,null,{"$f":"'Bordereau versement D'!E175","v":0},{"$f":"'Bordereau versement D'!F175:G175","v":0},null,{"$f":"'Bordereau versement D'!H175","v":0},{"$f":"'Bordereau versement D'!I175","v":0},{"$f":"'Bordereau versement D'!J175","v":0},{"$f":"'Bordereau versement D'!K175","v":0}]
[{"$f":"'Bordereau versement D'!A176:D176","v":0},null,null,null,{"$f":"'Bordereau versement D'!E176","v":0},{"$f":"'Bordereau versement D'!F176:G176","v":0},null,{"$f":"'Bordereau versement D'!H176","v":0},{"$f":"'Bordereau versement D'!I176","v":0},{"$f":"'Bordereau versement D'!J176","v":0},{"$f":"'Bordereau versement D'!K176","v":0}]
[{"$f":"'Bordereau versement D'!A177:D177","v":0},null,null,null,{"$f":"'Bordereau versement D'!E177","v":0},{"$f":"'Bordereau versement D'!F177:G177","v":0},null,{"$f":"'Bordereau versement D'!H177","v":0},{"$f":"'Bordereau versement D'!I177","v":0},{"$f":"'Bordereau versement D'!J177","v":0},{"$f":"'Bordereau versement D'!K177","v":0}]
[{"$f":"'Bordereau versement D'!A178:D178","v":0},null,null,null,{"$f":"'Bordereau versement D'!E178","v":0},{"$f":"'Bordereau versement D'!F178:G178","v":0},null,{"$f":"'Bordereau versement D'!H178","v":0},{"$f":"'Bordereau versement D'!I178","v":0},{"$f":"'Bordereau versement D'!J178","v":0},{"$f":"'Bordereau versement D'!K178","v":0}]
[{"$f":"'Bordereau versement D'!A179:D179","v":0},null,null,null,{"$f":"'Bordereau versement D'!E179","v":0},{"$f":"'Bordereau versement D'!F179:G179","v":0},null,{"$f":"'Bordereau versement D'!H179","v":0},{"$f":"'Bordereau versement D'!I179","v":0},{"$f":"'Bordereau versement D'!J179","v":0},{"$f":"'Bordereau versement D'!K179","v":0}]
[{"$f":"'Bordereau versement D'!A180:D180","v":0},null,null,null,{"$f":"'Bordereau versement D'!E180","v":0},{"$f":"'Bordereau versement D'!F180:G180","v":0},null,{"$f":"'Bordereau versement D'!H180","v":0},{"$f":"'Bordereau versement D'!I180","v":0},{"$f":"'Bordereau versement D'!J180","v":0},{"$f":"'Bordereau versement D'!K180","v":0}]
[{"$f":"'Bordereau versement D'!A181:D181","v":0},null,null,null,{"$f":"'Bordereau versement D'!E181","v":0},{"$f":"'Bordereau versement D'!F181:G181","v":0},null,{"$f":"'Bordereau versement D'!H181","v":0},{"$f":"'Bordereau versement D'!I181","v":0},{"$f":"'Bordereau versement D'!J181","v":0},{"$f":"'Bordereau versement D'!K181","v":0}]
[{"$f":"'Bordereau versement D'!A182:D182","v":0},null,null,null,{"$f":"'Bordereau versement D'!E182","v":0},{"$f":"'Bordereau versement D'!F182:G182","v":0},null,{"$f":"'Bordereau versement D'!H182","v":0},{"$f":"'Bordereau versement D'!I182","v":0},{"$f":"'Bordereau versement D'!J182","v":0},{"$f":"'Bordereau versement D'!K182","v":0}]
[{"$f":"'Bordereau versement D'!A183:D183","v":0},null,null,null,{"$f":"'Bordereau versement D'!E183","v":0},{"$f":"'Bordereau versement D'!F183:G183","v":0},null,{"$f":"'Bordereau versement D'!H183","v":0},{"$f":"'Bordereau versement D'!I183","v":0},{"$f":"'Bordereau versement D'!J183","v":0},{"$f":"'Bordereau versement D'!K183","v":0}]
[{"$f":"'Bordereau versement D'!A184:D184","v":0},null,null,null,{"$f":"'Bordereau versement D'!E184","v":0},{"$f":"'Bordereau versement D'!F184:G184","v":0},null,{"$f":"'Bordereau versement D'!H184","v":0},{"$f":"'Bordereau versement D'!I184","v":0},{"$f":"'Bordereau versement D'!J184","v":0},{"$f":"'Bordereau versement D'!K184","v":0}]
[{"$f":"'Bordereau versement D'!A185:D185","v":0},null,null,null,{"$f":"'Bordereau versement D'!E185","v":0},{"$f":"'Bordereau versement D'!F185:G185","v":0},null,{"$f":"'Bordereau versement D'!H185","v":0},{"$f":"'Bordereau versement D'!I185","v":0},{"$f":"'Bordereau versement D'!J185","v":0},{"$f":"'Bordereau versement D'!K185","v":0}]
[{"$f":"'Bordereau versement D'!A186:D186","v":0},null,null,null,{"$f":"'Bordereau versement D'!E186","v":0},{"$f":"'Bordereau versement D'!F186:G186","v":0},null,{"$f":"'Bordereau versement D'!H186","v":0},{"$f":"'Bordereau versement D'!I186","v":0},{"$f":"'Bordereau versement D'!J186","v":0},{"$f":"'Bordereau versement D'!K186","v":0}]
[{"$f":"'Bordereau versement D'!A187:D187","v":0},null,null,null,{"$f":"'Bordereau versement D'!E187","v":0},{"$f":"'Bordereau versement D'!F187:G187","v":0},null,{"$f":"'Bordereau versement D'!H187","v":0},{"$f":"'Bordereau versement D'!I187","v":0},{"$f":"'Bordereau versement D'!J187","v":0},{"$f":"'Bordereau versement D'!K187","v":0}]
[{"$f":"'Bordereau versement D'!A188:D188","v":0},null,null,null,{"$f":"'Bordereau versement D'!E188","v":0},{"$f":"'Bordereau versement D'!F188:G188","v":0},null,{"$f":"'Bordereau versement D'!H188","v":0},{"$f":"'Bordereau versement D'!I188","v":0},{"$f":"'Bordereau versement D'!J188","v":0},{"$f":"'Bordereau versement D'!K188","v":0}]
[{"$f":"'Bordereau versement D'!A189:D189","v":0},null,null,null,{"$f":"'Bordereau versement D'!E189","v":0},{"$f":"'Bordereau versement D'!F189:G189","v":0},null,{"$f":"'Bordereau versement D'!H189","v":0},{"$f":"'Bordereau versement D'!I189","v":0},{"$f":"'Bordereau versement D'!J189","v":0},{"$f":"'Bordereau versement D'!K189","v":0}]
[{"$f":"'Bordereau versement D'!A190:D190","v":0},null,null,null,{"$f":"'Bordereau versement D'!E190","v":0},{"$f":"'Bordereau versement D'!F190:G190","v":0},null,{"$f":"'Bordereau versement D'!H190","v":0},{"$f":"'Bordereau versement D'!I190","v":0},{"$f":"'Bordereau versement D'!J190","v":0},{"$f":"'Bordereau versement D'!K190","v":0}]
[{"$f":"'Bordereau versement D'!A191:D191","v":0},null,null,null,{"$f":"'Bordereau versement D'!E191","v":0},{"$f":"'Bordereau versement D'!F191:G191","v":0},null,{"$f":"'Bordereau versement D'!H191","v":0},{"$f":"'Bordereau versement D'!I191","v":0},{"$f":"'Bordereau versement D'!J191","v":0},{"$f":"'Bordereau versement D'!K191","v":0}]
[{"$f":"'Bordereau versement D'!A192:D192","v":0},null,null,null,{"$f":"'Bordereau versement D'!E192","v":0},{"$f":"'Bordereau versement D'!F192:G192","v":0},null,{"$f":"'Bordereau versement D'!H192","v":0},{"$f":"'Bordereau versement D'!I192","v":0},{"$f":"'Bordereau versement D'!J192","v":0},{"$f":"'Bordereau versement D'!K192","v":0}]
[{"$f":"'Bordereau versement D'!A193:D193","v":0},null,null,null,{"$f":"'Bordereau versement D'!E193","v":0},{"$f":"'Bordereau versement D'!F193:G193","v":0},null,{"$f":"'Bordereau versement D'!H193","v":0},{"$f":"'Bordereau versement D'!I193","v":0},{"$f":"'Bordereau versement D'!J193","v":0},{"$f":"'Bordereau versement D'!K193","v":0}]
[{"$f":"'Bordereau versement D'!A194:D194","v":0},null,null,null,{"$f":"'Bordereau versement D'!E194","v":0},{"$f":"'Bordereau versement D'!F194:G194","v":0},null,{"$f":"'Bordereau versement D'!H194","v":0},{"$f":"'Bordereau versement D'!I194","v":0},{"$f":"'Bordereau versement D'!J194","v":0},{"$f":"'Bordereau versement D'!K194","v":0}]
[{"$f":"'Bordereau versement D'!A195:D195","v":0},null,null,null,{"$f":"'Bordereau versement D'!E195","v":0},{"$f":"'Bordereau versement D'!F195:G195","v":0},null,{"$f":"'Bordereau versement D'!H195","v":0},{"$f":"'Bordereau versement D'!I195","v":0},{"$f":"'Bordereau versement D'!J195","v":0},{"$f":"'Bordereau versement D'!K195","v":0}]
[{"$f":"'Bordereau versement D'!A196:D196","v":0},null,null,null,{"$f":"'Bordereau versement D'!E196","v":0},{"$f":"'Bordereau versement D'!F196:G196","v":0},null,{"$f":"'Bordereau versement D'!H196","v":0},{"$f":"'Bordereau versement D'!I196","v":0},{"$f":"'Bordereau versement D'!J196","v":0},{"$f":"'Bordereau versement D'!K196","v":0}]
[{"$f":"'Bordereau versement D'!A197:D197","v":0},null,null,null,{"$f":"'Bordereau versement D'!E197","v":0},{"$f":"'Bordereau versement D'!F197:G197","v":0},null,{"$f":"'Bordereau versement D'!H197","v":0},{"$f":"'Bordereau versement D'!I197","v":0},{"$f":"'Bordereau versement D'!J197","v":0},{"$f":"'Bordereau versement D'!K197","v":0}]
[{"$f":"'Bordereau versement D'!A198:D198","v":0},null,null,null,{"$f":"'Bordereau versement D'!E198","v":0},{"$f":"'Bordereau versement D'!F198:G198","v":0},null,{"$f":"'Bordereau versement D'!H198","v":0},{"$f":"'Bordereau versement D'!I198","v":0},{"$f":"'Bordereau versement D'!J198","v":0},{"$f":"'Bordereau versement D'!K198","v":0}]
[{"$f":"'Bordereau versement D'!A199:D199","v":0},null,null,null,{"$f":"'Bordereau versement D'!E199","v":0},{"$f":"'Bordereau versement D'!F199:G199","v":0},null,{"$f":"'Bordereau versement D'!H199","v":0},{"$f":"'Bordereau versement D'!I199","v":0},{"$f":"'Bordereau versement D'!J199","v":0},{"$f":"'Bordereau versement D'!K199","v":0}]
[{"$f":"'Bordereau versement D'!A200:D200","v":0},null,null,null,{"$f":"'Bordereau versement D'!E200","v":0},{"$f":"'Bordereau versement D'!F200:G200","v":0},null,{"$f":"'Bordereau versement D'!H200","v":0},{"$f":"'Bordereau versement D'!I200","v":0},{"$f":"'Bordereau versement D'!J200","v":0},{"$f":"'Bordereau versement D'!K200","v":0}]
[{"$f":"'Bordereau versement D'!A201:D201","v":0},null,null,null,{"$f":"'Bordereau versement D'!E201","v":0},{"$f":"'Bordereau versement D'!F201:G201","v":0},null,{"$f":"'Bordereau versement D'!H201","v":0},{"$f":"'Bordereau versement D'!I201","v":0},{"$f":"'Bordereau versement D'!J201","v":0},{"$f":"'Bordereau versement D'!K201","v":0}]
[{"$f":"'Bordereau versement D'!A202:D202","v":0},null,null,null,{"$f":"'Bordereau versement D'!E202","v":0},{"$f":"'Bordereau versement D'!F202:G202","v":0},null,{"$f":"'Bordereau versement D'!H202","v":0},{"$f":"'Bordereau versement D'!I202","v":0},{"$f":"'Bordereau versement D'!J202","v":0},{"$f":"'Bordereau versement D'!K202","v":0}]
[{"$f":"'Bordereau versement D'!A203:D203","v":0},null,null,null,{"$f":"'Bordereau versement D'!E203","v":0},{"$f":"'Bordereau versement D'!F203:G203","v":0},null,{"$f":"'Bordereau versement D'!H203","v":0},{"$f":"'Bordereau versement D'!I203","v":0},{"$f":"'Bordereau versement D'!J203","v":0},{"$f":"'Bordereau versement D'!K203","v":0}]
[{"$f":"'Bordereau versement D'!A204:D204","v":0},null,null,null,{"$f":"'Bordereau versement D'!E204","v":0},{"$f":"'Bordereau versement D'!F204:G204","v":0},null,{"$f":"'Bordereau versement D'!H204","v":0},{"$f":"'Bordereau versement D'!I204","v":0},{"$f":"'Bordereau versement D'!J204","v":0},{"$f":"'Bordereau versement D'!K204","v":0}]
[{"$f":"'Bordereau versement D'!A205:D205","v":0},null,null,null,{"$f":"'Bordereau versement D'!E205","v":0},{"$f":"'Bordereau versement D'!F205:G205","v":0},null,{"$f":"'Bordereau versement D'!H205","v":0},{"$f":"'Bordereau versement D'!I205","v":0},{"$f":"'Bordereau versement D'!J205","v":0},{"$f":"'Bordereau versement D'!K205","v":0}]
[{"$f":"'Bordereau versement D'!A206:D206","v":0},null,null,null,{"$f":"'Bordereau versement D'!E206","v":0},{"$f":"'Bordereau versement D'!F206:G206","v":0},null,{"$f":"'Bordereau versement D'!H206","v":0},{"$f":"'Bordereau versement D'!I206","v":0},{"$f":"'Bordereau versement D'!J206","v":0},{"$f":"'Bordereau versement D'!K206","v":0}]
[{"$f":"'Bordereau versement D'!A207:D207","v":0},null,null,null,{"$f":"'Bordereau versement D'!E207","v":0},{"$f":"'Bordereau versement D'!F207:G207","v":0},null,{"$f":"'Bordereau versement D'!H207","v":0},{"$f":"'Bordereau versement D'!I207","v":0},{"$f":"'Bordereau versement D'!J207","v":0},{"$f":"'Bordereau versement D'!K207","v":0}]
[{"$f":"'Bordereau versement D'!A208:D208","v":0},null,null,null,{"$f":"'Bordereau versement D'!E208","v":0},{"$f":"'Bordereau versement D'!F208:G208","v":0},null,{"$f":"'Bordereau versement D'!H208","v":0},{"$f":"'Bordereau versement D'!I208","v":0},{"$f":"'Bordereau versement D'!J208","v":0},{"$f":"'Bordereau versement D'!K208","v":0}]
[{"$f":"'Bordereau versement D'!A209:D209","v":0},null,null,null,{"$f":"'Bordereau versement D'!E209","v":0},{"$f":"'Bordereau versement D'!F209:G209","v":0},null,{"$f":"'Bordereau versement D'!H209","v":0},{"$f":"'Bordereau versement D'!I209","v":0},{"$f":"'Bordereau versement D'!J209","v":0},{"$f":"'Bordereau versement D'!K209","v":0}]
[{"$f":"'Bordereau versement D'!A210:D210","v":0},null,null,null,{"$f":"'Bordereau versement D'!E210","v":0},{"$f":"'Bordereau versement D'!F210:G210","v":0},null,{"$f":"'Bordereau versement D'!H210","v":0},{"$f":"'Bordereau versement D'!I210","v":0},{"$f":"'Bordereau versement D'!J210","v":0},{"$f":"'Bordereau versement D'!K210","v":0}]
[{"$f":"'Bordereau versement D'!A211:D211","v":0},null,null,null,{"$f":"'Bordereau versement D'!E211","v":0},{"$f":"'Bordereau versement D'!F211:G211","v":0},null,{"$f":"'Bordereau versement D'!H211","v":0},{"$f":"'Bordereau versement D'!I211","v":0},{"$f":"'Bordereau versement D'!J211","v":0},{"$f":"'Bordereau versement D'!K211","v":0}]
[{"$f":"'Bordereau versement D'!A212:D212","v":0},null,null,null,{"$f":"'Bordereau versement D'!E212","v":0},{"$f":"'Bordereau versement D'!F212:G212","v":0},null,{"$f":"'Bordereau versement D'!H212","v":0},{"$f":"'Bordereau versement D'!I212","v":0},{"$f":"'Bordereau versement D'!J212","v":0},{"$f":"'Bordereau versement D'!K212","v":0}]
[{"$f":"'Bordereau versement D'!A213:D213","v":0},null,null,null,{"$f":"'Bordereau versement D'!E213","v":0},{"$f":"'Bordereau versement D'!F213:G213","v":0},null,{"$f":"'Bordereau versement D'!H213","v":0},{"$f":"'Bordereau versement D'!I213","v":0},{"$f":"'Bordereau versement D'!J213","v":0},{"$f":"'Bordereau versement D'!K213","v":0}]
[{"$f":"'Bordereau versement D'!A214:D214","v":0},null,null,null,{"$f":"'Bordereau versement D'!E214","v":0},{"$f":"'Bordereau versement D'!F214:G214","v":0},null,{"$f":"'Bordereau versement D'!H214","v":0},{"$f":"'Bordereau versement D'!I214","v":0},{"$f":"'Bordereau versement D'!J214","v":0},{"$f":"'Bordereau versement D'!K214","v":0}]
[{"$f":"'Bordereau versement D'!A215:D215","v":0},null,null,null,{"$f":"'Bordereau versement D'!E215","v":0},{"$f":"'Bordereau versement D'!F215:G215","v":0},null,{"$f":"'Bordereau versement D'!H215","v":0},{"$f":"'Bordereau versement D'!I215","v":0},{"$f":"'Bordereau versement D'!J215","v":0},{"$f":"'Bordereau versement D'!K215","v":0}]
[{"$f":"'Bordereau versement D'!A216:D216","v":0},null,null,null,{"$f":"'Bordereau versement D'!E216","v":0},{"$f":"'Bordereau versement D'!F216:G216","v":0},null,{"$f":"'Bordereau versement D'!H216","v":0},{"$f":"'Bordereau versement D'!I216","v":0},{"$f":"'Bordereau versement D'!J216","v":0},{"$f":"'Bordereau versement D'!K216","v":0}]
[{"$f":"'Bordereau versement D'!A217:D217","v":0},null,null,null,{"$f":"'Bordereau versement D'!E217","v":0},{"$f":"'Bordereau versement D'!F217:G217","v":0},null,{"$f":"'Bordereau versement D'!H217","v":0},{"$f":"'Bordereau versement D'!I217","v":0},{"$f":"'Bordereau versement D'!J217","v":0},{"$f":"'Bordereau versement D'!K217","v":0}]
[{"$f":"'Bordereau versement D'!A218:D218","v":0},null,null,null,{"$f":"'Bordereau versement D'!E218","v":0},{"$f":"'Bordereau versement D'!F218:G218","v":0},null,{"$f":"'Bordereau versement D'!H218","v":0},{"$f":"'Bordereau versement D'!I218","v":0},{"$f":"'Bordereau versement D'!J218","v":0},{"$f":"'Bordereau versement D'!K218","v":0}]
[{"$f":"'Bordereau versement D'!A219:D219","v":0},null,null,null,{"$f":"'Bordereau versement D'!E219","v":0},{"$f":"'Bordereau versement D'!F219:G219","v":0},null,{"$f":"'Bordereau versement D'!H219","v":0},{"$f":"'Bordereau versement D'!I219","v":0},{"$f":"'Bordereau versement D'!J219","v":0},{"$f":"'Bordereau versement D'!K219","v":0}]
[{"$f":"'Bordereau versement D'!A220:D220","v":0},null,null,null,{"$f":"'Bordereau versement D'!E220","v":0},{"$f":"'Bordereau versement D'!F220:G220","v":0},null,{"$f":"'Bordereau versement D'!H220","v":0},{"$f":"'Bordereau versement D'!I220","v":0},{"$f":"'Bordereau versement D'!J220","v":0},{"$f":"'Bordereau versement D'!K220","v":0}]
[{"$f":"'Bordereau versement D'!A221:D221","v":0},null,null,null,{"$f":"'Bordereau versement D'!E221","v":0},{"$f":"'Bordereau versement D'!F221:G221","v":0},null,{"$f":"'Bordereau versement D'!H221","v":0},{"$f":"'Bordereau versement D'!I221","v":0},{"$f":"'Bordereau versement D'!J221","v":0},{"$f":"'Bordereau versement D'!K221","v":0}]
[{"$f":"'Bordereau versement D'!A222:D222","v":0},null,null,null,{"$f":"'Bordereau versement D'!E222","v":0},{"$f":"'Bordereau versement D'!F222:G222","v":0},null,{"$f":"'Bordereau versement D'!H222","v":0},{"$f":"'Bordereau versement D'!I222","v":0},{"$f":"'Bordereau versement D'!J222","v":0},{"$f":"'Bordereau versement D'!K222","v":0}]
[{"$f":"'Bordereau versement D'!A223:D223","v":0},null,null,null,{"$f":"'Bordereau versement D'!E223","v":0},{"$f":"'Bordereau versement D'!F223:G223","v":0},null,{"$f":"'Bordereau versement D'!H223","v":0},{"$f":"'Bordereau versement D'!I223","v":0},{"$f":"'Bordereau versement D'!J223","v":0},{"$f":"'Bordereau versement D'!K223","v":0}]
[{"$f":"'Bordereau versement D'!A224:D224","v":0},null,null,null,{"$f":"'Bordereau versement D'!E224","v":0},{"$f":"'Bordereau versement D'!F224:G224","v":0},null,{"$f":"'Bordereau versement D'!H224","v":0},{"$f":"'Bordereau versement D'!I224","v":0},{"$f":"'Bordereau versement D'!J224","v":0},{"$f":"'Bordereau versement D'!K224","v":0}]
[{"$f":"'Bordereau versement D'!A225:D225","v":0},null,null,null,{"$f":"'Bordereau versement D'!E225","v":0},{"$f":"'Bordereau versement D'!F225:G225","v":0},null,{"$f":"'Bordereau versement D'!H225","v":0},{"$f":"'Bordereau versement D'!I225","v":0},{"$f":"'Bordereau versement D'!J225","v":0},{"$f":"'Bordereau versement D'!K225","v":0}]
[{"$f":"'Bordereau versement D'!A226:D226","v":0},null,null,null,{"$f":"'Bordereau versement D'!E226","v":0},{"$f":"'Bordereau versement D'!F226:G226","v":0},null,{"$f":"'Bordereau versement D'!H226","v":0},{"$f":"'Bordereau versement D'!I226","v":0},{"$f":"'Bordereau versement D'!J226","v":0},{"$f":"'Bordereau versement D'!K226","v":0}]
[{"$f":"'Bordereau versement D'!A227:D227","v":0},null,null,null,{"$f":"'Bordereau versement D'!E227","v":0},{"$f":"'Bordereau versement D'!F227:G227","v":0},null,{"$f":"'Bordereau versement D'!H227","v":0},{"$f":"'Bordereau versement D'!I227","v":0},{"$f":"'Bordereau versement D'!J227","v":0},{"$f":"'Bordereau versement D'!K227","v":0}]
[{"$f":"'Bordereau versement D'!A228:D228","v":0},null,null,null,{"$f":"'Bordereau versement D'!E228","v":0},{"$f":"'Bordereau versement D'!F228:G228","v":0},null,{"$f":"'Bordereau versement D'!H228","v":0},{"$f":"'Bordereau versement D'!I228","v":0},{"$f":"'Bordereau versement D'!J228","v":0},{"$f":"'Bordereau versement D'!K228","v":0}]
[{"$f":"'Bordereau versement D'!A229:D229","v":0},null,null,null,{"$f":"'Bordereau versement D'!E229","v":0},{"$f":"'Bordereau versement D'!F229:G229","v":0},null,{"$f":"'Bordereau versement D'!H229","v":0},{"$f":"'Bordereau versement D'!I229","v":0},{"$f":"'Bordereau versement D'!J229","v":0},{"$f":"'Bordereau versement D'!K229","v":0}]
[{"$f":"'Bordereau versement D'!A230:D230","v":0},null,null,null,{"$f":"'Bordereau versement D'!E230","v":0},{"$f":"'Bordereau versement D'!F230:G230","v":0},null,{"$f":"'Bordereau versement D'!H230","v":0},{"$f":"'Bordereau versement D'!I230","v":0},{"$f":"'Bordereau versement D'!J230","v":0},{"$f":"'Bordereau versement D'!K230","v":0}]
[{"$f":"'Bordereau versement D'!A231:D231","v":0},null,null,null,{"$f":"'Bordereau versement D'!E231","v":0},{"$f":"'Bordereau versement D'!F231:G231","v":0},null,{"$f":"'Bordereau versement D'!H231","v":0},{"$f":"'Bordereau versement D'!I231","v":0},{"$f":"'Bordereau versement D'!J231","v":0},{"$f":"'Bordereau versement D'!K231","v":0}]
[{"$f":"'Bordereau versement D'!A232:D232","v":0},null,null,null,{"$f":"'Bordereau versement D'!E232","v":0},{"$f":"'Bordereau versement D'!F232:G232","v":0},null,{"$f":"'Bordereau versement D'!H232","v":0},{"$f":"'Bordereau versement D'!I232","v":0},{"$f":"'Bordereau versement D'!J232","v":0},{"$f":"'Bordereau versement D'!K232","v":0}]
[{"$f":"'Bordereau versement D'!A233:D233","v":0},null,null,null,{"$f":"'Bordereau versement D'!E233","v":0},{"$f":"'Bordereau versement D'!F233:G233","v":0},null,{"$f":"'Bordereau versement D'!H233","v":0},{"$f":"'Bordereau versement D'!I233","v":0},{"$f":"'Bordereau versement D'!J233","v":0},{"$f":"'Bordereau versement D'!K233","v":0}]
[{"$f":"'Bordereau versement D'!A234:D234","v":0},null,null,null,{"$f":"'Bordereau versement D'!E234","v":0},{"$f":"'Bordereau versement D'!F234:G234","v":0},null,{"$f":"'Bordereau versement D'!H234","v":0},{"$f":"'Bordereau versement D'!I234","v":0},{"$f":"'Bordereau versement D'!J234","v":0},{"$f":"'Bordereau versement D'!K234","v":0}]
[{"$f":"'Bordereau versement D'!A235:D235","v":0},null,null,null,{"$f":"'Bordereau versement D'!E235","v":0},{"$f":"'Bordereau versement D'!F235:G235","v":0},null,{"$f":"'Bordereau versement D'!H235","v":0},{"$f":"'Bordereau versement D'!I235","v":0},{"$f":"'Bordereau versement D'!J235","v":0},{"$f":"'Bordereau versement D'!K235","v":0}]
[{"$f":"'Bordereau versement D'!A236:D236","v":0},null,null,null,{"$f":"'Bordereau versement D'!E236","v":0},{"$f":"'Bordereau versement D'!F236:G236","v":0},null,{"$f":"'Bordereau versement D'!H236","v":0},{"$f":"'Bordereau versement D'!I236","v":0},{"$f":"'Bordereau versement D'!J236","v":0},{"$f":"'Bordereau versement D'!K236","v":0}]
[{"$f":"'Bordereau versement D'!A237:D237","v":0},null,null,null,{"$f":"'Bordereau versement D'!E237","v":0},{"$f":"'Bordereau versement D'!F237:G237","v":0},null,{"$f":"'Bordereau versement D'!H237","v":0},{"$f":"'Bordereau versement D'!I237","v":0},{"$f":"'Bordereau versement D'!J237","v":0},{"$f":"'Bordereau versement D'!K237","v":0}]
[{"$f":"'Bordereau versement D'!A238:D238","v":0},null,null,null,{"$f":"'Bordereau versement D'!E238","v":0},{"$f":"'Bordereau versement D'!F238:G238","v":0},null,{"$f":"'Bordereau versement D'!H238","v":0},{"$f":"'Bordereau versement D'!I238","v":0},{"$f":"'Bordereau versement D'!J238","v":0},{"$f":"'Bordereau versement D'!K238","v":0}]
[{"$f":"'Bordereau versement D'!A239:D239","v":0},null,null,null,{"$f":"'Bordereau versement D'!E239","v":0},{"$f":"'Bordereau versement D'!F239:G239","v":0},null,{"$f":"'Bordereau versement D'!H239","v":0},{"$f":"'Bordereau versement D'!I239","v":0},{"$f":"'Bordereau versement D'!J239","v":0},{"$f":"'Bordereau versement D'!K239","v":0}]
[{"$f":"'Bordereau versement D'!A240:D240","v":0},null,null,null,{"$f":"'Bordereau versement D'!E240","v":0},{"$f":"'Bordereau versement D'!F240:G240","v":0},null,{"$f":"'Bordereau versement D'!H240","v":0},{"$f":"'Bordereau versement D'!I240","v":0},{"$f":"'Bordereau versement D'!J240","v":0},{"$f":"'Bordereau versement D'!K240","v":0}]
[{"$f":"'Bordereau versement D'!A241:D241","v":0},null,null,null,{"$f":"'Bordereau versement D'!E241","v":0},{"$f":"'Bordereau versement D'!F241:G241","v":0},null,{"$f":"'Bordereau versement D'!H241","v":0},{"$f":"'Bordereau versement D'!I241","v":0},{"$f":"'Bordereau versement D'!J241","v":0},{"$f":"'Bordereau versement D'!K241","v":0}]
[{"$f":"'Bordereau versement D'!A242:D242","v":0},null,null,null,{"$f":"'Bordereau versement D'!E242","v":0},{"$f":"'Bordereau versement D'!F242:G242","v":0},null,{"$f":"'Bordereau versement D'!H242","v":0},{"$f":"'Bordereau versement D'!I242","v":0},{"$f":"'Bordereau versement D'!J242","v":0},{"$f":"'Bordereau versement D'!K242","v":0}]
[{"$f":"'Bordereau versement D'!A243:D243","v":0},null,null,null,{"$f":"'Bordereau versement D'!E243","v":0},{"$f":"'Bordereau versement D'!F243:G243","v":0},null,{"$f":"'Bordereau versement D'!H243","v":0},{"$f":"'Bordereau versement D'!I243","v":0},{"$f":"'Bordereau versement D'!J243","v":0},{"$f":"'Bordereau versement D'!K243","v":0}]
[{"$f":"'Bordereau versement D'!A244:D244","v":0},null,null,null,{"$f":"'Bordereau versement D'!E244","v":0},{"$f":"'Bordereau versement D'!F244:G244","v":0},null,{"$f":"'Bordereau versement D'!H244","v":0},{"$f":"'Bordereau versement D'!I244","v":0},{"$f":"'Bordereau versement D'!J244","v":0},{"$f":"'Bordereau versement D'!K244","v":0}]
[{"$f":"'Bordereau versement D'!A245:D245","v":0},null,null,null,{"$f":"'Bordereau versement D'!E245","v":0},{"$f":"'Bordereau versement D'!F245:G245","v":0},null,{"$f":"'Bordereau versement D'!H245","v":0},{"$f":"'Bordereau versement D'!I245","v":0},{"$f":"'Bordereau versement D'!J245","v":0},{"$f":"'Bordereau versement D'!K245","v":0}]
[{"$f":"'Bordereau versement D'!A246:D246","v":0},null,null,null,{"$f":"'Bordereau versement D'!E246","v":0},{"$f":"'Bordereau versement D'!F246:G246","v":0},null,{"$f":"'Bordereau versement D'!H246","v":0},{"$f":"'Bordereau versement D'!I246","v":0},{"$f":"'Bordereau versement D'!J246","v":0},{"$f":"'Bordereau versement D'!K246","v":0}]
[{"$f":"'Bordereau versement D'!A247:D247","v":0},null,null,null,{"$f":"'Bordereau versement D'!E247","v":0},{"$f":"'Bordereau versement D'!F247:G247","v":0},null,{"$f":"'Bordereau versement D'!H247","v":0},{"$f":"'Bordereau versement D'!I247","v":0},{"$f":"'Bordereau versement D'!J247","v":0},{"$f":"'Bordereau versement D'!K247","v":0}]
[{"$f":"'Bordereau versement D'!A248:D248","v":0},null,null,null,{"$f":"'Bordereau versement D'!E248","v":0},{"$f":"'Bordereau versement D'!F248:G248","v":0},null,{"$f":"'Bordereau versement D'!H248","v":0},{"$f":"'Bordereau versement D'!I248","v":0},{"$f":"'Bordereau versement D'!J248","v":0},{"$f":"'Bordereau versement D'!K248","v":0}]
[{"$f":"'Bordereau versement D'!A249:D249","v":0},null,null,null,{"$f":"'Bordereau versement D'!E249","v":0},{"$f":"'Bordereau versement D'!F249:G249","v":0},null,{"$f":"'Bordereau versement D'!H249","v":0},{"$f":"'Bordereau versement D'!I249","v":0},{"$f":"'Bordereau versement D'!J249","v":0},{"$f":"'Bordereau versement D'!K249","v":0}]
[{"$f":"'Bordereau versement D'!A250:D250","v":0},null,null,null,{"$f":"'Bordereau versement D'!E250","v":0},{"$f":"'Bordereau versement D'!F250:G250","v":0},null,{"$f":"'Bordereau versement D'!H250","v":0},{"$f":"'Bordereau versement D'!I250","v":0},{"$f":"'Bordereau versement D'!J250","v":0},{"$f":"'Bordereau versement D'!K250","v":0}]
[{"$f":"'Bordereau versement D'!A251:D251","v":0},null,null,null,{"$f":"'Bordereau versement D'!E251","v":0},{"$f":"'Bordereau versement D'!F251:G251","v":0},null,{"$f":"'Bordereau versement D'!H251","v":0},{"$f":"'Bordereau versement D'!I251","v":0},{"$f":"'Bordereau versement D'!J251","v":0},{"$f":"'Bordereau versement D'!K251","v":0}]
[{"$f":"'Bordereau versement D'!A252:D252","v":0},null,null,null,{"$f":"'Bordereau versement D'!E252","v":0},{"$f":"'Bordereau versement D'!F252:G252","v":0},null,{"$f":"'Bordereau versement D'!H252","v":0},{"$f":"'Bordereau versement D'!I252","v":0},{"$f":"'Bordereau versement D'!J252","v":0},{"$f":"'Bordereau versement D'!K252","v":0}]
[{"$f":"'Bordereau versement D'!A253:D253","v":0},null,null,null,{"$f":"'Bordereau versement D'!E253","v":0},{"$f":"'Bordereau versement D'!F253:G253","v":0},null,{"$f":"'Bordereau versement D'!H253","v":0},{"$f":"'Bordereau versement D'!I253","v":0},{"$f":"'Bordereau versement D'!J253","v":0},{"$f":"'Bordereau versement D'!K253","v":0}]
[{"$f":"'Bordereau versement D'!A254:D254","v":0},null,null,null,{"$f":"'Bordereau versement D'!E254","v":0},{"$f":"'Bordereau versement D'!F254:G254","v":0},null,{"$f":"'Bordereau versement D'!H254","v":0},{"$f":"'Bordereau versement D'!I254","v":0},{"$f":"'Bordereau versement D'!J254","v":0},{"$f":"'Bordereau versement D'!K254","v":0}]
[{"$f":"'Bordereau versement D'!A255:D255","v":0},null,null,null,{"$f":"'Bordereau versement D'!E255","v":0},{"$f":"'Bordereau versement D'!F255:G255","v":0},null,{"$f":"'Bordereau versement D'!H255","v":0},{"$f":"'Bordereau versement D'!I255","v":0},{"$f":"'Bordereau versement D'!J255","v":0},{"$f":"'Bordereau versement D'!K255","v":0}]
[{"$f":"'Bordereau versement D'!A256:D256","v":0},null,null,null,{"$f":"'Bordereau versement D'!E256","v":0},{"$f":"'Bordereau versement D'!F256:G256","v":0},null,{"$f":"'Bordereau versement D'!H256","v":0},{"$f":"'Bordereau versement D'!I256","v":0},{"$f":"'Bordereau versement D'!J256","v":0},{"$f":"'Bordereau versement D'!K256","v":0}]
[{"$f":"'Bordereau versement D'!A257:D257","v":0},null,null,null,{"$f":"'Bordereau versement D'!E257","v":0},{"$f":"'Bordereau versement D'!F257:G257","v":0},null,{"$f":"'Bordereau versement D'!H257","v":0},{"$f":"'Bordereau versement D'!I257","v":0},{"$f":"'Bordereau versement D'!J257","v":0},{"$f":"'Bordereau versement D'!K257","v":0}]
[{"$f":"'Bordereau versement D'!A258:D258","v":0},null,null,null,{"$f":"'Bordereau versement D'!E258","v":0},{"$f":"'Bordereau versement D'!F258:G258","v":0},null,{"$f":"'Bordereau versement D'!H258","v":0},{"$f":"'Bordereau versement D'!I258","v":0},{"$f":"'Bordereau versement D'!J258","v":0},{"$f":"'Bordereau versement D'!K258","v":0}]
[{"$f":"'Bordereau versement D'!A259:D259","v":0},null,null,null,{"$f":"'Bordereau versement D'!E259","v":0},{"$f":"'Bordereau versement D'!F259:G259","v":0},null,{"$f":"'Bordereau versement D'!H259","v":0},{"$f":"'Bordereau versement D'!I259","v":0},{"$f":"'Bordereau versement D'!J259","v":0},{"$f":"'Bordereau versement D'!K259","v":0}]
["Total D",null,null,null,null,null,null,null,{"$f":"SUM(I776:I1025)","v":0},{"$f":"SUM(J776:J1025)","v":0},{"$f":"SUM(K776:K1025)","v":0}]
[]
["E. Versement net comprenant les taxes (A + B + C - D)",null,null,null,null,{"$f":"G261+L516+J771-I1026","v":0}]

{"sheet":"Bordereau versement A","index":1,"n_rows":260,"n_cols":12,"rows_kept":260,"cut":false,"hidden":false,"merged":[[0,11,0,12],[64,0,64,3],[67,0,67,3],[3,3,3,6],[4,3,4,6],[5,3,5,6],[65,0,65,3],[8,0,8,3],[3,0,3,2],[4,0,4,2],[9,0,9,3],[5,0,5,1],[62,0,62,3],[63,0,63,3],[19,0,19,3],[20,0,20,3],[46,0,46,3],[47,0,47,3],[48,0,48,3],[49,0,49,3],[50,0,50,3],[51,0,51,3],[282,0,282,11],[66,0,66,3],[72,0,72,3],[76,0,76,3],[73,0,73,3],[74,0,74,3],[78,0,78,3],[69,0,69,3],[70,0,70,3],[259,0,259,5],[88,0,88,3],[89,0,89,3],[81,0,81,3],[82,0,82,3],[83,0,83,3],[84,0,84,3],[85,0,85,3],[71,0,71,3],[75,0,75,3],[77,0,77,3],[79,0,79,3],[80,0,80,3],[93,0,93,3],[94,0,94,3],[52,0,52,3],[53,0,53,3],[10,0,10,3],[11,0,11,3],[12,0,12,3],[13,0,13,3],[14,0,14,3],[15,0,15,3],[16,0,16,3],[17,0,17,3],[18,0,18,3],[21,0,21,3],[22,0,22,3],[23,0,23,3],[24,0,24,3],[25,0,25,3],[26,0,26,3],[27,0,27,3],[28,0,28,3],[29,0,29,3],[30,0,30,3],[31,0,31,3],[32,0,32,3],[33,0,33,3],[103,0,103,3],[58,0,58,3],[59,0,59,3],[60,0,60,3],[61,0,61,3],[68,0,68,3],[54,0,54,3],[55,0,55,3],[56,0,56,3],[57,0,57,3],[98,0,98,3],[99,0,99,3],[100,0,100,3],[101,0,101,3],[102,0,102,3],[95,0,95,3],[96,0,96,3],[97,0,97,3],[86,0,86,3],[87,0,87,3],[90,0,90,3],[91,0,91,3],[92,0,92,3],[110,0,110,3],[111,0,111,3],[112,0,112,3],[113,0,113,3],[114,0,114,3],[104,0,104,3],[105,0,105,3],[106,0,106,3],[109,0,109,3],[107,0,107,3],[108,0,108,3],[120,0,120,3],[121,0,121,3],[122,0,122,3],[123,0,123,3],[124,0,124,3],[115,0,115,3],[116,0,116,3],[117,0,117,3],[118,0,118,3],[119,0,119,3],[130,0,130,3],[131,0,131,3],[132,0,132,3],[133,0,133,3],[134,0,134,3],[125,0,125,3],[126,0,126,3],[127,0,127,3],[128,0,128,3],[129,0,129,3],[140,0,140,3],[141,0,141,3],[142,0,142,3],[143,0,143,3],[144,0,144,3],[135,0,135,3],[136,0,136,3],[137,0,137,3],[138,0,138,3],[139,0,139,3],[150,0,150,3],[151,0,151,3],[152,0,152,3],[153,0,153,3],[154,0,154,3],[145,0,145,3],[146,0,146,3],[147,0,147,3],[148,0,148,3],[149,0,149,3],[160,0,160,3],[161,0,161,3],[162,0,162,3],[163,0,163,3],[164,0,164,3],[155,0,155,3],[156,0,156,3],[157,0,157,3],[158,0,158,3],[159,0,159,3],[170,0,170,3],[171,0,171,3],[172,0,172,3],[173,0,173,3],[174,0,174,3],[165,0,165,3],[166,0,166,3],[167,0,167,3],[168,0,168,3],[169,0,169,3],[180,0,180,3],[181,0,181,3],[182,0,182,3],[183,0,183,3],[184,0,184,3],[175,0,175,3],[176,0,176,3],[177,0,177,3],[178,0,178,3],[179,0,179,3],[190,0,190,3],[191,0,191,3],[192,0,192,3],[193,0,193,3],[194,0,194,3],[185,0,185,3],[186,0,186,3],[187,0,187,3],[188,0,188,3],[189,0,189,3],[200,0,200,3],[201,0,201,3],[202,0,202,3],[203,0,203,3],[204,0,204,3],[195,0,195,3],[196,0,196,3],[197,0,197,3],[198,0,198,3],[199,0,199,3],[210,0,210,3],[211,0,211,3],[212,0,212,3],[213,0,213,3],[214,0,214,3],[205,0,205,3],[206,0,206,3],[207,0,207,3],[208,0,208,3],[209,0,209,3],[220,0,220,3],[221,0,221,3],[222,0,222,3],[223,0,223,3],[224,0,224,3],[215,0,215,3],[216,0,216,3],[217,0,217,3],[218,0,218,3],[219,0,219,3],[239,0,239,3],[230,0,230,3],[231,0,231,3],[232,0,232,3],[233,0,233,3],[234,0,234,3],[225,0,225,3],[226,0,226,3],[227,0,227,3],[228,0,228,3],[229,0,229,3],[235,0,235,3],[236,0,236,3],[237,0,237,3],[238,0,238,3],[255,0,255,3],[256,0,256,3],[257,0,257,3],[258,0,258,3],[250,0,250,3],[251,0,251,3],[252,0,252,3],[253,0,253,3],[254,0,254,3],[245,0,245,3],[246,0,246,3],[247,0,247,3],[248,0,248,3],[249,0,249,3],[240,0,240,3],[241,0,241,3],[242,0,242,3],[243,0,243,3],[244,0,244,3],[1,0,1,8],[34,0,34,3],[35,0,35,3],[41,0,41,3],[42,0,42,3],[43,0,43,3],[44,0,44,3],[45,0,45,3],[36,0,36,3],[37,0,37,3],[38,0,38,3],[39,0,39,3],[40,0,40,3],[7,0,7,8]]}
[]
["Bordereau de versement des frais relatifs au guichet unique à la Coopérative Enfance Famille"]
[]
["Nom du bureau coordonnateur :"]
["Date du versement :"]
["Date du versement précédent :"]
[]
["A. Frais de service prélevés pour l'exercice financier 20__-20__"]
["                                                                                                          Nom, prénom de la RSG",null,null,null,"No d'identification","Nombre de places aux fins du calcul","Frais de service comprenant les taxes","TPS","TVQ"]
[]
[]
[]
[]
[]
[]
[]
[]
[]
[]
[]
[]
[]
[]
[]
[]
[]
[]
[]
[]
[]
[]
[]
[]
[]
[]
[]
[]
[]
[]
[]
[]
[]
[]
[]
[]
[]
[]
[]
[]
[]
[]
[]
[]
[]
[]
[]
[]
[]
[]
[]
[]
[]
[]
[]
[]
[]
[]
[]
[]
[]
[]
[]
[]
[]
[]
[]
[]
[]
[]
[]
[]
[]
[]
[]
[]
[]
[]
[]
[]
[]
[]
[]
[]
[]
[]
[]
[]
[]
[]
[]
[]
[]
[]
[]
[]
[]
[]
[]
[]
[]
[]
[]
[]
[]
[]
[]
[]
[]
[]
[]
[]
[]
[]
[]
[]
[]
[]
[]
[]
[]
[]
[]
[]
[]
[]
[]
[]
[]
[]
[]
[]
[]
[]
[]
[]
[]
[]
[]
[]
[]
[]
[]
[]
[]
[]
[]
[]
[]
[]
[]
[]
[]
[]
[]
[]
[]
[]
[]
[]
[]
[]
[]
[]
[]
[]
[]
[]
[]
[]
[]
[]
[]
[]
[]
[]
[]
[]
[]
[]
[]
[]
[]
[]
[]
[]
[]
[]
[]
[]
[]
[]
[]
[]
[]
[]
[]
[]
[]
[]
[]
[]
[]
[]
[]
[]
[]
[]
[]
[]
[]
[]
[]
[]
[]
[]
[]
[]
[]
[]
[]
[]
[]
[]
[]
[]
[]
[]
[]
[]
[]
[]
[]
[]
[]
[]
[]
[]
[]
[]
[]
[]
[]
[]
[]
[]
[]
[]
[]
[]
["Total A",null,null,null,null,null,{"$f":"SUM(G10:G259)","v":0},{"$f":"SUM(H10:H259)","v":0},{"$f":"SUM(I10:I259)","v":0},{"$f":"IF(SUM(J10:J259)=0,\"\",SUM(J10:J259))","v":""},{"$f":"IF(SUM(K10:K259)=0,\"\",SUM(K10:K259))","v":""},{"$f":"IF(SUM(L10:L259)=0,\"\",SUM(L10:L259))","v":""}]

{"sheet":"Bordereau versement B","index":2,"n_rows":260,"n_cols":14,"rows_kept":260,"cut":false,"hidden":false,"merged":[[7,0,7,13],[0,11,0,12],[1,0,1,11],[3,0,3,2],[3,3,3,6],[4,0,4,2],[4,3,4,6],[9,0,9,3],[142,0,142,3],[136,0,136,3],[141,0,141,3],[30,5,30,6],[31,0,31,3],[31,5,31,6],[32,0,32,3],[32,5,32,6],[27,0,27,3],[27,5,27,6],[28,0,28,3],[28,5,28,6],[29,0,29,3],[29,5,29,6],[36,0,36,3],[36,5,36,6],[37,0,37,3],[254,0,254,3],[144,0,144,3],[5,0,5,1],[5,3,5,6],[252,5,252,6],[253,0,253,3],[253,5,253,6],[19,0,19,3],[20,0,20,3],[20,5,20,6],[21,0,21,3],[21,5,21,6],[22,0,22,3],[216,0,216,3],[217,0,217,3],[218,0,218,3],[218,5,218,6],[243,0,243,3],[152,0,152,3],[152,5,152,6],[153,0,153,3],[153,5,153,6],[154,0,154,3],[256,0,256,3],[257,0,257,3],[258,0,258,3],[258,5,258,6],[255,0,255,3],[255,5,255,6],[252,0,252,3],[140,5,140,6],[250,0,250,3],[250,5,250,6],[251,0,251,3],[251,5,251,6],[249,0,249,3],[249,5,249,6],[225,5,225,6],[226,0,226,3],[226,5,226,6],[227,0,227,3],[227,5,227,6],[222,0,222,3],[222,5,222,6],[223,0,223,3],[223,5,223,6],[224,0,224,3],[138,0,138,3],[177,5,177,6],[148,0,148,3],[148,5,148,6],[149,0,149,3],[149,5,149,6],[150,0,150,3],[150,5,150,6],[144,5,144,6],[145,0,145,3],[145,5,145,6],[146,0,146,3],[146,5,146,6],[147,0,147,3],[147,5,147,6],[155,0,155,3],[155,5,155,6],[166,0,166,3],[166,5,166,6],[154,5,154,6],[259,0,259,8],[138,5,138,6],[9,5,9,6],[8,5,8,6],[143,0,143,3],[143,5,143,6],[70,0,70,3],[70,5,70,6],[245,5,245,6],[8,0,8,3],[215,0,215,3],[215,5,215,6],[135,0,135,3],[135,5,135,6],[240,0,240,3],[240,5,240,6],[241,0,241,3],[241,5,241,6],[242,0,242,3],[242,5,242,6],[254,5,254,6],[256,5,256,6],[257,5,257,6],[177,0,177,3],[10,0,10,3],[10,5,10,6],[11,0,11,3],[11,5,11,6],[12,0,12,3],[12,5,12,6],[25,0,25,3],[25,5,25,6],[26,0,26,3],[26,5,26,6],[16,0,16,3],[16,5,16,6],[17,0,17,3],[17,5,17,6],[18,0,18,3],[18,5,18,6],[23,0,23,3],[23,5,23,6],[22,5,22,6],[19,5,19,6],[13,0,13,3],[13,5,13,6],[14,0,14,3],[14,5,14,6],[30,0,30,3],[247,0,247,3],[247,5,247,6],[248,0,248,3],[248,5,248,6],[243,5,243,6],[244,0,244,3],[244,5,244,6],[245,0,245,3],[246,0,246,3],[246,5,246,6],[213,0,213,3],[213,5,213,6],[214,0,214,3],[214,5,214,6],[216,5,216,6],[217,5,217,6],[210,0,210,3],[210,5,210,6],[211,0,211,3],[211,5,211,6],[212,0,212,3],[212,5,212,6],[225,0,225,3],[15,0,15,3],[15,5,15,6],[151,0,151,3],[151,5,151,6],[173,0,173,3],[173,5,173,6],[209,0,209,3],[209,5,209,6],[176,0,176,3],[176,5,176,6],[24,0,24,3],[24,5,24,6],[41,5,41,6],[48,0,48,3],[48,5,48,6],[49,0,49,3],[49,5,49,6],[50,0,50,3],[50,5,50,6],[45,0,45,3],[45,5,45,6],[46,0,46,3],[46,5,46,6],[47,0,47,3],[224,5,224,6],[231,0,231,3],[231,5,231,6],[37,5,37,6],[38,0,38,3],[38,5,38,6],[33,0,33,3],[33,5,33,6],[34,0,34,3],[34,5,34,6],[35,0,35,3],[35,5,35,6],[42,0,42,3],[42,5,42,6],[43,0,43,3],[43,5,43,6],[44,0,44,3],[44,5,44,6],[39,0,39,3],[39,5,39,6],[40,0,40,3],[40,5,40,6],[41,0,41,3],[47,5,47,6],[54,0,54,3],[54,5,54,6],[55,0,55,3],[55,5,55,6],[56,0,56,3],[56,5,56,6],[51,0,51,3],[51,5,51,6],[52,0,52,3],[52,5,52,6],[53,0,53,3],[53,5,53,6],[60,0,60,3],[60,5,60,6],[61,0,61,3],[61,5,61,6],[62,0,62,3],[62,5,62,6],[57,0,57,3],[57,5,57,6],[58,0,58,3],[58,5,58,6],[59,0,59,3],[59,5,59,6],[66,0,66,3],[66,5,66,6],[67,0,67,3],[67,5,67,6],[68,0,68,3],[68,5,68,6],[63,0,63,3],[63,5,63,6],[64,0,64,3],[64,5,64,6],[65,0,65,3],[65,5,65,6],[74,0,74,3],[74,5,74,6],[75,0,75,3],[75,5,75,6],[76,0,76,3],[76,5,76,6],[69,0,69,3],[69,5,69,6],[72,0,72,3],[72,5,72,6],[73,0,73,3],[73,5,73,6],[71,0,71,3],[71,5,71,6],[80,0,80,3],[80,5,80,6],[81,0,81,3],[81,5,81,6],[82,0,82,3],[82,5,82,6],[77,0,77,3],[77,5,77,6],[78,0,78,3],[78,5,78,6],[79,0,79,3],[79,5,79,6],[86,0,86,3],[86,5,86,6],[87,0,87,3],[87,5,87,6],[88,0,88,3],[88,5,88,6],[83,0,83,3],[83,5,83,6],[84,0,84,3],[84,5,84,6],[85,0,85,3],[85,5,85,6],[92,0,92,3],[92,5,92,6],[93,0,93,3],[93,5,93,6],[94,0,94,3],[94,5,94,6],[89,0,89,3],[89,5,89,6],[90,0,90,3],[90,5,90,6],[91,0,91,3],[91,5,91,6],[98,0,98,3],[98,5,98,6],[99,0,99,3],[99,5,99,6],[100,0,100,3],[100,5,100,6],[95,0,95,3],[95,5,95,6],[96,0,96,3],[96,5,96,6],[97,0,97,3],[97,5,97,6],[104,0,104,3],[104,5,104,6],[105,0,105,3],[105,5,105,6],[106,0,106,3],[106,5,106,6],[101,0,101,3],[101,5,101,6],[102,0,102,3],[102,5,102,6],[103,0,103,3],[103,5,103,6],[110,0,110,3],[110,5,110,6],[111,0,111,3],[111,5,111,6],[112,0,112,3],[112,5,112,6],[107,0,107,3],[107,5,107,6],[108,0,108,3],[108,5,108,6],[109,0,109,3],[109,5,109,6],[116,0,116,3],[116,5,116,6],[117,0,117,3],[117,5,117,6],[118,0,118,3],[118,5,118,6],[113,0,113,3],[113,5,113,6],[114,0,114,3],[114,5,114,6],[115,0,115,3],[115,5,115,6],[122,0,122,3],[122,5,122,6],[123,0,123,3],[123,5,123,6],[124,0,124,3],[124,5,124,6],[119,0,119,3],[119,5,119,6],[120,0,120,3],[120,5,120,6],[121,0,121,3],[121,5,121,6],[128,0,128,3],[128,5,128,6],[129,0,129,3],[129,5,129,6],[130,0,130,3],[130,5,130,6],[125,0,125,3],[125,5,125,6],[126,0,126,3],[126,5,126,6],[127,0,127,3],[127,5,127,6],[131,0,131,3],[131,5,131,6],[174,0,174,3],[174,5,174,6],[175,0,175,3],[175,5,175,6],[156,0,156,3],[156,5,156,6],[157,0,157,3],[157,5,157,6],[141,5,141,6],[142,5,142,6],[132,0,132,3],[132,5,132,6],[133,0,133,3],[133,5,133,6],[134,0,134,3],[134,5,134,6],[136,5,136,6],[137,0,137,3],[137,5,137,6],[139,0,139,3],[139,5,139,6],[140,0,140,3],[181,0,181,3],[181,5,181,6],[182,0,182,3],[182,5,182,6],[183,0,183,3],[183,5,183,6],[178,0,178,3],[178,5,178,6],[179,0,179,3],[179,5,179,6],[180,0,180,3],[180,5,180,6],[187,0,187,3],[187,5,187,6],[188,0,188,3],[188,5,188,6],[189,0,189,3],[189,5,189,6],[184,0,184,3],[184,5,184,6],[185,0,185,3],[185,5,185,6],[186,0,186,3],[186,5,186,6],[194,5,194,6],[195,0,195,3],[195,5,195,6],[190,0,190,3],[190,5,190,6],[191,0,191,3],[191,5,191,6],[192,0,192,3],[192,5,192,6],[193,5,193,6],[205,0,205,3],[205,5,205,6],[202,0,202,3],[202,5,202,6],[203,0,203,3],[203,5,203,6],[204,0,204,3],[204,5,204,6],[199,0,199,3],[199,5,199,6],[200,0,200,3],[200,5,200,6],[201,0,201,3],[201,5,201,6],[196,5,196,6],[161,0,161,3],[161,5,161,6],[162,0,162,3],[162,5,162,6],[163,0,163,3],[163,5,163,6],[158,0,158,3],[158,5,158,6],[159,0,159,3],[159,5,159,6],[160,0,160,3],[160,5,160,6],[167,0,167,3],[167,5,167,6],[168,0,168,3],[168,5,168,6],[169,0,169,3],[169,5,169,6],[164,0,164,3],[164,5,164,6],[165,0,165,3],[165,5,165,6],[194,0,194,3],[219,0,219,3],[219,5,219,6],[220,0,220,3],[220,5,220,6],[221,0,221,3],[221,5,221,6],[170,0,170,3],[170,5,170,6],[171,0,171,3],[171,5,171,6],[172,0,172,3],[172,5,172,6],[208,0,208,3],[208,5,208,6],[206,0,206,3],[206,5,206,6],[207,0,207,3],[207,5,207,6],[197,0,197,3],[197,5,197,6],[198,0,198,3],[198,5,198,6],[193,0,193,3],[196,0,196,3],[232,0,232,3],[232,5,232,6],[233,0,233,3],[233,5,233,6],[228,0,228,3],[228,5,228,6],[229,0,229,3],[229,5,229,6],[230,0,230,3],[230,5,230,6],[237,0,237,3],[237,5,237,6],[238,0,238,3],[238,5,238,6],[239,0,239,3],[239,5,239,6],[234,0,234,3],[234,5,234,6],[235,0,235,3],[235,5,235,6],[236,0,236,3],[236,5,236,6]]}
[]
["Bordereau de versement des frais relatifs au guichet unique à la Coopérative Enfance Famille"]
[]
["Nom du bureau coordonnateur :",null,null,{"$f":"IF('Bordereau versement A'!D4:G4=\"\",\"\",'Bordereau versement A'!D4:G4)","v":""}]
["Date du versement :",null,null,{"$f":"IF('Bordereau versement A'!D5:G5=\"\",\"\",'Bordereau versement A'!D5:G5)","v":""}]
["Date du versement précédent :",null,null,{"$f":"IF('Bordereau versement A'!D6:G6=\"\",\"\",'Bordereau versement A'!D6:G6)","v":""}]
[]
["B. Frais de service et frais d'inscription prélevés depuis le versement précédent, à l'exclusion des ajustements de la partie C"]
["                                                                                                          Nom, prénom de la RSG",null,null,null,"No d'identification","Raison du prélèvement",null,"Nombre de places aux fins du calcul","Nombre de mois pour lesquels les frais ont été prélevés","Frais de service comprenant les taxes","Frais d'inscription comprenant les taxes","Total comprenant les taxes","TPS","TVQ"]
[null,null,null,null,null,null,null,null,null,null,null,{"$f":"J10+K10","v":0}]
[null,null,null,null,null,null,null,null,null,null,null,0]
[null,null,null,null,null,null,null,null,null,null,null,0]
[null,null,null,null,null,null,null,null,null,null,null,0]
[null,null,null,null,null,null,null,null,null,null,null,0]
[null,null,null,null,null,null,null,null,null,null,null,0]
[null,null,null,null,null,null,null,null,null,null,null,0]
[null,null,null,null,null,null,null,null,null,null,null,0]
[null,null,null,null,null,null,null,null,null,null,null,0]
[null,null,null,null,null,null,null,null,null,null,null,0]
[null,null,null,null,null,null,null,null,null,null,null,0]
[null,null,null,null,null,null,null,null,null,null,null,0]
[null,null,null,null,null,null,null,null,null,null,null,0]
[null,null,null,null,null,null,null,null,null,null,null,0]
[null,null,null,null,null,null,null,null,null,null,null,0]
[null,null,null,null,null,null,null,null,null,null,null,0]
[null,null,null,null,null,null,null,null,null,null,null,0]
[null,null,null,null,null,null,null,null,null,null,null,0]
[null,null,null,null,null,null,null,null,null,null,null,0]
[null,null,null,null,null,null,null,null,null,null,null,0]
[null,null,null,null,null,null,null,null,null,null,null,0]
[null,null,null,null,null,null,null,null,null,null,null,0]
[null,null,null,null,null,null,null,null,null,null,null,0]
[null,null,null,null,null,null,null,null,null,null,null,0]
[null,null,null,null,null,null,null,null,null,null,null,0]
[null,null,null,null,null,null,null,null,null,null,null,0]
[null,null,null,null,null,null,null,null,null,null,null,0]
[null,null,null,null,null,null,null,null,null,null,null,0]
[null,null,null,null,null,null,null,null,null,null,null,0]
[null,null,null,null,null,null,null,null,null,null,null,0]
[null,null,null,null,null,null,null,null,null,null,null,0]
[null,null,null,null,null,null,null,null,null,null,null,0]
[null,null,null,null,null,null,null,null,null,null,null,0]
[null,null,null,null,null,null,null,null,null,null,null,0]
[null,null,null,null,null,null,null,null,null,null,null,0]
[null,null,null,null,null,null,null,null,null,null,null,0]
[null,null,null,null,null,null,null,null,null,null,null,0]
[null,null,null,null,null,null,null,null,null,null,null,0]
[null,null,null,null,null,null,null,null,null,null,null,0]
[null,null,null,null,null,null,null,null,null,null,null,0]
[null,null,null,null,null,null,null,null,null,null,null,0]
[null,null,null,null,null,null,null,null,null,null,null,0]
[null,null,null,null,null,null,null,null,null,null,null,0]
[null,null,null,null,null,null,null,null,null,null,null,0]
[null,null,null,null,null,null,null,null,null,null,null,0]
[null,null,null,null,null,null,null,null,null,null,null,0]
[null,null,null,null,null,null,null,null,null,null,null,0]
[null,null,null,null,null,null,null,null,null,null,null,0]
[null,null,null,null,null,null,null,null,null,null,null,0]
[null,null,null,null,null,null,null,null,null,null,null,0]
[null,null,null,null,null,null,null,null,null,null,null,0]
[null,null,null,null,null,null,null,null,null,null,null,0]
[null,null,null,null,null,null,null,null,null,null,null,0]
[null,null,null,null,null,null,null,null,null,null,null,0]
[null,null,null,null,null,null,null,null,null,null,null,0]
[null,null,null,null,null,null,null,null,null,null,null,0]
[null,null,null,null,null,null,null,null,null,null,null,0]
[null,null,null,null,null,null,null,null,null,null,null,0]
[null,null,null,null,null,null,null,null,null,null,null,0]
[null,null,null,null,null,null,null,null,null,null,null,0]
[null,null,null,null,null,null,null,null,null,null,null,0]
[null,null,null,null,null,null,null,null,null,null,null,0]
[null,null,null,null,null,null,null,null,null,null,null,0]
[null,null,null,null,null,null,null,null,null,null,null,0]
[null,null,null,null,null,null,null,null,null,null,null,{"$f":"J74+K74","v":0}]
[null,null,null,null,null,null,null,null,null,null,null,0]
[null,null,null,null,null,null,null,null,null,null,null,0]
[null,null,null,null,null,null,null,null,null,null,null,0]
[null,null,null,null,null,null,null,null,null,null,null,0]
[null,null,null,null,null,null,null,null,null,null,null,0]
[null,null,null,null,null,null,null,null,null,null,null,0]
[null,null,null,null,null,null,null,null,null,null,null,0]
[null,null,null,null,null,null,null,null,null,null,null,0]
[null,null,null,null,null,null,null,null,null,null,null,0]
[null,null,null,null,null,null,null,null,null,null,null,0]
[null,null,null,null,null,null,null,null,null,null,null,0]
[null,null,null,null,null,null,null,null,null,null,null,0]
[null,null,null,null,null,null,null,null,null,null,null,0]
[null,null,null,null,null,null,null,null,null,null,null,0]
[null,null,null,null,null,null,null,null,null,null,null,0]
[null,null,null,null,null,null,null,null,null,null,null,0]
[null,null,null,null,null,null,null,null,null,null,null,0]
[null,null,null,null,null,null,null,null,null,null,null,0]
[null,null,null,null,null,null,null,null,null,null,null,0]
[null,null,null,null,null,null,null,null,null,null,null,0]
[null,null,null,null,null,null,null,null,null,null,null,0]
[null,null,null,null,null,null,null,null,null,null,null,0]
[null,null,null,null,null,null,null,null,null,null,null,0]
[null,null,null,null,null,null,null,null,null,null,null,0]
[null,null,null,null,null,null,null,null,null,null,null,0]
[null,null,null,null,null,null,null,null,null,null,null,0]
[null,null,null,null,null,null,null,null,null,null,null,0]
[null,null,null,null,null,null,null,null,null,null,null,0]
[null,null,null,null,null,null,null,null,null,null,null,0]
[null,null,null,null,null,null,null,null,null,null,null,0]
[null,null,null,null,null,null,null,null,null,null,null,0]
[null,null,null,null,null,null,null,null,null,null,null,0]
[null,null,null,null,null,null,null,null,null,null,null,0]
[null,null,null,null,null,null,null,null,null,null,null,0]
[null,null,null,null,null,null,null,null,null,null,null,0]
[null,null,null,null,null,null,null,null,null,null,null,0]
[null,null,null,null,null,null,null,null,null,null,null,0]
[null,null,null,null,null,null,null,null,null,null,null,0]
[null,null,null,null,null,null,null,null,null,null,null,0]
[null,null,null,null,null,null,null,null,null,null,null,0]
[null,null,null,null,null,null,null,null,null,null,null,0]
[null,null,null,null,null,null,null,null,null,null,null,0]
[null,null,null,null,null,null,null,null,null,null,null,0]
[null,null,null,null,null,null,null,null,null,null,null,0]
[null,null,null,null,null,null,null,null,null,null,null,0]
[null,null,null,null,null,null,null,null,null,null,null,0]
[null,null,null,null,null,null,null,null,null,null,null,0]
[null,null,null,null,null,null,null,null,null,null,null,0]
[null,null,null,null,null,null,null,null,null,null,null,0]
[null,null,null,null,null,null,null,null,null,null,null,0]
[null,null,null,null,null,null,null,null,null,null,null,0]
[null,null,null,null,null,null,null,null,null,null,null,0]
[null,null,null,null,null,null,null,null,null,null,null,0]
[null,null,null,null,null,null,null,null,null,null,null,0]
[null,null,null,null,null,null,null,null,null,null,null,0]
[null,null,null,null,null,null,null,null,null,null,null,0]
[null,null,null,null,null,null,null,null,null,null,null,0]
[null,null,null,null,null,null,null,null,null,null,null,0]
[null,null,null,null,null,null,null,null,null,null,null,0]
[null,null,null,null,null,null,null,null,null,null,null,0]
[null,null,null,null,null,null,null,null,null,null,null,0]
[null,null,null,null,null,null,null,null,null,null,null,0]
[null,null,null,null,null,null,null,null,null,null,null,0]
[null,null,null,null,null,null,null,null,null,null,null,{"$f":"J138+K138","v":0}]
[null,null,null,null,null,null,null,null,null,null,null,0]
[null,null,null,null,null,null,null,null,null,null,null,0]
[null,null,null,null,null,null,null,null,null,null,null,0]
[null,null,null,null,null,null,null,null,null,null,null,0]
[null,null,null,null,null,null,null,null,null,null,null,0]
[null,null,null,null,null,null,null,null,null,null,null,0]
[null,null,null,null,null,null,null,null,null,null,null,0]
[null,null,null,null,null,null,null,null,null,null,null,0]
[null,null,null,null,null,null,null,null,null,null,null,0]
[null,null,null,null,null,null,null,null,null,null,null,0]
[null,null,null,null,null,null,null,null,null,null,null,0]
[null,null,null,null,null,null,null,null,null,null,null,0]
[null,null,null,null,null,null,null,null,null,null,null,0]
[null,null,null,null,null,null,null,null,null,null,null,0]
[null,null,null,null,null,null,null,null,null,null,null,0]
[null,null,null,null,null,null,null,null,null,null,null,0]
[null,null,null,null,null,null,null,null,null,null,null,0]
[null,null,null,null,null,null,null,null,null,null,null,0]
[null,null,null,null,null,null,null,null,null,null,null,0]
[null,null,null,null,null,null,null,null,null,null,null,0]
[null,null,null,null,null,null,null,null,null,null,null,0]
[null,null,null,null,null,null,null,null,null,null,null,0]
[null,null,null,null,null,null,null,null,null,null,null,0]
[null,null,null,null,null,null,null,null,null,null,null,0]
[null,null,null,null,null,null,null,null,null,null,null,0]
[null,null,null,null,null,null,null,null,null,null,null,0]
[null,null,null,null,null,null,null,null,null,null,null,0]
[null,null,null,null,null,null,null,null,null,null,null,0]
[null,null,null,null,null,null,null,null,null,null,null,0]
[null,null,null,null,null,null,null,null,null,null,null,0]
[null,null,null,null,null,null,null,null,null,null,null,0]
[null,null,null,null,null,null,null,null,null,null,null,0]
[null,null,null,null,null,null,null,null,null,null,null,0]
[null,null,null,null,null,null,null,null,null,null,null,0]
[null,null,null,null,null,null,null,null,null,null,null,0]
[null,null,null,null,null,null,null,null,null,null,null,0]
[null,null,null,null,null,null,null,null,null,null,null,0]
[null,null,null,null,null,null,null,null,null,null,null,0]
[null,null,null,null,null,null,null,null,null,null,null,0]
[null,null,null,null,null,null,null,null,null,null,null,0]
[null,null,null,null,null,null,null,null,null,null,null,0]
[null,null,null,null,null,null,null,null,null,null,null,0]
[null,null,null,null,null,null,null,null,null,null,null,0]
[null,null,null,null,null,null,null,null,null,null,null,0]
[null,null,null,null,null,null,null,null,null,null,null,0]
[null,null,null,null,null,null,null,null,null,null,null,0]
[null,null,null,null,null,null,null,null,null,null,null,0]
[null,null,null,null,null,null,null,null,null,null,null,0]
[null,null,null,null,null,null,null,null,null,null,null,0]
[null,null,null,null,null,null,null,null,null,null,null,0]
[null,null,null,null,null,null,null,null,null,null,null,0]
[null,null,null,null,null,null,null,null,null,null,null,0]
[null,null,null,null,null,null,null,null,null,null,null,0]
[null,null,null,null,null,null,null,null,null,null,null,0]
[null,null,null,null,null,null,null,null,null,null,null,0]
[null,null,null,null,null,null,null,null,null,null,null,0]
[null,null,null,null,null,null,null,null,null,null,null,0]
[null,null,null,null,null,null,null,null,null,null,null,0]
[null,null,null,null,null,null,null,null,null,null,null,0]
[null,null,null,null,null,null,null,null,null,null,null,0]
[null,null,null,null,null,null,null,null,null,null,null,0]
[null,null,null,null,null,null,null,null,null,null,null,0]
[null,null,null,null,null,null,null,null,null,null,null,0]
[null,null,null,null,null,null,null,null,null,null,null,{"$f":"J202+K202","v":0}]
[null,null,null,null,null,null,null,null,null,null,null,0]
[null,null,null,null,null,null,null,null,null,null,null,0]
[null,null,null,null,null,null,null,null,null,null,null,0]
[null,null,null,null,null,null,null,null,null,null,null,0]
[null,null,null,null,null,null,null,null,null,null,null,0]
[null,null,null,null,null,null,null,null,null,null,null,0]
[null,null,null,null,null,null,null,null,null,null,null,0]
[null,null,null,null,null,null,null,null,null,null,null,0]
[null,null,null,null,null,null,null,null,null,null,null,0]
[null,null,null,null,null,null,null,null,null,null,null,0]
[null,null,null,null,null,null,null,null,null,null,null,0]
[null,null,null,null,null,null,null,null,null,null,null,0]
[null,null,null,null,null,null,null,null,null,null,null,0]
[null,null,null,null,null,null,null,null,null,null,null,0]
[null,null,null,null,null,null,null,null,null,null,null,0]
[null,null,null,null,null,null,null,null,null,null,null,0]
[null,null,null,null,null,null,null,null,null,null,null,0]
[null,null,null,null,null,null,null,null,null,null,null,0]
[null,null,null,null,null,null,null,null,null,null,null,0]
[null,null,null,null,null,null,null,null,null,null,null,0]
[null,null,null,null,null,null,null,null,null,null,null,0]
[null,null,null,null,null,null,null,null,null,null,null,0]
[null,null,null,null,null,null,null,null,null,null,null,0]
[null,null,null,null,null,null,null,null,null,null,null,0]
[null,null,null,null,null,null,null,null,null,null,null,0]
[null,null,null,null,null,null,null,null,null,null,null,0]
[null,null,null,null,null,null,null,null,null,null,null,0]
[null,null,null,null,null,null,null,null,null,null,null,0]
[null,null,null,null,null,null,null,null,null,null,null,0]
[null,null,null,null,null,null,null,null,null,null,null,0]
[null,null,null,null,null,null,null,null,null,null,null,0]
[null,null,null,null,null,null,null,null,null,null,null,0]
[null,null,null,null,null,null,null,null,null,null,null,0]
[null,null,null,null,null,null,null,null,null,null,null,0]
[null,null,null,null,null,null,null,null,null,null,null,0]
[null,null,null,null,null,null,null,null,null,null,null,0]
[null,null,null,null,null,null,null,null,null,null,null,0]
[null,null,null,null,null,null,null,null,null,null,null,0]
[null,null,null,null,null,null,null,null,null,null,null,0]
[null,null,null,null,null,null,null,null,null,null,null,0]
[null,null,null,null,null,null,null,null,null,null,null,0]
[null,null,null,null,null,null,null,null,null,null,null,0]
[null,null,null,null,null,null,null,null,null,null,null,0]
[null,null,null,null,null,null,null,null,null,null,null,0]
[null,null,null,null,null,null,null,null,null,null,null,0]
[null,null,null,null,null,null,null,null,null,null,null,0]
[null,null,null,null,null,null,null,null,null,null,null,0]
[null,null,null,null,null,null,null,null,null,null,null,0]
[null,null,null,null,null,null,null,null,null,null,null,0]
[null,null,null,null,null,null,null,null,null,null,null,0]
[null,null,null,null,null,null,null,null,null,null,null,0]
[null,null,null,null,null,null,null,null,null,null,null,0]
[null,null,null,null,null,null,null,null,null,null,null,0]
[null,null,null,null,null,null,null,null,null,null,null,0]
[null,null,null,null,null,null,null,null,null,null,null,0]
[null,null,null,null,null,null,null,null,null,null,null,0]
[null,null,null,null,null,null,null,null,null,null,null,0]
["Total B",null,null,null,null,null,null,null,null,{"$f":"SUM(J10:J259)","v":0},{"$f":"SUM(K10:K259)","v":0},{"$f":"SUM(L10:L259)","v":0},{"$f":"SUM(M10:M259)","v":0},{"$f":"SUM(N10:N259)","v":0}]

{"sheet":"Bordereau versement C","index":3,"n_rows":260,"n_cols":12,"rows_kept":260,"cut":false,"hidden":false,"merged":[[5,0,5,1],[5,3,5,6],[0,11,0,12],[1,0,1,11],[3,0,3,2],[3,3,3,6],[4,0,4,2],[4,3,4,6],[19,0,19,3],[10,5,10,6],[11,5,11,6],[12,5,12,6],[13,5,13,6],[14,5,14,6],[15,5,15,6],[16,5,16,6],[17,5,17,6],[18,5,18,6],[19,5,19,6],[7,0,7,11],[20,0,20,3],[21,0,21,3],[22,0,22,3],[11,0,11,3],[18,0,18,3],[46,0,46,3],[47,0,47,3],[48,0,48,3],[29,0,29,3],[30,0,30,3],[31,0,31,3],[32,0,32,3],[23,0,23,3],[28,0,28,3],[24,0,24,3],[25,0,25,3],[26,0,26,3],[27,0,27,3],[39,0,39,3],[40,0,40,3],[41,0,41,3],[42,0,42,3],[38,0,38,3],[33,0,33,3],[34,0,34,3],[35,0,35,3],[36,0,36,3],[37,0,37,3],[49,0,49,3],[50,0,50,3],[51,0,51,3],[52,0,52,3],[53,0,53,3],[54,0,54,3],[259,0,259,8],[12,0,12,3],[13,0,13,3],[14,0,14,3],[15,0,15,3],[16,0,16,3],[17,0,17,3],[8,0,8,3],[8,5,8,6],[9,0,9,3],[9,5,9,6],[10,0,10,3],[43,0,43,3],[44,0,44,3],[45,0,45,3],[61,0,61,3],[62,0,62,3],[63,0,63,3],[64,0,64,3],[65,0,65,3],[66,0,66,3],[55,0,55,3],[56,0,56,3],[57,0,57,3],[58,0,58,3],[59,0,59,3],[60,0,60,3],[73,0,73,3],[74,0,74,3],[75,0,75,3],[76,0,76,3],[77,0,77,3],[78,0,78,3],[67,0,67,3],[68,0,68,3],[69,0,69,3],[70,0,70,3],[71,0,71,3],[72,0,72,3],[85,0,85,3],[86,0,86,3],[87,0,87,3],[88,0,88,3],[89,0,89,3],[90,0,90,3],[79,0,79,3],[80,0,80,3],[81,0,81,3],[82,0,82,3],[83,0,83,3],[84,0,84,3],[97,0,97,3],[98,0,98,3],[99,0,99,3],[100,0,100,3],[101,0,101,3],[102,0,102,3],[91,0,91,3],[92,0,92,3],[93,0,93,3],[94,0,94,3],[95,0,95,3],[96,0,96,3],[109,0,109,3],[110,0,110,3],[111,0,111,3],[112,0,112,3],[113,0,113,3],[114,0,114,3],[103,0,103,3],[104,0,104,3],[105,0,105,3],[106,0,106,3],[107,0,107,3],[108,0,108,3],[121,0,121,3],[122,0,122,3],[123,0,123,3],[124,0,124,3],[125,0,125,3],[126,0,126,3],[115,0,115,3],[116,0,116,3],[117,0,117,3],[118,0,118,3],[119,0,119,3],[120,0,120,3],[133,0,133,3],[134,0,134,3],[135,0,135,3],[136,0,136,3],[137,0,137,3],[138,0,138,3],[127,0,127,3],[128,0,128,3],[129,0,129,3],[130,0,130,3],[131,0,131,3],[132,0,132,3],[145,0,145,3],[146,0,146,3],[147,0,147,3],[148,0,148,3],[149,0,149,3],[150,0,150,3],[139,0,139,3],[140,0,140,3],[141,0,141,3],[142,0,142,3],[143,0,143,3],[144,0,144,3],[157,0,157,3],[158,0,158,3],[159,0,159,3],[160,0,160,3],[161,0,161,3],[162,0,162,3],[151,0,151,3],[152,0,152,3],[153,0,153,3],[154,0,154,3],[155,0,155,3],[156,0,156,3],[169,0,169,3],[170,0,170,3],[171,0,171,3],[172,0,172,3],[173,0,173,3],[174,0,174,3],[163,0,163,3],[164,0,164,3],[165,0,165,3],[166,0,166,3],[167,0,167,3],[168,0,168,3],[181,0,181,3],[182,0,182,3],[183,0,183,3],[184,0,184,3],[185,0,185,3],[186,0,186,3],[175,0,175,3],[176,0,176,3],[177,0,177,3],[178,0,178,3],[179,0,179,3],[180,0,180,3],[193,0,193,3],[194,0,194,3],[195,0,195,3],[196,0,196,3],[197,0,197,3],[198,0,198,3],[187,0,187,3],[188,0,188,3],[189,0,189,3],[190,0,190,3],[191,0,191,3],[192,0,192,3],[205,0,205,3],[206,0,206,3],[207,0,207,3],[208,0,208,3],[209,0,209,3],[210,0,210,3],[199,0,199,3],[200,0,200,3],[201,0,201,3],[202,0,202,3],[203,0,203,3],[204,0,204,3],[217,0,217,3],[218,0,218,3],[219,0,219,3],[220,0,220,3],[221,0,221,3],[222,0,222,3],[211,0,211,3],[212,0,212,3],[213,0,213,3],[214,0,214,3],[215,0,215,3],[216,0,216,3],[229,0,229,3],[230,0,230,3],[231,0,231,3],[232,0,232,3],[233,0,233,3],[234,0,234,3],[223,0,223,3],[224,0,224,3],[225,0,225,3],[226,0,226,3],[227,0,227,3],[228,0,228,3],[241,0,241,3],[242,0,242,3],[243,0,243,3],[244,0,244,3],[245,0,245,3],[246,0,246,3],[235,0,235,3],[236,0,236,3],[237,0,237,3],[238,0,238,3],[239,0,239,3],[240,0,240,3],[253,0,253,3],[254,0,254,3],[255,0,255,3],[256,0,256,3],[257,0,257,3],[258,0,258,3],[247,0,247,3],[248,0,248,3],[249,0,249,3],[250,0,250,3],[251,0,251,3],[252,0,252,3],[20,5,20,6],[21,5,21,6],[22,5,22,6],[23,5,23,6],[24,5,24,6],[25,5,25,6],[26,5,26,6],[27,5,27,6],[28,5,28,6],[29,5,29,6],[30,5,30,6],[31,5,31,6],[32,5,32,6],[33,5,33,6],[34,5,34,6],[35,5,35,6],[36,5,36,6],[37,5,37,6],[38,5,38,6],[39,5,39,6],[40,5,40,6],[41,5,41,6],[42,5,42,6],[43,5,43,6],[44,5,44,6],[45,5,45,6],[46,5,46,6],[47,5,47,6],[48,5,48,6],[49,5,49,6],[50,5,50,6],[51,5,51,6],[52,5,52,6],[53,5,53,6],[54,5,54,6],[55,5,55,6],[56,5,56,6],[57,5,57,6],[58,5,58,6],[59,5,59,6],[60,5,60,6],[61,5,61,6],[62,5,62,6],[63,5,63,6],[64,5,64,6],[65,5,65,6],[66,5,66,6],[67,5,67,6],[68,5,68,6],[69,5,69,6],[70,5,70,6],[71,5,71,6],[72,5,72,6],[73,5,73,6],[74,5,74,6],[75,5,75,6],[76,5,76,6],[77,5,77,6],[78,5,78,6],[79,5,79,6],[80,5,80,6],[81,5,81,6],[82,5,82,6],[83,5,83,6],[84,5,84,6],[85,5,85,6],[86,5,86,6],[87,5,87,6],[88,5,88,6],[89,5,89,6],[90,5,90,6],[91,5,91,6],[92,5,92,6],[93,5,93,6],[94,5,94,6],[95,5,95,6],[96,5,96,6],[97,5,97,6],[98,5,98,6],[99,5,99,6],[100,5,100,6],[101,5,101,6],[102,5,102,6],[103,5,103,6],[104,5,104,6],[105,5,105,6],[106,5,106,6],[107,5,107,6],[108,5,108,6],[109,5,109,6],[110,5,110,6],[111,5,111,6],[112,5,112,6],[113,5,113,6],[114,5,114,6],[115,5,115,6],[116,5,116,6],[117,5,117,6],[118,5,118,6],[119,5,119,6],[120,5,120,6],[121,5,121,6],[122,5,122,6],[123,5,123,6],[124,5,124,6],[125,5,125,6],[126,5,126,6],[127,5,127,6],[128,5,128,6],[129,5,129,6],[130,5,130,6],[131,5,131,6],[132,5,132,6],[133,5,133,6],[134,5,134,6],[135,5,135,6],[136,5,136,6],[137,5,137,6],[138,5,138,6],[139,5,139,6],[140,5,140,6],[141,5,141,6],[142,5,142,6],[143,5,143,6],[144,5,144,6],[145,5,145,6],[146,5,146,6],[147,5,147,6],[148,5,148,6],[149,5,149,6],[150,5,150,6],[151,5,151,6],[152,5,152,6],[153,5,153,6],[154,5,154,6],[155,5,155,6],[156,5,156,6],[157,5,157,6],[158,5,158,6],[159,5,159,6],[160,5,160,6],[161,5,161,6],[162,5,162,6],[163,5,163,6],[164,5,164,6],[165,5,165,6],[166,5,166,6],[167,5,167,6],[168,5,168,6],[169,5,169,6],[170,5,170,6],[171,5,171,6],[172,5,172,6],[173,5,173,6],[174,5,174,6],[175,5,175,6],[176,5,176,6],[177,5,177,6],[178,5,178,6],[179,5,179,6],[180,5,180,6],[181,5,181,6],[182,5,182,6],[183,5,183,6],[184,5,184,6],[185,5,185,6],[186,5,186,6],[187,5,187,6],[188,5,188,6],[189,5,189,6],[190,5,190,6],[191,5,191,6],[192,5,192,6],[193,5,193,6],[194,5,194,6],[195,5,195,6],[196,5,196,6],[197,5,197,6],[198,5,198,6],[199,5,199,6],[200,5,200,6],[201,5,201,6],[202,5,202,6],[203,5,203,6],[204,5,204,6],[205,5,205,6],[206,5,206,6],[207,5,207,6],[208,5,208,6],[209,5,209,6],[210,5,210,6],[211,5,211,6],[212,5,212,6],[213,5,213,6],[214,5,214,6],[215,5,215,6],[216,5,216,6],[217,5,217,6],[218,5,218,6],[219,5,219,6],[220,5,220,6],[221,5,221,6],[222,5,222,6],[223,5,223,6],[224,5,224,6],[225,5,225,6],[226,5,226,6],[227,5,227,6],[228,5,228,6],[229,5,229,6],[230,5,230,6],[231,5,231,6],[232,5,232,6],[233,5,233,6],[234,5,234,6],[235,5,235,6],[236,5,236,6],[237,5,237,6],[238,5,238,6],[239,5,239,6],[240,5,240,6],[241,5,241,6],[242,5,242,6],[243,5,243,6],[244,5,244,6],[254,5,254,6],[255,5,255,6],[256,5,256,6],[257,5,257,6],[258,5,258,6],[245,5,245,6],[246,5,246,6],[247,5,247,6],[248,5,248,6],[249,5,249,6],[250,5,250,6],[251,5,251,6],[252,5,252,6],[253,5,253,6]]}
[]
["Bordereau de versement des frais relatifs au guichet unique à la Coopérative Enfance Famille"]
[]
["Nom du bureau coordonnateur :",null,null,{"$f":"IF('Bordereau versement A'!D4:G4=\"\",\"\",'Bordereau versement A'!D4:G4)","v":""}]
["Date du versement :",null,null,{"$f":"IF('Bordereau versement A'!D5:G5=\"\",\"\",'Bordereau versement A'!D5:G5)","v":""}]
["Date du versement précédent :",null,null,{"$f":"IF('Bordereau versement A'!D6:G6=\"\",\"\",'Bordereau versement A'!D6:G6)","v":""}]
[]
["C. Ajustements depuis le versement précédent"]
["                                                                                                          Nom, prénom de la RSG",null,null,null,"No d'identification","Raison de l'ajustement",null,"Nombre de places visées par l'ajustement","Nombre de mois pour lesquels les frais ont été ajustés","Frais additionnels/\nremboursés comprenant les taxes","TPS","TVQ"]
[]
[]
[]
[]
[]
[]
[]
[]
[]
[]
[]
[]
[]
[]
[]
[]
[]
[]
[]
[]
[]
[]
[]
[]
[]
[]
[]
[]
[]
[]
[]
[]
[]
[]
[]
[]
[]
[]
[]
[]
[]
[]
[]
[]
[]
[]
[]
[]
[]
[]
[]
[]
[]
[]
[]
[]
[]
[]
[]
[]
[]
[]
[]
[]
[]
[]
[]
[]
[]
[]
[]
[]
[]
[]
[]
[]
[]
[]
[]
[]
[]
[]
[]
[]
[]
[]
[]
[]
[]
[]
[]
[]
[]
[]
[]
[]
[]
[]
[]
[]
[]
[]
[]
[]
[]
[]
[]
[]
[]
[]
[]
[]
[]
[]
[]
[]
[]
[]
[]
[]
[]
[]
[]
[]
[]
[]
[]
[]
[]
[]
[]
[]
[]
[]
[]
[]
[]
[]
[]
[]
[]
[]
[]
[]
[]
[]
[]
[]
[]
[]
[]
[]
[]
[]
[]
[]
[]
[]
[]
[]
[]
[]
[]
[]
[]
[]
[]
[]
[]
[]
[]
[]
[]
[]
[]
[]
[]
[]
[]
[]
[]
[]
[]
[]
[]
[]
[]
[]
[]
[]
[]
[]
[]
[]
[]
[]
[]
[]
[]
[]
[]
[]
[]
[]
[]
[]
[]
[]
[]
[]
[]
[]
[]
[]
[]
[]
[]
[]
[]
[]
[]
[]
[]
[]
[]
[]
[]
[]
[]
[]
[]
[]
[]
[]
[]
[]
[]
[]
[]
[]
[]
[]
[]
[]
[]
[]
[]
[]
[]
[]
["Total C",null,null,null,null,null,null,null,null,{"$f":"SUM(J10:J259)","v":0},{"$f":"SUM(K10:K259)","v":0},{"$f":"SUM(L10:L259)","v":0}]

{"sheet":"Bordereau versement D","index":4,"n_rows":260,"n_cols":11,"rows_kept":260,"cut":false,"hidden":false,"merged":[[18,0,18,3],[46,0,46,3],[47,0,47,3],[48,0,48,3],[5,0,5,1],[5,3,5,6],[0,11,0,12],[1,0,1,11],[3,0,3,2],[3,3,3,6],[4,0,4,2],[4,3,4,6],[29,0,29,3],[30,0,30,3],[31,0,31,3],[32,0,32,3],[23,0,23,3],[28,0,28,3],[19,0,19,3],[20,0,20,3],[21,0,21,3],[22,0,22,3],[16,0,16,3],[17,0,17,3],[24,0,24,3],[25,0,25,3],[259,0,259,7],[26,0,26,3],[27,0,27,3],[35,0,35,3],[43,0,43,3],[44,0,44,3],[45,0,45,3],[39,0,39,3],[40,0,40,3],[41,0,41,3],[42,0,42,3],[38,0,38,3],[33,0,33,3],[34,0,34,3],[36,0,36,3],[37,0,37,3],[55,0,55,3],[56,0,56,3],[57,0,57,3],[58,0,58,3],[59,0,59,3],[60,0,60,3],[11,0,11,3],[12,0,12,3],[13,0,13,3],[14,0,14,3],[15,0,15,3],[8,0,8,3],[8,5,8,6],[9,5,9,6],[10,0,10,3],[9,0,9,3],[7,0,7,10],[49,0,49,3],[50,0,50,3],[51,0,51,3],[52,0,52,3],[53,0,53,3],[54,0,54,3],[67,0,67,3],[68,0,68,3],[28,5,28,6],[29,5,29,6],[30,5,30,6],[31,5,31,6],[32,5,32,6],[33,5,33,6],[34,5,34,6],[35,5,35,6],[36,5,36,6],[37,5,37,6],[38,5,38,6],[39,5,39,6],[40,5,40,6],[41,5,41,6],[42,5,42,6],[69,0,69,3],[70,0,70,3],[71,0,71,3],[72,0,72,3],[61,0,61,3],[62,0,62,3],[63,0,63,3],[64,0,64,3],[65,0,65,3],[66,0,66,3],[79,0,79,3],[80,0,80,3],[81,0,81,3],[82,0,82,3],[83,0,83,3],[84,0,84,3],[73,0,73,3],[74,0,74,3],[75,0,75,3],[76,0,76,3],[77,0,77,3],[78,0,78,3],[91,0,91,3],[92,0,92,3],[93,0,93,3],[94,0,94,3],[95,0,95,3],[96,0,96,3],[85,0,85,3],[86,0,86,3],[87,0,87,3],[88,0,88,3],[89,0,89,3],[90,0,90,3],[103,0,103,3],[104,0,104,3],[105,0,105,3],[106,0,106,3],[107,0,107,3],[108,0,108,3],[97,0,97,3],[98,0,98,3],[99,0,99,3],[100,0,100,3],[101,0,101,3],[102,0,102,3],[115,0,115,3],[116,0,116,3],[117,0,117,3],[118,0,118,3],[119,0,119,3],[120,0,120,3],[109,0,109,3],[110,0,110,3],[111,0,111,3],[112,0,112,3],[113,0,113,3],[114,0,114,3],[127,0,127,3],[128,0,128,3],[129,0,129,3],[130,0,130,3],[131,0,131,3],[132,0,132,3],[121,0,121,3],[122,0,122,3],[123,0,123,3],[124,0,124,3],[125,0,125,3],[126,0,126,3],[139,0,139,3],[140,0,140,3],[141,0,141,3],[142,0,142,3],[143,0,143,3],[144,0,144,3],[133,0,133,3],[134,0,134,3],[135,0,135,3],[136,0,136,3],[137,0,137,3],[138,0,138,3],[151,0,151,3],[152,0,152,3],[153,0,153,3],[154,0,154,3],[155,0,155,3],[156,0,156,3],[145,0,145,3],[146,0,146,3],[147,0,147,3],[148,0,148,3],[149,0,149,3],[150,0,150,3],[163,0,163,3],[164,0,164,3],[165,0,165,3],[166,0,166,3],[167,0,167,3],[168,0,168,3],[157,0,157,3],[158,0,158,3],[159,0,159,3],[160,0,160,3],[161,0,161,3],[162,0,162,3],[175,0,175,3],[176,0,176,3],[177,0,177,3],[178,0,178,3],[179,0,179,3],[180,0,180,3],[169,0,169,3],[170,0,170,3],[171,0,171,3],[172,0,172,3],[173,0,173,3],[174,0,174,3],[187,0,187,3],[188,0,188,3],[189,0,189,3],[190,0,190,3],[191,0,191,3],[192,0,192,3],[181,0,181,3],[182,0,182,3],[183,0,183,3],[184,0,184,3],[185,0,185,3],[186,0,186,3],[199,0,199,3],[200,0,200,3],[201,0,201,3],[202,0,202,3],[203,0,203,3],[204,0,204,3],[193,0,193,3],[194,0,194,3],[195,0,195,3],[196,0,196,3],[197,0,197,3],[198,0,198,3],[211,0,211,3],[212,0,212,3],[213,0,213,3],[214,0,214,3],[215,0,215,3],[216,0,216,3],[205,0,205,3],[206,0,206,3],[207,0,207,3],[208,0,208,3],[209,0,209,3],[210,0,210,3],[223,0,223,3],[224,0,224,3],[225,0,225,3],[226,0,226,3],[227,0,227,3],[228,0,228,3],[217,0,217,3],[218,0,218,3],[219,0,219,3],[220,0,220,3],[221,0,221,3],[222,0,222,3],[235,0,235,3],[236,0,236,3],[237,0,237,3],[238,0,238,3],[239,0,239,3],[240,0,240,3],[229,0,229,3],[230,0,230,3],[231,0,231,3],[232,0,232,3],[233,0,233,3],[234,0,234,3],[247,0,247,3],[248,0,248,3],[249,0,249,3],[250,0,250,3],[251,0,251,3],[252,0,252,3],[241,0,241,3],[242,0,242,3],[243,0,243,3],[244,0,244,3],[245,0,245,3],[246,0,246,3],[253,0,253,3],[254,0,254,3],[255,0,255,3],[256,0,256,3],[257,0,257,3],[258,0,258,3],[10,5,10,6],[11,5,11,6],[12,5,12,6],[13,5,13,6],[14,5,14,6],[15,5,15,6],[16,5,16,6],[17,5,17,6],[18,5,18,6],[19,5,19,6],[20,5,20,6],[21,5,21,6],[22,5,22,6],[23,5,23,6],[24,5,24,6],[25,5,25,6],[26,5,26,6],[27,5,27,6],[43,5,43,6],[44,5,44,6],[45,5,45,6],[46,5,46,6],[47,5,47,6],[48,5,48,6],[49,5,49,6],[50,5,50,6],[51,5,51,6],[52,5,52,6],[53,5,53,6],[54,5,54,6],[55,5,55,6],[56,5,56,6],[57,5,57,6],[58,5,58,6],[59,5,59,6],[60,5,60,6],[61,5,61,6],[62,5,62,6],[63,5,63,6],[64,5,64,6],[65,5,65,6],[66,5,66,6],[67,5,67,6],[68,5,68,6],[69,5,69,6],[70,5,70,6],[71,5,71,6],[72,5,72,6],[73,5,73,6],[74,5,74,6],[75,5,75,6],[76,5,76,6],[77,5,77,6],[78,5,78,6],[79,5,79,6],[80,5,80,6],[81,5,81,6],[82,5,82,6],[83,5,83,6],[84,5,84,6],[85,5,85,6],[86,5,86,6],[87,5,87,6],[88,5,88,6],[89,5,89,6],[90,5,90,6],[91,5,91,6],[92,5,92,6],[93,5,93,6],[94,5,94,6],[95,5,95,6],[96,5,96,6],[97,5,97,6],[98,5,98,6],[99,5,99,6],[100,5,100,6],[101,5,101,6],[102,5,102,6],[103,5,103,6],[104,5,104,6],[105,5,105,6],[106,5,106,6],[107,5,107,6],[108,5,108,6],[109,5,109,6],[110,5,110,6],[111,5,111,6],[112,5,112,6],[113,5,113,6],[114,5,114,6],[115,5,115,6],[116,5,116,6],[117,5,117,6],[118,5,118,6],[119,5,119,6],[120,5,120,6],[121,5,121,6],[122,5,122,6],[123,5,123,6],[124,5,124,6],[125,5,125,6],[126,5,126,6],[127,5,127,6],[128,5,128,6],[129,5,129,6],[130,5,130,6],[131,5,131,6],[132,5,132,6],[133,5,133,6],[134,5,134,6],[135,5,135,6],[136,5,136,6],[137,5,137,6],[138,5,138,6],[139,5,139,6],[140,5,140,6],[141,5,141,6],[142,5,142,6],[143,5,143,6],[144,5,144,6],[145,5,145,6],[146,5,146,6],[147,5,147,6],[148,5,148,6],[149,5,149,6],[150,5,150,6],[151,5,151,6],[152,5,152,6],[153,5,153,6],[154,5,154,6],[155,5,155,6],[156,5,156,6],[157,5,157,6],[158,5,158,6],[159,5,159,6],[160,5,160,6],[161,5,161,6],[162,5,162,6],[163,5,163,6],[164,5,164,6],[165,5,165,6],[166,5,166,6],[167,5,167,6],[168,5,168,6],[169,5,169,6],[170,5,170,6],[171,5,171,6],[172,5,172,6],[173,5,173,6],[174,5,174,6],[175,5,175,6],[176,5,176,6],[177,5,177,6],[178,5,178,6],[179,5,179,6],[180,5,180,6],[181,5,181,6],[182,5,182,6],[183,5,183,6],[184,5,184,6],[185,5,185,6],[186,5,186,6],[187,5,187,6],[188,5,188,6],[189,5,189,6],[190,5,190,6],[191,5,191,6],[192,5,192,6],[193,5,193,6],[194,5,194,6],[195,5,195,6],[196,5,196,6],[197,5,197,6],[198,5,198,6],[199,5,199,6],[200,5,200,6],[201,5,201,6],[202,5,202,6],[203,5,203,6],[204,5,204,6],[205,5,205,6],[206,5,206,6],[207,5,207,6],[208,5,208,6],[209,5,209,6],[210,5,210,6],[211,5,211,6],[212,5,212,6],[213,5,213,6],[214,5,214,6],[215,5,215,6],[216,5,216,6],[217,5,217,6],[218,5,218,6],[219,5,219,6],[220,5,220,6],[221,5,221,6],[222,5,222,6],[223,5,223,6],[224,5,224,6],[225,5,225,6],[226,5,226,6],[227,5,227,6],[228,5,228,6],[229,5,229,6],[230,5,230,6],[231,5,231,6],[232,5,232,6],[233,5,233,6],[234,5,234,6],[235,5,235,6],[236,5,236,6],[237,5,237,6],[238,5,238,6],[239,5,239,6],[240,5,240,6],[241,5,241,6],[242,5,242,6],[243,5,243,6],[253,5,253,6],[254,5,254,6],[255,5,255,6],[256,5,256,6],[257,5,257,6],[258,5,258,6],[244,5,244,6],[245,5,245,6],[246,5,246,6],[247,5,247,6],[248,5,248,6],[249,5,249,6],[250,5,250,6],[251,5,251,6],[252,5,252,6]]}
[]
["Bordereau de versement des frais relatifs au guichet unique à la Coopérative Enfance Famille"]
[]
["Nom du bureau coordonnateur :",null,null,{"$f":"IF('Bordereau versement A'!D4:G4=\"\",\"\",'Bordereau versement A'!D4:G4)","v":""}]
["Date du versement :",null,null,{"$f":"IF('Bordereau versement A'!D5:G5=\"\",\"\",'Bordereau versement A'!D5:G5)","v":""}]
["Date du versement précédent :",null,null,{"$f":"IF('Bordereau versement A'!D6:G6=\"\",\"\",'Bordereau versement A'!D6:G6)","v":""}]
[]
["D. Remboursements depuis le versement précédent, à l'exclusion des ajustements de la partie C"]
["                                                                                                          Nom, prénom de la RSG",null,null,null,"No d'identification","Raison du remboursement",null,"Nombre de mois pour lesquels les frais ont été remboursés","Frais remboursés comprenant les taxes","TPS","TVQ"]
[]
[]
[]
[]
[]
[]
[]
[]
[]
[]
[]
[]
[]
[]
[]
[]
[]
[]
[]
[]
[]
[]
[]
[]
[]
[]
[]
[]
[]
[]
[]
[]
[]
[]
[]
[]
[]
[]
[]
[]
[]
[]
[]
[]
[]
[]
[]
[]
[]
[]
[]
[]
[]
[]
[]
[]
[]
[]
[]
[]
[]
[]
[]
[]
[]
[]
[]
[]
[]
[]
[]
[]
[]
[]
[]
[]
[]
[]
[]
[]
[]
[]
[]
[]
[]
[]
[]
[]
[]
[]
[]
[]
[]
[]
[]
[]
[]
[]
[]
[]
[]
[]
[]
[]
[]
[]
[]
[]
[]
[]
[]
[]
[]
[]
[]
[]
[]
[]
[]
[]
[]
[]
[]
[]
[]
[]
[]
[]
[]
[]
[]
[]
[]
[]
[]
[]
[]
[]
[]
[]
[]
[]
[]
[]
[]
[]
[]
[]
[]
[]
[]
[]
[]
[]
[]
[]
[]
[]
[]
[]
[]
[]
[]
[]
[]
[]
[]
[]
[]
[]
[]
[]
[]
[]
[]
[]
[]
[]
[]
[]
[]
[]
[]
[]
[]
[]
[]
[]
[]
[]
[]
[]
[]
[]
[]
[]
[]
[]
[]
[]
[]
[]
[]
[]
[]
[]
[]
[]
[]
[]
[]
[]
[]
[]
[]
[]
[]
[]
[]
[]
[]
[]
[]
[]
[]
[]
[]
[]
[]
[]
[]
[]
[]
[]
[]
[]
[]
[]
[]
[]
[]
[]
[]
[]
[]
[]
[]
[]
[]
[]
["Total D",null,null,null,null,null,null,null,{"$f":"SUM(I10:I259)","v":0},{"$f":"SUM(J10:J259)","v":0},{"$f":"SUM(K10:K259)","v":0}]